BEGIN:VCALENDAR
VERSION:2.0
PRODID:-//El Sayulero - ECPv6.13.1//NONSGML v1.0//EN
CALSCALE:GREGORIAN
METHOD:PUBLISH
X-ORIGINAL-URL:https://www.sayulitalife.com/sayulero
X-WR-CALDESC:Events for El Sayulero
REFRESH-INTERVAL;VALUE=DURATION:PT1H
X-Robots-Tag:noindex
X-PUBLISHED-TTL:PT1H
BEGIN:VTIMEZONE
TZID:America/Mexico_City
BEGIN:STANDARD
TZOFFSETFROM:-0600
TZOFFSETTO:-0600
TZNAME:CST
DTSTART:20300101T000000
END:STANDARD
END:VTIMEZONE
BEGIN:VEVENT
DTSTART;TZID=America/Mexico_City:20301227T210000
DTEND;TZID=America/Mexico_City:20301227T235900
DTSTAMP:20260421T094437
CREATED:20260310T155904Z
LAST-MODIFIED:20260310T155904Z
UID:10019934-1924635600-1924646340@www.sayulitalife.com
SUMMARY:Ping pong tournament then Karaoke at Sayulita Sandbar
DESCRIPTION:We have a free ping pong tourney every Friday. Winner gets a free burger and beer. Karaoke afterwards about 9
URL:https://www.sayulitalife.com/sayulero/calendar/ping-pong-tournament-then-karaoke-at-sayulita-sandbar/2030-12-27/
LOCATION:Sandbar\, Av. Revolución 27\, Sayulita\, Nayarit\, 63734\, Mexico
ATTACH;FMTTYPE=image/jpeg:https://res.cloudinary.com/sayulitalife/images/w_1920/f_auto,q_auto/v1773096455/wordpress_assets/pingpong/pingpong.jpg?_i=AA
END:VEVENT
END:VCALENDAR