BEGIN:VCALENDAR
VERSION:2.0
PRODID:-//El Sayulero - ECPv6.13.1//NONSGML v1.0//EN
CALSCALE:GREGORIAN
METHOD:PUBLISH
X-ORIGINAL-URL:https://www.sayulitalife.com/sayulero
X-WR-CALDESC:Events for El Sayulero
REFRESH-INTERVAL;VALUE=DURATION:PT1H
X-Robots-Tag:noindex
X-PUBLISHED-TTL:PT1H
BEGIN:VTIMEZONE
TZID:America/Mexico_City
BEGIN:STANDARD
TZOFFSETFROM:-0600
TZOFFSETTO:-0600
TZNAME:CST
DTSTART:20280101T000000
END:STANDARD
END:VTIMEZONE
BEGIN:VEVENT
DTSTART;TZID=America/Mexico_City:20280301T180000
DTEND;TZID=America/Mexico_City:20280301T210000
DTSTAMP:20260421T152643
CREATED:20251211T172406Z
LAST-MODIFIED:20251211T172609Z
UID:10018050-1835546400-1835557200@www.sayulitalife.com
SUMMARY:Mexican Wine Tasting & Live Jazz
DESCRIPTION:Every Wednesday & Saturday we feature\, Mexican Wines to surprise you with incredible cheese plates charcuterie and incredible vibes.\nAlso Mezcal\, tequila and non alcoholic wine and beer.
URL:https://www.sayulitalife.com/sayulero/calendar/mexican-wine-tasting-live-jazz/2028-03-01/
LOCATION:Sayulita Wine Shop\, Lado Norte\, C. Miramar 13\, Sayulita\, Nayarit\, Mexico
CATEGORIES:Art,Entertainment,Music
ATTACH;FMTTYPE=image/jpeg:https://res.cloudinary.com/sayulitalife/images/w_1920,h_2560,c_scale/w_1920/f_auto,q_auto/v1765410288/wordpress_assets/POSTER-JAZZ_43416d8304/POSTER-JAZZ_43416d8304.jpg?_i=AA
END:VEVENT
BEGIN:VEVENT
DTSTART;TZID=America/Mexico_City:20280305T180000
DTEND;TZID=America/Mexico_City:20280305T210000
DTSTAMP:20260421T152644
CREATED:20251211T172406Z
LAST-MODIFIED:20251211T172609Z
UID:10018051-1835892000-1835902800@www.sayulitalife.com
SUMMARY:Mexican Wine Tasting & Live Jazz
DESCRIPTION:Every Wednesday & Saturday we feature\, Mexican Wines to surprise you with incredible cheese plates charcuterie and incredible vibes.\nAlso Mezcal\, tequila and non alcoholic wine and beer.
URL:https://www.sayulitalife.com/sayulero/calendar/mexican-wine-tasting-live-jazz/2028-03-05/
LOCATION:Sayulita Wine Shop\, Lado Norte\, C. Miramar 13\, Sayulita\, Nayarit\, Mexico
CATEGORIES:Art,Entertainment,Music
ATTACH;FMTTYPE=image/jpeg:https://res.cloudinary.com/sayulitalife/images/w_1920,h_2560,c_scale/w_1920/f_auto,q_auto/v1765410288/wordpress_assets/POSTER-JAZZ_43416d8304/POSTER-JAZZ_43416d8304.jpg?_i=AA
END:VEVENT
BEGIN:VEVENT
DTSTART;TZID=America/Mexico_City:20280308T180000
DTEND;TZID=America/Mexico_City:20280308T210000
DTSTAMP:20260421T152644
CREATED:20251211T172406Z
LAST-MODIFIED:20251211T172609Z
UID:10018052-1836151200-1836162000@www.sayulitalife.com
SUMMARY:Mexican Wine Tasting & Live Jazz
DESCRIPTION:Every Wednesday & Saturday we feature\, Mexican Wines to surprise you with incredible cheese plates charcuterie and incredible vibes.\nAlso Mezcal\, tequila and non alcoholic wine and beer.
URL:https://www.sayulitalife.com/sayulero/calendar/mexican-wine-tasting-live-jazz/2028-03-08/
LOCATION:Sayulita Wine Shop\, Lado Norte\, C. Miramar 13\, Sayulita\, Nayarit\, Mexico
CATEGORIES:Art,Entertainment,Music
ATTACH;FMTTYPE=image/jpeg:https://res.cloudinary.com/sayulitalife/images/w_1920,h_2560,c_scale/w_1920/f_auto,q_auto/v1765410288/wordpress_assets/POSTER-JAZZ_43416d8304/POSTER-JAZZ_43416d8304.jpg?_i=AA
END:VEVENT
BEGIN:VEVENT
DTSTART;TZID=America/Mexico_City:20280312T180000
DTEND;TZID=America/Mexico_City:20280312T210000
DTSTAMP:20260421T152644
CREATED:20251211T172406Z
LAST-MODIFIED:20251211T172609Z
UID:10018053-1836496800-1836507600@www.sayulitalife.com
SUMMARY:Mexican Wine Tasting & Live Jazz
DESCRIPTION:Every Wednesday & Saturday we feature\, Mexican Wines to surprise you with incredible cheese plates charcuterie and incredible vibes.\nAlso Mezcal\, tequila and non alcoholic wine and beer.
URL:https://www.sayulitalife.com/sayulero/calendar/mexican-wine-tasting-live-jazz/2028-03-12/
LOCATION:Sayulita Wine Shop\, Lado Norte\, C. Miramar 13\, Sayulita\, Nayarit\, Mexico
CATEGORIES:Art,Entertainment,Music
ATTACH;FMTTYPE=image/jpeg:https://res.cloudinary.com/sayulitalife/images/w_1920,h_2560,c_scale/w_1920/f_auto,q_auto/v1765410288/wordpress_assets/POSTER-JAZZ_43416d8304/POSTER-JAZZ_43416d8304.jpg?_i=AA
END:VEVENT
BEGIN:VEVENT
DTSTART;TZID=America/Mexico_City:20280315T180000
DTEND;TZID=America/Mexico_City:20280315T210000
DTSTAMP:20260421T152644
CREATED:20251211T172406Z
LAST-MODIFIED:20251211T172609Z
UID:10018054-1836756000-1836766800@www.sayulitalife.com
SUMMARY:Mexican Wine Tasting & Live Jazz
DESCRIPTION:Every Wednesday & Saturday we feature\, Mexican Wines to surprise you with incredible cheese plates charcuterie and incredible vibes.\nAlso Mezcal\, tequila and non alcoholic wine and beer.
URL:https://www.sayulitalife.com/sayulero/calendar/mexican-wine-tasting-live-jazz/2028-03-15/
LOCATION:Sayulita Wine Shop\, Lado Norte\, C. Miramar 13\, Sayulita\, Nayarit\, Mexico
CATEGORIES:Art,Entertainment,Music
ATTACH;FMTTYPE=image/jpeg:https://res.cloudinary.com/sayulitalife/images/w_1920,h_2560,c_scale/w_1920/f_auto,q_auto/v1765410288/wordpress_assets/POSTER-JAZZ_43416d8304/POSTER-JAZZ_43416d8304.jpg?_i=AA
END:VEVENT
BEGIN:VEVENT
DTSTART;TZID=America/Mexico_City:20280319T180000
DTEND;TZID=America/Mexico_City:20280319T210000
DTSTAMP:20260421T152644
CREATED:20251211T172406Z
LAST-MODIFIED:20251211T172609Z
UID:10018055-1837101600-1837112400@www.sayulitalife.com
SUMMARY:Mexican Wine Tasting & Live Jazz
DESCRIPTION:Every Wednesday & Saturday we feature\, Mexican Wines to surprise you with incredible cheese plates charcuterie and incredible vibes.\nAlso Mezcal\, tequila and non alcoholic wine and beer.
URL:https://www.sayulitalife.com/sayulero/calendar/mexican-wine-tasting-live-jazz/2028-03-19/
LOCATION:Sayulita Wine Shop\, Lado Norte\, C. Miramar 13\, Sayulita\, Nayarit\, Mexico
CATEGORIES:Art,Entertainment,Music
ATTACH;FMTTYPE=image/jpeg:https://res.cloudinary.com/sayulitalife/images/w_1920,h_2560,c_scale/w_1920/f_auto,q_auto/v1765410288/wordpress_assets/POSTER-JAZZ_43416d8304/POSTER-JAZZ_43416d8304.jpg?_i=AA
END:VEVENT
BEGIN:VEVENT
DTSTART;TZID=America/Mexico_City:20280322T180000
DTEND;TZID=America/Mexico_City:20280322T210000
DTSTAMP:20260421T152644
CREATED:20251211T172406Z
LAST-MODIFIED:20251211T172609Z
UID:10018056-1837360800-1837371600@www.sayulitalife.com
SUMMARY:Mexican Wine Tasting & Live Jazz
DESCRIPTION:Every Wednesday & Saturday we feature\, Mexican Wines to surprise you with incredible cheese plates charcuterie and incredible vibes.\nAlso Mezcal\, tequila and non alcoholic wine and beer.
URL:https://www.sayulitalife.com/sayulero/calendar/mexican-wine-tasting-live-jazz/2028-03-22/
LOCATION:Sayulita Wine Shop\, Lado Norte\, C. Miramar 13\, Sayulita\, Nayarit\, Mexico
CATEGORIES:Art,Entertainment,Music
ATTACH;FMTTYPE=image/jpeg:https://res.cloudinary.com/sayulitalife/images/w_1920,h_2560,c_scale/w_1920/f_auto,q_auto/v1765410288/wordpress_assets/POSTER-JAZZ_43416d8304/POSTER-JAZZ_43416d8304.jpg?_i=AA
END:VEVENT
BEGIN:VEVENT
DTSTART;TZID=America/Mexico_City:20280326T180000
DTEND;TZID=America/Mexico_City:20280326T210000
DTSTAMP:20260421T152644
CREATED:20251211T172406Z
LAST-MODIFIED:20251211T172609Z
UID:10018057-1837706400-1837717200@www.sayulitalife.com
SUMMARY:Mexican Wine Tasting & Live Jazz
DESCRIPTION:Every Wednesday & Saturday we feature\, Mexican Wines to surprise you with incredible cheese plates charcuterie and incredible vibes.\nAlso Mezcal\, tequila and non alcoholic wine and beer.
URL:https://www.sayulitalife.com/sayulero/calendar/mexican-wine-tasting-live-jazz/2028-03-26/
LOCATION:Sayulita Wine Shop\, Lado Norte\, C. Miramar 13\, Sayulita\, Nayarit\, Mexico
CATEGORIES:Art,Entertainment,Music
ATTACH;FMTTYPE=image/jpeg:https://res.cloudinary.com/sayulitalife/images/w_1920,h_2560,c_scale/w_1920/f_auto,q_auto/v1765410288/wordpress_assets/POSTER-JAZZ_43416d8304/POSTER-JAZZ_43416d8304.jpg?_i=AA
END:VEVENT
BEGIN:VEVENT
DTSTART;TZID=America/Mexico_City:20280329T180000
DTEND;TZID=America/Mexico_City:20280329T210000
DTSTAMP:20260421T152644
CREATED:20251211T172406Z
LAST-MODIFIED:20251211T172609Z
UID:10018058-1837965600-1837976400@www.sayulitalife.com
SUMMARY:Mexican Wine Tasting & Live Jazz
DESCRIPTION:Every Wednesday & Saturday we feature\, Mexican Wines to surprise you with incredible cheese plates charcuterie and incredible vibes.\nAlso Mezcal\, tequila and non alcoholic wine and beer.
URL:https://www.sayulitalife.com/sayulero/calendar/mexican-wine-tasting-live-jazz/2028-03-29/
LOCATION:Sayulita Wine Shop\, Lado Norte\, C. Miramar 13\, Sayulita\, Nayarit\, Mexico
CATEGORIES:Art,Entertainment,Music
ATTACH;FMTTYPE=image/jpeg:https://res.cloudinary.com/sayulitalife/images/w_1920,h_2560,c_scale/w_1920/f_auto,q_auto/v1765410288/wordpress_assets/POSTER-JAZZ_43416d8304/POSTER-JAZZ_43416d8304.jpg?_i=AA
END:VEVENT
BEGIN:VEVENT
DTSTART;TZID=America/Mexico_City:20280402T180000
DTEND;TZID=America/Mexico_City:20280402T210000
DTSTAMP:20260421T152644
CREATED:20251211T172406Z
LAST-MODIFIED:20251211T172609Z
UID:10018059-1838311200-1838322000@www.sayulitalife.com
SUMMARY:Mexican Wine Tasting & Live Jazz
DESCRIPTION:Every Wednesday & Saturday we feature\, Mexican Wines to surprise you with incredible cheese plates charcuterie and incredible vibes.\nAlso Mezcal\, tequila and non alcoholic wine and beer.
URL:https://www.sayulitalife.com/sayulero/calendar/mexican-wine-tasting-live-jazz/2028-04-02/
LOCATION:Sayulita Wine Shop\, Lado Norte\, C. Miramar 13\, Sayulita\, Nayarit\, Mexico
CATEGORIES:Art,Entertainment,Music
ATTACH;FMTTYPE=image/jpeg:https://res.cloudinary.com/sayulitalife/images/w_1920,h_2560,c_scale/w_1920/f_auto,q_auto/v1765410288/wordpress_assets/POSTER-JAZZ_43416d8304/POSTER-JAZZ_43416d8304.jpg?_i=AA
END:VEVENT
BEGIN:VEVENT
DTSTART;TZID=America/Mexico_City:20280405T180000
DTEND;TZID=America/Mexico_City:20280405T210000
DTSTAMP:20260421T152644
CREATED:20251211T172406Z
LAST-MODIFIED:20251211T172609Z
UID:10018060-1838570400-1838581200@www.sayulitalife.com
SUMMARY:Mexican Wine Tasting & Live Jazz
DESCRIPTION:Every Wednesday & Saturday we feature\, Mexican Wines to surprise you with incredible cheese plates charcuterie and incredible vibes.\nAlso Mezcal\, tequila and non alcoholic wine and beer.
URL:https://www.sayulitalife.com/sayulero/calendar/mexican-wine-tasting-live-jazz/2028-04-05/
LOCATION:Sayulita Wine Shop\, Lado Norte\, C. Miramar 13\, Sayulita\, Nayarit\, Mexico
CATEGORIES:Art,Entertainment,Music
ATTACH;FMTTYPE=image/jpeg:https://res.cloudinary.com/sayulitalife/images/w_1920,h_2560,c_scale/w_1920/f_auto,q_auto/v1765410288/wordpress_assets/POSTER-JAZZ_43416d8304/POSTER-JAZZ_43416d8304.jpg?_i=AA
END:VEVENT
BEGIN:VEVENT
DTSTART;TZID=America/Mexico_City:20280409T180000
DTEND;TZID=America/Mexico_City:20280409T210000
DTSTAMP:20260421T152644
CREATED:20251211T172406Z
LAST-MODIFIED:20251211T172609Z
UID:10018061-1838916000-1838926800@www.sayulitalife.com
SUMMARY:Mexican Wine Tasting & Live Jazz
DESCRIPTION:Every Wednesday & Saturday we feature\, Mexican Wines to surprise you with incredible cheese plates charcuterie and incredible vibes.\nAlso Mezcal\, tequila and non alcoholic wine and beer.
URL:https://www.sayulitalife.com/sayulero/calendar/mexican-wine-tasting-live-jazz/2028-04-09/
LOCATION:Sayulita Wine Shop\, Lado Norte\, C. Miramar 13\, Sayulita\, Nayarit\, Mexico
CATEGORIES:Art,Entertainment,Music
ATTACH;FMTTYPE=image/jpeg:https://res.cloudinary.com/sayulitalife/images/w_1920,h_2560,c_scale/w_1920/f_auto,q_auto/v1765410288/wordpress_assets/POSTER-JAZZ_43416d8304/POSTER-JAZZ_43416d8304.jpg?_i=AA
END:VEVENT
BEGIN:VEVENT
DTSTART;TZID=America/Mexico_City:20280412T180000
DTEND;TZID=America/Mexico_City:20280412T210000
DTSTAMP:20260421T152644
CREATED:20251211T172406Z
LAST-MODIFIED:20251211T172609Z
UID:10018062-1839175200-1839186000@www.sayulitalife.com
SUMMARY:Mexican Wine Tasting & Live Jazz
DESCRIPTION:Every Wednesday & Saturday we feature\, Mexican Wines to surprise you with incredible cheese plates charcuterie and incredible vibes.\nAlso Mezcal\, tequila and non alcoholic wine and beer.
URL:https://www.sayulitalife.com/sayulero/calendar/mexican-wine-tasting-live-jazz/2028-04-12/
LOCATION:Sayulita Wine Shop\, Lado Norte\, C. Miramar 13\, Sayulita\, Nayarit\, Mexico
CATEGORIES:Art,Entertainment,Music
ATTACH;FMTTYPE=image/jpeg:https://res.cloudinary.com/sayulitalife/images/w_1920,h_2560,c_scale/w_1920/f_auto,q_auto/v1765410288/wordpress_assets/POSTER-JAZZ_43416d8304/POSTER-JAZZ_43416d8304.jpg?_i=AA
END:VEVENT
BEGIN:VEVENT
DTSTART;TZID=America/Mexico_City:20280416T180000
DTEND;TZID=America/Mexico_City:20280416T210000
DTSTAMP:20260421T152644
CREATED:20251211T172406Z
LAST-MODIFIED:20251211T172609Z
UID:10018063-1839520800-1839531600@www.sayulitalife.com
SUMMARY:Mexican Wine Tasting & Live Jazz
DESCRIPTION:Every Wednesday & Saturday we feature\, Mexican Wines to surprise you with incredible cheese plates charcuterie and incredible vibes.\nAlso Mezcal\, tequila and non alcoholic wine and beer.
URL:https://www.sayulitalife.com/sayulero/calendar/mexican-wine-tasting-live-jazz/2028-04-16/
LOCATION:Sayulita Wine Shop\, Lado Norte\, C. Miramar 13\, Sayulita\, Nayarit\, Mexico
CATEGORIES:Art,Entertainment,Music
ATTACH;FMTTYPE=image/jpeg:https://res.cloudinary.com/sayulitalife/images/w_1920,h_2560,c_scale/w_1920/f_auto,q_auto/v1765410288/wordpress_assets/POSTER-JAZZ_43416d8304/POSTER-JAZZ_43416d8304.jpg?_i=AA
END:VEVENT
BEGIN:VEVENT
DTSTART;TZID=America/Mexico_City:20280419T180000
DTEND;TZID=America/Mexico_City:20280419T210000
DTSTAMP:20260421T152644
CREATED:20251211T172406Z
LAST-MODIFIED:20251211T172609Z
UID:10018064-1839780000-1839790800@www.sayulitalife.com
SUMMARY:Mexican Wine Tasting & Live Jazz
DESCRIPTION:Every Wednesday & Saturday we feature\, Mexican Wines to surprise you with incredible cheese plates charcuterie and incredible vibes.\nAlso Mezcal\, tequila and non alcoholic wine and beer.
URL:https://www.sayulitalife.com/sayulero/calendar/mexican-wine-tasting-live-jazz/2028-04-19/
LOCATION:Sayulita Wine Shop\, Lado Norte\, C. Miramar 13\, Sayulita\, Nayarit\, Mexico
CATEGORIES:Art,Entertainment,Music
ATTACH;FMTTYPE=image/jpeg:https://res.cloudinary.com/sayulitalife/images/w_1920,h_2560,c_scale/w_1920/f_auto,q_auto/v1765410288/wordpress_assets/POSTER-JAZZ_43416d8304/POSTER-JAZZ_43416d8304.jpg?_i=AA
END:VEVENT
BEGIN:VEVENT
DTSTART;TZID=America/Mexico_City:20280423T180000
DTEND;TZID=America/Mexico_City:20280423T210000
DTSTAMP:20260421T152644
CREATED:20251211T172406Z
LAST-MODIFIED:20251211T172609Z
UID:10018065-1840125600-1840136400@www.sayulitalife.com
SUMMARY:Mexican Wine Tasting & Live Jazz
DESCRIPTION:Every Wednesday & Saturday we feature\, Mexican Wines to surprise you with incredible cheese plates charcuterie and incredible vibes.\nAlso Mezcal\, tequila and non alcoholic wine and beer.
URL:https://www.sayulitalife.com/sayulero/calendar/mexican-wine-tasting-live-jazz/2028-04-23/
LOCATION:Sayulita Wine Shop\, Lado Norte\, C. Miramar 13\, Sayulita\, Nayarit\, Mexico
CATEGORIES:Art,Entertainment,Music
ATTACH;FMTTYPE=image/jpeg:https://res.cloudinary.com/sayulitalife/images/w_1920,h_2560,c_scale/w_1920/f_auto,q_auto/v1765410288/wordpress_assets/POSTER-JAZZ_43416d8304/POSTER-JAZZ_43416d8304.jpg?_i=AA
END:VEVENT
BEGIN:VEVENT
DTSTART;TZID=America/Mexico_City:20280426T180000
DTEND;TZID=America/Mexico_City:20280426T210000
DTSTAMP:20260421T152644
CREATED:20251211T172406Z
LAST-MODIFIED:20251211T172609Z
UID:10018066-1840384800-1840395600@www.sayulitalife.com
SUMMARY:Mexican Wine Tasting & Live Jazz
DESCRIPTION:Every Wednesday & Saturday we feature\, Mexican Wines to surprise you with incredible cheese plates charcuterie and incredible vibes.\nAlso Mezcal\, tequila and non alcoholic wine and beer.
URL:https://www.sayulitalife.com/sayulero/calendar/mexican-wine-tasting-live-jazz/2028-04-26/
LOCATION:Sayulita Wine Shop\, Lado Norte\, C. Miramar 13\, Sayulita\, Nayarit\, Mexico
CATEGORIES:Art,Entertainment,Music
ATTACH;FMTTYPE=image/jpeg:https://res.cloudinary.com/sayulitalife/images/w_1920,h_2560,c_scale/w_1920/f_auto,q_auto/v1765410288/wordpress_assets/POSTER-JAZZ_43416d8304/POSTER-JAZZ_43416d8304.jpg?_i=AA
END:VEVENT
BEGIN:VEVENT
DTSTART;TZID=America/Mexico_City:20280430T180000
DTEND;TZID=America/Mexico_City:20280430T210000
DTSTAMP:20260421T152644
CREATED:20251211T172406Z
LAST-MODIFIED:20251211T172609Z
UID:10018067-1840730400-1840741200@www.sayulitalife.com
SUMMARY:Mexican Wine Tasting & Live Jazz
DESCRIPTION:Every Wednesday & Saturday we feature\, Mexican Wines to surprise you with incredible cheese plates charcuterie and incredible vibes.\nAlso Mezcal\, tequila and non alcoholic wine and beer.
URL:https://www.sayulitalife.com/sayulero/calendar/mexican-wine-tasting-live-jazz/2028-04-30/
LOCATION:Sayulita Wine Shop\, Lado Norte\, C. Miramar 13\, Sayulita\, Nayarit\, Mexico
CATEGORIES:Art,Entertainment,Music
ATTACH;FMTTYPE=image/jpeg:https://res.cloudinary.com/sayulitalife/images/w_1920,h_2560,c_scale/w_1920/f_auto,q_auto/v1765410288/wordpress_assets/POSTER-JAZZ_43416d8304/POSTER-JAZZ_43416d8304.jpg?_i=AA
END:VEVENT
BEGIN:VEVENT
DTSTART;TZID=America/Mexico_City:20280503T180000
DTEND;TZID=America/Mexico_City:20280503T210000
DTSTAMP:20260421T152644
CREATED:20251211T172406Z
LAST-MODIFIED:20251211T172609Z
UID:10018068-1840989600-1841000400@www.sayulitalife.com
SUMMARY:Mexican Wine Tasting & Live Jazz
DESCRIPTION:Every Wednesday & Saturday we feature\, Mexican Wines to surprise you with incredible cheese plates charcuterie and incredible vibes.\nAlso Mezcal\, tequila and non alcoholic wine and beer.
URL:https://www.sayulitalife.com/sayulero/calendar/mexican-wine-tasting-live-jazz/2028-05-03/
LOCATION:Sayulita Wine Shop\, Lado Norte\, C. Miramar 13\, Sayulita\, Nayarit\, Mexico
CATEGORIES:Art,Entertainment,Music
ATTACH;FMTTYPE=image/jpeg:https://res.cloudinary.com/sayulitalife/images/w_1920,h_2560,c_scale/w_1920/f_auto,q_auto/v1765410288/wordpress_assets/POSTER-JAZZ_43416d8304/POSTER-JAZZ_43416d8304.jpg?_i=AA
END:VEVENT
BEGIN:VEVENT
DTSTART;TZID=America/Mexico_City:20280507T180000
DTEND;TZID=America/Mexico_City:20280507T210000
DTSTAMP:20260421T152644
CREATED:20251211T172406Z
LAST-MODIFIED:20251211T172609Z
UID:10018069-1841335200-1841346000@www.sayulitalife.com
SUMMARY:Mexican Wine Tasting & Live Jazz
DESCRIPTION:Every Wednesday & Saturday we feature\, Mexican Wines to surprise you with incredible cheese plates charcuterie and incredible vibes.\nAlso Mezcal\, tequila and non alcoholic wine and beer.
URL:https://www.sayulitalife.com/sayulero/calendar/mexican-wine-tasting-live-jazz/2028-05-07/
LOCATION:Sayulita Wine Shop\, Lado Norte\, C. Miramar 13\, Sayulita\, Nayarit\, Mexico
CATEGORIES:Art,Entertainment,Music
ATTACH;FMTTYPE=image/jpeg:https://res.cloudinary.com/sayulitalife/images/w_1920,h_2560,c_scale/w_1920/f_auto,q_auto/v1765410288/wordpress_assets/POSTER-JAZZ_43416d8304/POSTER-JAZZ_43416d8304.jpg?_i=AA
END:VEVENT
BEGIN:VEVENT
DTSTART;TZID=America/Mexico_City:20280510T180000
DTEND;TZID=America/Mexico_City:20280510T210000
DTSTAMP:20260421T152644
CREATED:20251211T172406Z
LAST-MODIFIED:20251211T172609Z
UID:10018070-1841594400-1841605200@www.sayulitalife.com
SUMMARY:Mexican Wine Tasting & Live Jazz
DESCRIPTION:Every Wednesday & Saturday we feature\, Mexican Wines to surprise you with incredible cheese plates charcuterie and incredible vibes.\nAlso Mezcal\, tequila and non alcoholic wine and beer.
URL:https://www.sayulitalife.com/sayulero/calendar/mexican-wine-tasting-live-jazz/2028-05-10/
LOCATION:Sayulita Wine Shop\, Lado Norte\, C. Miramar 13\, Sayulita\, Nayarit\, Mexico
CATEGORIES:Art,Entertainment,Music
ATTACH;FMTTYPE=image/jpeg:https://res.cloudinary.com/sayulitalife/images/w_1920,h_2560,c_scale/w_1920/f_auto,q_auto/v1765410288/wordpress_assets/POSTER-JAZZ_43416d8304/POSTER-JAZZ_43416d8304.jpg?_i=AA
END:VEVENT
BEGIN:VEVENT
DTSTART;TZID=America/Mexico_City:20280514T180000
DTEND;TZID=America/Mexico_City:20280514T210000
DTSTAMP:20260421T152644
CREATED:20251211T172406Z
LAST-MODIFIED:20251211T172609Z
UID:10018071-1841940000-1841950800@www.sayulitalife.com
SUMMARY:Mexican Wine Tasting & Live Jazz
DESCRIPTION:Every Wednesday & Saturday we feature\, Mexican Wines to surprise you with incredible cheese plates charcuterie and incredible vibes.\nAlso Mezcal\, tequila and non alcoholic wine and beer.
URL:https://www.sayulitalife.com/sayulero/calendar/mexican-wine-tasting-live-jazz/2028-05-14/
LOCATION:Sayulita Wine Shop\, Lado Norte\, C. Miramar 13\, Sayulita\, Nayarit\, Mexico
CATEGORIES:Art,Entertainment,Music
ATTACH;FMTTYPE=image/jpeg:https://res.cloudinary.com/sayulitalife/images/w_1920,h_2560,c_scale/w_1920/f_auto,q_auto/v1765410288/wordpress_assets/POSTER-JAZZ_43416d8304/POSTER-JAZZ_43416d8304.jpg?_i=AA
END:VEVENT
BEGIN:VEVENT
DTSTART;TZID=America/Mexico_City:20280517T180000
DTEND;TZID=America/Mexico_City:20280517T210000
DTSTAMP:20260421T152644
CREATED:20251211T172406Z
LAST-MODIFIED:20251211T172609Z
UID:10018072-1842199200-1842210000@www.sayulitalife.com
SUMMARY:Mexican Wine Tasting & Live Jazz
DESCRIPTION:Every Wednesday & Saturday we feature\, Mexican Wines to surprise you with incredible cheese plates charcuterie and incredible vibes.\nAlso Mezcal\, tequila and non alcoholic wine and beer.
URL:https://www.sayulitalife.com/sayulero/calendar/mexican-wine-tasting-live-jazz/2028-05-17/
LOCATION:Sayulita Wine Shop\, Lado Norte\, C. Miramar 13\, Sayulita\, Nayarit\, Mexico
CATEGORIES:Art,Entertainment,Music
ATTACH;FMTTYPE=image/jpeg:https://res.cloudinary.com/sayulitalife/images/w_1920,h_2560,c_scale/w_1920/f_auto,q_auto/v1765410288/wordpress_assets/POSTER-JAZZ_43416d8304/POSTER-JAZZ_43416d8304.jpg?_i=AA
END:VEVENT
BEGIN:VEVENT
DTSTART;TZID=America/Mexico_City:20280521T180000
DTEND;TZID=America/Mexico_City:20280521T210000
DTSTAMP:20260421T152644
CREATED:20251211T172406Z
LAST-MODIFIED:20251211T172609Z
UID:10018073-1842544800-1842555600@www.sayulitalife.com
SUMMARY:Mexican Wine Tasting & Live Jazz
DESCRIPTION:Every Wednesday & Saturday we feature\, Mexican Wines to surprise you with incredible cheese plates charcuterie and incredible vibes.\nAlso Mezcal\, tequila and non alcoholic wine and beer.
URL:https://www.sayulitalife.com/sayulero/calendar/mexican-wine-tasting-live-jazz/2028-05-21/
LOCATION:Sayulita Wine Shop\, Lado Norte\, C. Miramar 13\, Sayulita\, Nayarit\, Mexico
CATEGORIES:Art,Entertainment,Music
ATTACH;FMTTYPE=image/jpeg:https://res.cloudinary.com/sayulitalife/images/w_1920,h_2560,c_scale/w_1920/f_auto,q_auto/v1765410288/wordpress_assets/POSTER-JAZZ_43416d8304/POSTER-JAZZ_43416d8304.jpg?_i=AA
END:VEVENT
BEGIN:VEVENT
DTSTART;TZID=America/Mexico_City:20280524T180000
DTEND;TZID=America/Mexico_City:20280524T210000
DTSTAMP:20260421T152644
CREATED:20251211T172406Z
LAST-MODIFIED:20251211T172609Z
UID:10018074-1842804000-1842814800@www.sayulitalife.com
SUMMARY:Mexican Wine Tasting & Live Jazz
DESCRIPTION:Every Wednesday & Saturday we feature\, Mexican Wines to surprise you with incredible cheese plates charcuterie and incredible vibes.\nAlso Mezcal\, tequila and non alcoholic wine and beer.
URL:https://www.sayulitalife.com/sayulero/calendar/mexican-wine-tasting-live-jazz/2028-05-24/
LOCATION:Sayulita Wine Shop\, Lado Norte\, C. Miramar 13\, Sayulita\, Nayarit\, Mexico
CATEGORIES:Art,Entertainment,Music
ATTACH;FMTTYPE=image/jpeg:https://res.cloudinary.com/sayulitalife/images/w_1920,h_2560,c_scale/w_1920/f_auto,q_auto/v1765410288/wordpress_assets/POSTER-JAZZ_43416d8304/POSTER-JAZZ_43416d8304.jpg?_i=AA
END:VEVENT
BEGIN:VEVENT
DTSTART;TZID=America/Mexico_City:20280528T180000
DTEND;TZID=America/Mexico_City:20280528T210000
DTSTAMP:20260421T152644
CREATED:20251211T172406Z
LAST-MODIFIED:20251211T172609Z
UID:10018075-1843149600-1843160400@www.sayulitalife.com
SUMMARY:Mexican Wine Tasting & Live Jazz
DESCRIPTION:Every Wednesday & Saturday we feature\, Mexican Wines to surprise you with incredible cheese plates charcuterie and incredible vibes.\nAlso Mezcal\, tequila and non alcoholic wine and beer.
URL:https://www.sayulitalife.com/sayulero/calendar/mexican-wine-tasting-live-jazz/2028-05-28/
LOCATION:Sayulita Wine Shop\, Lado Norte\, C. Miramar 13\, Sayulita\, Nayarit\, Mexico
CATEGORIES:Art,Entertainment,Music
ATTACH;FMTTYPE=image/jpeg:https://res.cloudinary.com/sayulitalife/images/w_1920,h_2560,c_scale/w_1920/f_auto,q_auto/v1765410288/wordpress_assets/POSTER-JAZZ_43416d8304/POSTER-JAZZ_43416d8304.jpg?_i=AA
END:VEVENT
BEGIN:VEVENT
DTSTART;TZID=America/Mexico_City:20280531T180000
DTEND;TZID=America/Mexico_City:20280531T210000
DTSTAMP:20260421T152644
CREATED:20251211T172406Z
LAST-MODIFIED:20251211T172609Z
UID:10018076-1843408800-1843419600@www.sayulitalife.com
SUMMARY:Mexican Wine Tasting & Live Jazz
DESCRIPTION:Every Wednesday & Saturday we feature\, Mexican Wines to surprise you with incredible cheese plates charcuterie and incredible vibes.\nAlso Mezcal\, tequila and non alcoholic wine and beer.
URL:https://www.sayulitalife.com/sayulero/calendar/mexican-wine-tasting-live-jazz/2028-05-31/
LOCATION:Sayulita Wine Shop\, Lado Norte\, C. Miramar 13\, Sayulita\, Nayarit\, Mexico
CATEGORIES:Art,Entertainment,Music
ATTACH;FMTTYPE=image/jpeg:https://res.cloudinary.com/sayulitalife/images/w_1920,h_2560,c_scale/w_1920/f_auto,q_auto/v1765410288/wordpress_assets/POSTER-JAZZ_43416d8304/POSTER-JAZZ_43416d8304.jpg?_i=AA
END:VEVENT
BEGIN:VEVENT
DTSTART;TZID=America/Mexico_City:20280604T180000
DTEND;TZID=America/Mexico_City:20280604T210000
DTSTAMP:20260421T152644
CREATED:20251211T172406Z
LAST-MODIFIED:20251211T172609Z
UID:10018077-1843754400-1843765200@www.sayulitalife.com
SUMMARY:Mexican Wine Tasting & Live Jazz
DESCRIPTION:Every Wednesday & Saturday we feature\, Mexican Wines to surprise you with incredible cheese plates charcuterie and incredible vibes.\nAlso Mezcal\, tequila and non alcoholic wine and beer.
URL:https://www.sayulitalife.com/sayulero/calendar/mexican-wine-tasting-live-jazz/2028-06-04/
LOCATION:Sayulita Wine Shop\, Lado Norte\, C. Miramar 13\, Sayulita\, Nayarit\, Mexico
CATEGORIES:Art,Entertainment,Music
ATTACH;FMTTYPE=image/jpeg:https://res.cloudinary.com/sayulitalife/images/w_1920,h_2560,c_scale/w_1920/f_auto,q_auto/v1765410288/wordpress_assets/POSTER-JAZZ_43416d8304/POSTER-JAZZ_43416d8304.jpg?_i=AA
END:VEVENT
BEGIN:VEVENT
DTSTART;TZID=America/Mexico_City:20280607T180000
DTEND;TZID=America/Mexico_City:20280607T210000
DTSTAMP:20260421T152644
CREATED:20251211T172406Z
LAST-MODIFIED:20251211T172609Z
UID:10018078-1844013600-1844024400@www.sayulitalife.com
SUMMARY:Mexican Wine Tasting & Live Jazz
DESCRIPTION:Every Wednesday & Saturday we feature\, Mexican Wines to surprise you with incredible cheese plates charcuterie and incredible vibes.\nAlso Mezcal\, tequila and non alcoholic wine and beer.
URL:https://www.sayulitalife.com/sayulero/calendar/mexican-wine-tasting-live-jazz/2028-06-07/
LOCATION:Sayulita Wine Shop\, Lado Norte\, C. Miramar 13\, Sayulita\, Nayarit\, Mexico
CATEGORIES:Art,Entertainment,Music
ATTACH;FMTTYPE=image/jpeg:https://res.cloudinary.com/sayulitalife/images/w_1920,h_2560,c_scale/w_1920/f_auto,q_auto/v1765410288/wordpress_assets/POSTER-JAZZ_43416d8304/POSTER-JAZZ_43416d8304.jpg?_i=AA
END:VEVENT
BEGIN:VEVENT
DTSTART;TZID=America/Mexico_City:20280611T180000
DTEND;TZID=America/Mexico_City:20280611T210000
DTSTAMP:20260421T152644
CREATED:20251211T172406Z
LAST-MODIFIED:20251211T172609Z
UID:10018079-1844359200-1844370000@www.sayulitalife.com
SUMMARY:Mexican Wine Tasting & Live Jazz
DESCRIPTION:Every Wednesday & Saturday we feature\, Mexican Wines to surprise you with incredible cheese plates charcuterie and incredible vibes.\nAlso Mezcal\, tequila and non alcoholic wine and beer.
URL:https://www.sayulitalife.com/sayulero/calendar/mexican-wine-tasting-live-jazz/2028-06-11/
LOCATION:Sayulita Wine Shop\, Lado Norte\, C. Miramar 13\, Sayulita\, Nayarit\, Mexico
CATEGORIES:Art,Entertainment,Music
ATTACH;FMTTYPE=image/jpeg:https://res.cloudinary.com/sayulitalife/images/w_1920,h_2560,c_scale/w_1920/f_auto,q_auto/v1765410288/wordpress_assets/POSTER-JAZZ_43416d8304/POSTER-JAZZ_43416d8304.jpg?_i=AA
END:VEVENT
END:VCALENDAR