BEGIN:VCALENDAR
VERSION:2.0
PRODID:-//El Sayulero - ECPv6.13.1//NONSGML v1.0//EN
CALSCALE:GREGORIAN
METHOD:PUBLISH
X-ORIGINAL-URL:https://www.sayulitalife.com/sayulero
X-WR-CALDESC:Events for El Sayulero
REFRESH-INTERVAL;VALUE=DURATION:PT1H
X-Robots-Tag:noindex
X-PUBLISHED-TTL:PT1H
BEGIN:VTIMEZONE
TZID:America/Mexico_City
BEGIN:STANDARD
TZOFFSETFROM:-0600
TZOFFSETTO:-0600
TZNAME:CST
DTSTART:20250101T000000
END:STANDARD
END:VTIMEZONE
BEGIN:VEVENT
DTSTART;TZID=America/Mexico_City:20250221T073000
DTEND;TZID=America/Mexico_City:20250221T083000
DTSTAMP:20260419T084555
CREATED:20241008T214743Z
LAST-MODIFIED:20250618T074308Z
UID:10000537-1740123000-1740126600@www.sayulitalife.com
SUMMARY:Social Run Club
DESCRIPTION:Join the Social 5 KM Run Club!\nLooking for a fun way to be active. The social run club is the perfect way to get out and meet others alike! Every Friday. Meet at Sayulita sport Massage\nFor more info: sayulitarunning@gmail.com
URL:https://www.sayulitalife.com/sayulero/calendar/social-run-club/2025-02-21/
LOCATION:Plaza Cocula\, C. Libertad 15-local R\, Sayulita\, Nayarit\, 63734\, Mexico
CATEGORIES:Community,Fitness,Sports
END:VEVENT
BEGIN:VEVENT
DTSTART;TZID=America/Mexico_City:20250221T090000
DTEND;TZID=America/Mexico_City:20250221T140000
DTSTAMP:20260419T084555
CREATED:20241004T150044Z
LAST-MODIFIED:20250618T074240Z
UID:10000448-1740128400-1740146400@www.sayulitalife.com
SUMMARY:Mercado del Pueblo
DESCRIPTION:Sayulita’s Farmers Market\nEvery Friday: Located on calle Revolucion\, across from Galería Tanana.\nFeaturing local farmers and families who produce high-quality\, natural\, consumable products. In addition to providing natural\, organic\, and unique products\, the Mercado has become a critical\, weekly event that brings together friends\, food\, live music\, and education to its residents and visitors.
URL:https://www.sayulitalife.com/sayulero/calendar/mercado-del-pueblo-2/2025-02-21/
LOCATION:Mercado del Pueblo\, Av. Revolución\, Sayulita\, Nayarit\, 63728
CATEGORIES:Community,Shopping
ATTACH;FMTTYPE=image/png:https://res.cloudinary.com/sayulitalife/images/w_1920/f_auto,q_auto/v1728412417/wordpress_assets/Home-Mercado-del-Pueblo-_-The-Farmers-Market-in-Sayuita-from-november-through-march/Home-Mercado-del-Pueblo-_-The-Farmers-Market-in-Sayuita-from-november-through-march.png?_i=AA
END:VEVENT
BEGIN:VEVENT
DTSTART;TZID=America/Mexico_City:20250221T190000
DTEND;TZID=America/Mexico_City:20250221T223000
DTSTAMP:20260419T084555
CREATED:20241010T224251Z
LAST-MODIFIED:20250618T074321Z
UID:10001045-1740164400-1740177000@www.sayulitalife.com
SUMMARY:Torneo de Barrios
DESCRIPTION:Sayulita Soccer Tournament!\nGames starting at 7pm or 7:30pm until 10pm or 10:30pm\nCome down to the baseball field and cheer on the local players. Happening every night. Game schedule and times released day of. \nFollow here for more details
URL:https://www.sayulitalife.com/sayulero/calendar/torneo-de-barrios/2025-02-21/
LOCATION:Baseball Field\, Av. Revolución 21b\, Sayulita\, Nayarit\, 63734
CATEGORIES:Community,Entertainment,Sports
END:VEVENT
END:VCALENDAR