BEGIN:VCALENDAR
VERSION:2.0
PRODID:-//El Sayulero - ECPv6.13.1//NONSGML v1.0//EN
CALSCALE:GREGORIAN
METHOD:PUBLISH
X-ORIGINAL-URL:https://www.sayulitalife.com/sayulero
X-WR-CALDESC:Events for El Sayulero
REFRESH-INTERVAL;VALUE=DURATION:PT1H
X-Robots-Tag:noindex
X-PUBLISHED-TTL:PT1H
BEGIN:VTIMEZONE
TZID:America/Mexico_City
BEGIN:STANDARD
TZOFFSETFROM:-0600
TZOFFSETTO:-0600
TZNAME:CST
DTSTART:20290101T000000
END:STANDARD
END:VTIMEZONE
BEGIN:VEVENT
DTSTART;TZID=America/Mexico_City:20290603T180000
DTEND;TZID=America/Mexico_City:20290603T210000
DTSTAMP:20260420T214634
CREATED:20251211T172406Z
LAST-MODIFIED:20251211T172609Z
UID:10018181-1875204000-1875214800@www.sayulitalife.com
SUMMARY:Mexican Wine Tasting & Live Jazz
DESCRIPTION:Every Wednesday & Saturday we feature\, Mexican Wines to surprise you with incredible cheese plates charcuterie and incredible vibes.\nAlso Mezcal\, tequila and non alcoholic wine and beer.
URL:https://www.sayulitalife.com/sayulero/calendar/mexican-wine-tasting-live-jazz/2029-06-03/
LOCATION:Sayulita Wine Shop\, Lado Norte\, C. Miramar 13\, Sayulita\, Nayarit\, Mexico
CATEGORIES:Art,Entertainment,Music
ATTACH;FMTTYPE=image/jpeg:https://res.cloudinary.com/sayulitalife/images/w_1920,h_2560,c_scale/w_1920/f_auto,q_auto/v1765410288/wordpress_assets/POSTER-JAZZ_43416d8304/POSTER-JAZZ_43416d8304.jpg?_i=AA
END:VEVENT
BEGIN:VEVENT
DTSTART;TZID=America/Mexico_City:20290606T180000
DTEND;TZID=America/Mexico_City:20290606T210000
DTSTAMP:20260420T214634
CREATED:20251211T172406Z
LAST-MODIFIED:20251211T172609Z
UID:10018182-1875463200-1875474000@www.sayulitalife.com
SUMMARY:Mexican Wine Tasting & Live Jazz
DESCRIPTION:Every Wednesday & Saturday we feature\, Mexican Wines to surprise you with incredible cheese plates charcuterie and incredible vibes.\nAlso Mezcal\, tequila and non alcoholic wine and beer.
URL:https://www.sayulitalife.com/sayulero/calendar/mexican-wine-tasting-live-jazz/2029-06-06/
LOCATION:Sayulita Wine Shop\, Lado Norte\, C. Miramar 13\, Sayulita\, Nayarit\, Mexico
CATEGORIES:Art,Entertainment,Music
ATTACH;FMTTYPE=image/jpeg:https://res.cloudinary.com/sayulitalife/images/w_1920,h_2560,c_scale/w_1920/f_auto,q_auto/v1765410288/wordpress_assets/POSTER-JAZZ_43416d8304/POSTER-JAZZ_43416d8304.jpg?_i=AA
END:VEVENT
BEGIN:VEVENT
DTSTART;TZID=America/Mexico_City:20290610T180000
DTEND;TZID=America/Mexico_City:20290610T210000
DTSTAMP:20260420T214634
CREATED:20251211T172406Z
LAST-MODIFIED:20251211T172609Z
UID:10018183-1875808800-1875819600@www.sayulitalife.com
SUMMARY:Mexican Wine Tasting & Live Jazz
DESCRIPTION:Every Wednesday & Saturday we feature\, Mexican Wines to surprise you with incredible cheese plates charcuterie and incredible vibes.\nAlso Mezcal\, tequila and non alcoholic wine and beer.
URL:https://www.sayulitalife.com/sayulero/calendar/mexican-wine-tasting-live-jazz/2029-06-10/
LOCATION:Sayulita Wine Shop\, Lado Norte\, C. Miramar 13\, Sayulita\, Nayarit\, Mexico
CATEGORIES:Art,Entertainment,Music
ATTACH;FMTTYPE=image/jpeg:https://res.cloudinary.com/sayulitalife/images/w_1920,h_2560,c_scale/w_1920/f_auto,q_auto/v1765410288/wordpress_assets/POSTER-JAZZ_43416d8304/POSTER-JAZZ_43416d8304.jpg?_i=AA
END:VEVENT
BEGIN:VEVENT
DTSTART;TZID=America/Mexico_City:20290613T180000
DTEND;TZID=America/Mexico_City:20290613T210000
DTSTAMP:20260420T214634
CREATED:20251211T172406Z
LAST-MODIFIED:20251211T172609Z
UID:10018184-1876068000-1876078800@www.sayulitalife.com
SUMMARY:Mexican Wine Tasting & Live Jazz
DESCRIPTION:Every Wednesday & Saturday we feature\, Mexican Wines to surprise you with incredible cheese plates charcuterie and incredible vibes.\nAlso Mezcal\, tequila and non alcoholic wine and beer.
URL:https://www.sayulitalife.com/sayulero/calendar/mexican-wine-tasting-live-jazz/2029-06-13/
LOCATION:Sayulita Wine Shop\, Lado Norte\, C. Miramar 13\, Sayulita\, Nayarit\, Mexico
CATEGORIES:Art,Entertainment,Music
ATTACH;FMTTYPE=image/jpeg:https://res.cloudinary.com/sayulitalife/images/w_1920,h_2560,c_scale/w_1920/f_auto,q_auto/v1765410288/wordpress_assets/POSTER-JAZZ_43416d8304/POSTER-JAZZ_43416d8304.jpg?_i=AA
END:VEVENT
BEGIN:VEVENT
DTSTART;TZID=America/Mexico_City:20290617T180000
DTEND;TZID=America/Mexico_City:20290617T210000
DTSTAMP:20260420T214634
CREATED:20251211T172406Z
LAST-MODIFIED:20251211T172609Z
UID:10018185-1876413600-1876424400@www.sayulitalife.com
SUMMARY:Mexican Wine Tasting & Live Jazz
DESCRIPTION:Every Wednesday & Saturday we feature\, Mexican Wines to surprise you with incredible cheese plates charcuterie and incredible vibes.\nAlso Mezcal\, tequila and non alcoholic wine and beer.
URL:https://www.sayulitalife.com/sayulero/calendar/mexican-wine-tasting-live-jazz/2029-06-17/
LOCATION:Sayulita Wine Shop\, Lado Norte\, C. Miramar 13\, Sayulita\, Nayarit\, Mexico
CATEGORIES:Art,Entertainment,Music
ATTACH;FMTTYPE=image/jpeg:https://res.cloudinary.com/sayulitalife/images/w_1920,h_2560,c_scale/w_1920/f_auto,q_auto/v1765410288/wordpress_assets/POSTER-JAZZ_43416d8304/POSTER-JAZZ_43416d8304.jpg?_i=AA
END:VEVENT
BEGIN:VEVENT
DTSTART;TZID=America/Mexico_City:20290620T180000
DTEND;TZID=America/Mexico_City:20290620T210000
DTSTAMP:20260420T214634
CREATED:20251211T172406Z
LAST-MODIFIED:20251211T172609Z
UID:10018186-1876672800-1876683600@www.sayulitalife.com
SUMMARY:Mexican Wine Tasting & Live Jazz
DESCRIPTION:Every Wednesday & Saturday we feature\, Mexican Wines to surprise you with incredible cheese plates charcuterie and incredible vibes.\nAlso Mezcal\, tequila and non alcoholic wine and beer.
URL:https://www.sayulitalife.com/sayulero/calendar/mexican-wine-tasting-live-jazz/2029-06-20/
LOCATION:Sayulita Wine Shop\, Lado Norte\, C. Miramar 13\, Sayulita\, Nayarit\, Mexico
CATEGORIES:Art,Entertainment,Music
ATTACH;FMTTYPE=image/jpeg:https://res.cloudinary.com/sayulitalife/images/w_1920,h_2560,c_scale/w_1920/f_auto,q_auto/v1765410288/wordpress_assets/POSTER-JAZZ_43416d8304/POSTER-JAZZ_43416d8304.jpg?_i=AA
END:VEVENT
BEGIN:VEVENT
DTSTART;TZID=America/Mexico_City:20290624T180000
DTEND;TZID=America/Mexico_City:20290624T210000
DTSTAMP:20260420T214634
CREATED:20251211T172406Z
LAST-MODIFIED:20251211T172609Z
UID:10018187-1877018400-1877029200@www.sayulitalife.com
SUMMARY:Mexican Wine Tasting & Live Jazz
DESCRIPTION:Every Wednesday & Saturday we feature\, Mexican Wines to surprise you with incredible cheese plates charcuterie and incredible vibes.\nAlso Mezcal\, tequila and non alcoholic wine and beer.
URL:https://www.sayulitalife.com/sayulero/calendar/mexican-wine-tasting-live-jazz/2029-06-24/
LOCATION:Sayulita Wine Shop\, Lado Norte\, C. Miramar 13\, Sayulita\, Nayarit\, Mexico
CATEGORIES:Art,Entertainment,Music
ATTACH;FMTTYPE=image/jpeg:https://res.cloudinary.com/sayulitalife/images/w_1920,h_2560,c_scale/w_1920/f_auto,q_auto/v1765410288/wordpress_assets/POSTER-JAZZ_43416d8304/POSTER-JAZZ_43416d8304.jpg?_i=AA
END:VEVENT
BEGIN:VEVENT
DTSTART;TZID=America/Mexico_City:20290627T180000
DTEND;TZID=America/Mexico_City:20290627T210000
DTSTAMP:20260420T214634
CREATED:20251211T172406Z
LAST-MODIFIED:20251211T172609Z
UID:10018188-1877277600-1877288400@www.sayulitalife.com
SUMMARY:Mexican Wine Tasting & Live Jazz
DESCRIPTION:Every Wednesday & Saturday we feature\, Mexican Wines to surprise you with incredible cheese plates charcuterie and incredible vibes.\nAlso Mezcal\, tequila and non alcoholic wine and beer.
URL:https://www.sayulitalife.com/sayulero/calendar/mexican-wine-tasting-live-jazz/2029-06-27/
LOCATION:Sayulita Wine Shop\, Lado Norte\, C. Miramar 13\, Sayulita\, Nayarit\, Mexico
CATEGORIES:Art,Entertainment,Music
ATTACH;FMTTYPE=image/jpeg:https://res.cloudinary.com/sayulitalife/images/w_1920,h_2560,c_scale/w_1920/f_auto,q_auto/v1765410288/wordpress_assets/POSTER-JAZZ_43416d8304/POSTER-JAZZ_43416d8304.jpg?_i=AA
END:VEVENT
END:VCALENDAR