BEGIN:VCALENDAR
VERSION:2.0
PRODID:-//El Sayulero - ECPv6.13.1//NONSGML v1.0//EN
CALSCALE:GREGORIAN
METHOD:PUBLISH
X-WR-CALNAME:El Sayulero
X-ORIGINAL-URL:https://www.sayulitalife.com/sayulero
X-WR-CALDESC:Events for El Sayulero
REFRESH-INTERVAL;VALUE=DURATION:PT1H
X-Robots-Tag:noindex
X-PUBLISHED-TTL:PT1H
BEGIN:VTIMEZONE
TZID:America/Mexico_City
BEGIN:STANDARD
TZOFFSETFROM:-0600
TZOFFSETTO:-0600
TZNAME:CST
DTSTART:20280101T000000
END:STANDARD
END:VTIMEZONE
BEGIN:VEVENT
DTSTART;TZID=America/Mexico_City:20281108T180000
DTEND;TZID=America/Mexico_City:20281108T210000
DTSTAMP:20260419T065627
CREATED:20251211T172406Z
LAST-MODIFIED:20251211T172609Z
UID:10018122-1857319200-1857330000@www.sayulitalife.com
SUMMARY:Mexican Wine Tasting & Live Jazz
DESCRIPTION:Every Wednesday & Saturday we feature\, Mexican Wines to surprise you with incredible cheese plates charcuterie and incredible vibes.\nAlso Mezcal\, tequila and non alcoholic wine and beer.
URL:https://www.sayulitalife.com/sayulero/calendar/mexican-wine-tasting-live-jazz/2028-11-08/
LOCATION:Sayulita Wine Shop\, Lado Norte\, C. Miramar 13\, Sayulita\, Nayarit\, Mexico
CATEGORIES:Art,Entertainment,Music
ATTACH;FMTTYPE=image/jpeg:https://res.cloudinary.com/sayulitalife/images/w_1920,h_2560,c_scale/w_1920/f_auto,q_auto/v1765410288/wordpress_assets/POSTER-JAZZ_43416d8304/POSTER-JAZZ_43416d8304.jpg?_i=AA
END:VEVENT
BEGIN:VEVENT
DTSTART;TZID=America/Mexico_City:20281112T180000
DTEND;TZID=America/Mexico_City:20281112T210000
DTSTAMP:20260419T065627
CREATED:20251211T172406Z
LAST-MODIFIED:20251211T172609Z
UID:10018123-1857664800-1857675600@www.sayulitalife.com
SUMMARY:Mexican Wine Tasting & Live Jazz
DESCRIPTION:Every Wednesday & Saturday we feature\, Mexican Wines to surprise you with incredible cheese plates charcuterie and incredible vibes.\nAlso Mezcal\, tequila and non alcoholic wine and beer.
URL:https://www.sayulitalife.com/sayulero/calendar/mexican-wine-tasting-live-jazz/2028-11-12/
LOCATION:Sayulita Wine Shop\, Lado Norte\, C. Miramar 13\, Sayulita\, Nayarit\, Mexico
CATEGORIES:Art,Entertainment,Music
ATTACH;FMTTYPE=image/jpeg:https://res.cloudinary.com/sayulitalife/images/w_1920,h_2560,c_scale/w_1920/f_auto,q_auto/v1765410288/wordpress_assets/POSTER-JAZZ_43416d8304/POSTER-JAZZ_43416d8304.jpg?_i=AA
END:VEVENT
BEGIN:VEVENT
DTSTART;TZID=America/Mexico_City:20281115T180000
DTEND;TZID=America/Mexico_City:20281115T210000
DTSTAMP:20260419T065627
CREATED:20251211T172406Z
LAST-MODIFIED:20251211T172609Z
UID:10018124-1857924000-1857934800@www.sayulitalife.com
SUMMARY:Mexican Wine Tasting & Live Jazz
DESCRIPTION:Every Wednesday & Saturday we feature\, Mexican Wines to surprise you with incredible cheese plates charcuterie and incredible vibes.\nAlso Mezcal\, tequila and non alcoholic wine and beer.
URL:https://www.sayulitalife.com/sayulero/calendar/mexican-wine-tasting-live-jazz/2028-11-15/
LOCATION:Sayulita Wine Shop\, Lado Norte\, C. Miramar 13\, Sayulita\, Nayarit\, Mexico
CATEGORIES:Art,Entertainment,Music
ATTACH;FMTTYPE=image/jpeg:https://res.cloudinary.com/sayulitalife/images/w_1920,h_2560,c_scale/w_1920/f_auto,q_auto/v1765410288/wordpress_assets/POSTER-JAZZ_43416d8304/POSTER-JAZZ_43416d8304.jpg?_i=AA
END:VEVENT
BEGIN:VEVENT
DTSTART;TZID=America/Mexico_City:20281119T180000
DTEND;TZID=America/Mexico_City:20281119T210000
DTSTAMP:20260419T065627
CREATED:20251211T172406Z
LAST-MODIFIED:20251211T172609Z
UID:10018125-1858269600-1858280400@www.sayulitalife.com
SUMMARY:Mexican Wine Tasting & Live Jazz
DESCRIPTION:Every Wednesday & Saturday we feature\, Mexican Wines to surprise you with incredible cheese plates charcuterie and incredible vibes.\nAlso Mezcal\, tequila and non alcoholic wine and beer.
URL:https://www.sayulitalife.com/sayulero/calendar/mexican-wine-tasting-live-jazz/2028-11-19/
LOCATION:Sayulita Wine Shop\, Lado Norte\, C. Miramar 13\, Sayulita\, Nayarit\, Mexico
CATEGORIES:Art,Entertainment,Music
ATTACH;FMTTYPE=image/jpeg:https://res.cloudinary.com/sayulitalife/images/w_1920,h_2560,c_scale/w_1920/f_auto,q_auto/v1765410288/wordpress_assets/POSTER-JAZZ_43416d8304/POSTER-JAZZ_43416d8304.jpg?_i=AA
END:VEVENT
BEGIN:VEVENT
DTSTART;TZID=America/Mexico_City:20281122T180000
DTEND;TZID=America/Mexico_City:20281122T210000
DTSTAMP:20260419T065627
CREATED:20251211T172406Z
LAST-MODIFIED:20251211T172609Z
UID:10018126-1858528800-1858539600@www.sayulitalife.com
SUMMARY:Mexican Wine Tasting & Live Jazz
DESCRIPTION:Every Wednesday & Saturday we feature\, Mexican Wines to surprise you with incredible cheese plates charcuterie and incredible vibes.\nAlso Mezcal\, tequila and non alcoholic wine and beer.
URL:https://www.sayulitalife.com/sayulero/calendar/mexican-wine-tasting-live-jazz/2028-11-22/
LOCATION:Sayulita Wine Shop\, Lado Norte\, C. Miramar 13\, Sayulita\, Nayarit\, Mexico
CATEGORIES:Art,Entertainment,Music
ATTACH;FMTTYPE=image/jpeg:https://res.cloudinary.com/sayulitalife/images/w_1920,h_2560,c_scale/w_1920/f_auto,q_auto/v1765410288/wordpress_assets/POSTER-JAZZ_43416d8304/POSTER-JAZZ_43416d8304.jpg?_i=AA
END:VEVENT
BEGIN:VEVENT
DTSTART;TZID=America/Mexico_City:20281126T180000
DTEND;TZID=America/Mexico_City:20281126T210000
DTSTAMP:20260419T065627
CREATED:20251211T172406Z
LAST-MODIFIED:20251211T172609Z
UID:10018127-1858874400-1858885200@www.sayulitalife.com
SUMMARY:Mexican Wine Tasting & Live Jazz
DESCRIPTION:Every Wednesday & Saturday we feature\, Mexican Wines to surprise you with incredible cheese plates charcuterie and incredible vibes.\nAlso Mezcal\, tequila and non alcoholic wine and beer.
URL:https://www.sayulitalife.com/sayulero/calendar/mexican-wine-tasting-live-jazz/2028-11-26/
LOCATION:Sayulita Wine Shop\, Lado Norte\, C. Miramar 13\, Sayulita\, Nayarit\, Mexico
CATEGORIES:Art,Entertainment,Music
ATTACH;FMTTYPE=image/jpeg:https://res.cloudinary.com/sayulitalife/images/w_1920,h_2560,c_scale/w_1920/f_auto,q_auto/v1765410288/wordpress_assets/POSTER-JAZZ_43416d8304/POSTER-JAZZ_43416d8304.jpg?_i=AA
END:VEVENT
BEGIN:VEVENT
DTSTART;TZID=America/Mexico_City:20281129T180000
DTEND;TZID=America/Mexico_City:20281129T210000
DTSTAMP:20260419T065627
CREATED:20251211T172406Z
LAST-MODIFIED:20251211T172609Z
UID:10018128-1859133600-1859144400@www.sayulitalife.com
SUMMARY:Mexican Wine Tasting & Live Jazz
DESCRIPTION:Every Wednesday & Saturday we feature\, Mexican Wines to surprise you with incredible cheese plates charcuterie and incredible vibes.\nAlso Mezcal\, tequila and non alcoholic wine and beer.
URL:https://www.sayulitalife.com/sayulero/calendar/mexican-wine-tasting-live-jazz/2028-11-29/
LOCATION:Sayulita Wine Shop\, Lado Norte\, C. Miramar 13\, Sayulita\, Nayarit\, Mexico
CATEGORIES:Art,Entertainment,Music
ATTACH;FMTTYPE=image/jpeg:https://res.cloudinary.com/sayulitalife/images/w_1920,h_2560,c_scale/w_1920/f_auto,q_auto/v1765410288/wordpress_assets/POSTER-JAZZ_43416d8304/POSTER-JAZZ_43416d8304.jpg?_i=AA
END:VEVENT
BEGIN:VEVENT
DTSTART;TZID=America/Mexico_City:20281203T180000
DTEND;TZID=America/Mexico_City:20281203T210000
DTSTAMP:20260419T065627
CREATED:20251211T172406Z
LAST-MODIFIED:20251211T172609Z
UID:10018129-1859479200-1859490000@www.sayulitalife.com
SUMMARY:Mexican Wine Tasting & Live Jazz
DESCRIPTION:Every Wednesday & Saturday we feature\, Mexican Wines to surprise you with incredible cheese plates charcuterie and incredible vibes.\nAlso Mezcal\, tequila and non alcoholic wine and beer.
URL:https://www.sayulitalife.com/sayulero/calendar/mexican-wine-tasting-live-jazz/2028-12-03/
LOCATION:Sayulita Wine Shop\, Lado Norte\, C. Miramar 13\, Sayulita\, Nayarit\, Mexico
CATEGORIES:Art,Entertainment,Music
ATTACH;FMTTYPE=image/jpeg:https://res.cloudinary.com/sayulitalife/images/w_1920,h_2560,c_scale/w_1920/f_auto,q_auto/v1765410288/wordpress_assets/POSTER-JAZZ_43416d8304/POSTER-JAZZ_43416d8304.jpg?_i=AA
END:VEVENT
BEGIN:VEVENT
DTSTART;TZID=America/Mexico_City:20281206T180000
DTEND;TZID=America/Mexico_City:20281206T210000
DTSTAMP:20260419T065627
CREATED:20251211T172406Z
LAST-MODIFIED:20251211T172609Z
UID:10018130-1859738400-1859749200@www.sayulitalife.com
SUMMARY:Mexican Wine Tasting & Live Jazz
DESCRIPTION:Every Wednesday & Saturday we feature\, Mexican Wines to surprise you with incredible cheese plates charcuterie and incredible vibes.\nAlso Mezcal\, tequila and non alcoholic wine and beer.
URL:https://www.sayulitalife.com/sayulero/calendar/mexican-wine-tasting-live-jazz/2028-12-06/
LOCATION:Sayulita Wine Shop\, Lado Norte\, C. Miramar 13\, Sayulita\, Nayarit\, Mexico
CATEGORIES:Art,Entertainment,Music
ATTACH;FMTTYPE=image/jpeg:https://res.cloudinary.com/sayulitalife/images/w_1920,h_2560,c_scale/w_1920/f_auto,q_auto/v1765410288/wordpress_assets/POSTER-JAZZ_43416d8304/POSTER-JAZZ_43416d8304.jpg?_i=AA
END:VEVENT
BEGIN:VEVENT
DTSTART;TZID=America/Mexico_City:20281210T180000
DTEND;TZID=America/Mexico_City:20281210T210000
DTSTAMP:20260419T065627
CREATED:20251211T172406Z
LAST-MODIFIED:20251211T172609Z
UID:10018131-1860084000-1860094800@www.sayulitalife.com
SUMMARY:Mexican Wine Tasting & Live Jazz
DESCRIPTION:Every Wednesday & Saturday we feature\, Mexican Wines to surprise you with incredible cheese plates charcuterie and incredible vibes.\nAlso Mezcal\, tequila and non alcoholic wine and beer.
URL:https://www.sayulitalife.com/sayulero/calendar/mexican-wine-tasting-live-jazz/2028-12-10/
LOCATION:Sayulita Wine Shop\, Lado Norte\, C. Miramar 13\, Sayulita\, Nayarit\, Mexico
CATEGORIES:Art,Entertainment,Music
ATTACH;FMTTYPE=image/jpeg:https://res.cloudinary.com/sayulitalife/images/w_1920,h_2560,c_scale/w_1920/f_auto,q_auto/v1765410288/wordpress_assets/POSTER-JAZZ_43416d8304/POSTER-JAZZ_43416d8304.jpg?_i=AA
END:VEVENT
BEGIN:VEVENT
DTSTART;TZID=America/Mexico_City:20281213T180000
DTEND;TZID=America/Mexico_City:20281213T210000
DTSTAMP:20260419T065627
CREATED:20251211T172406Z
LAST-MODIFIED:20251211T172609Z
UID:10018132-1860343200-1860354000@www.sayulitalife.com
SUMMARY:Mexican Wine Tasting & Live Jazz
DESCRIPTION:Every Wednesday & Saturday we feature\, Mexican Wines to surprise you with incredible cheese plates charcuterie and incredible vibes.\nAlso Mezcal\, tequila and non alcoholic wine and beer.
URL:https://www.sayulitalife.com/sayulero/calendar/mexican-wine-tasting-live-jazz/2028-12-13/
LOCATION:Sayulita Wine Shop\, Lado Norte\, C. Miramar 13\, Sayulita\, Nayarit\, Mexico
CATEGORIES:Art,Entertainment,Music
ATTACH;FMTTYPE=image/jpeg:https://res.cloudinary.com/sayulitalife/images/w_1920,h_2560,c_scale/w_1920/f_auto,q_auto/v1765410288/wordpress_assets/POSTER-JAZZ_43416d8304/POSTER-JAZZ_43416d8304.jpg?_i=AA
END:VEVENT
BEGIN:VEVENT
DTSTART;TZID=America/Mexico_City:20281217T180000
DTEND;TZID=America/Mexico_City:20281217T210000
DTSTAMP:20260419T065627
CREATED:20251211T172406Z
LAST-MODIFIED:20251211T172609Z
UID:10018133-1860688800-1860699600@www.sayulitalife.com
SUMMARY:Mexican Wine Tasting & Live Jazz
DESCRIPTION:Every Wednesday & Saturday we feature\, Mexican Wines to surprise you with incredible cheese plates charcuterie and incredible vibes.\nAlso Mezcal\, tequila and non alcoholic wine and beer.
URL:https://www.sayulitalife.com/sayulero/calendar/mexican-wine-tasting-live-jazz/2028-12-17/
LOCATION:Sayulita Wine Shop\, Lado Norte\, C. Miramar 13\, Sayulita\, Nayarit\, Mexico
CATEGORIES:Art,Entertainment,Music
ATTACH;FMTTYPE=image/jpeg:https://res.cloudinary.com/sayulitalife/images/w_1920,h_2560,c_scale/w_1920/f_auto,q_auto/v1765410288/wordpress_assets/POSTER-JAZZ_43416d8304/POSTER-JAZZ_43416d8304.jpg?_i=AA
END:VEVENT
BEGIN:VEVENT
DTSTART;TZID=America/Mexico_City:20281220T180000
DTEND;TZID=America/Mexico_City:20281220T210000
DTSTAMP:20260419T065627
CREATED:20251211T172406Z
LAST-MODIFIED:20251211T172609Z
UID:10018134-1860948000-1860958800@www.sayulitalife.com
SUMMARY:Mexican Wine Tasting & Live Jazz
DESCRIPTION:Every Wednesday & Saturday we feature\, Mexican Wines to surprise you with incredible cheese plates charcuterie and incredible vibes.\nAlso Mezcal\, tequila and non alcoholic wine and beer.
URL:https://www.sayulitalife.com/sayulero/calendar/mexican-wine-tasting-live-jazz/2028-12-20/
LOCATION:Sayulita Wine Shop\, Lado Norte\, C. Miramar 13\, Sayulita\, Nayarit\, Mexico
CATEGORIES:Art,Entertainment,Music
ATTACH;FMTTYPE=image/jpeg:https://res.cloudinary.com/sayulitalife/images/w_1920,h_2560,c_scale/w_1920/f_auto,q_auto/v1765410288/wordpress_assets/POSTER-JAZZ_43416d8304/POSTER-JAZZ_43416d8304.jpg?_i=AA
END:VEVENT
BEGIN:VEVENT
DTSTART;TZID=America/Mexico_City:20281224T180000
DTEND;TZID=America/Mexico_City:20281224T210000
DTSTAMP:20260419T065627
CREATED:20251211T172406Z
LAST-MODIFIED:20251211T172609Z
UID:10018135-1861293600-1861304400@www.sayulitalife.com
SUMMARY:Mexican Wine Tasting & Live Jazz
DESCRIPTION:Every Wednesday & Saturday we feature\, Mexican Wines to surprise you with incredible cheese plates charcuterie and incredible vibes.\nAlso Mezcal\, tequila and non alcoholic wine and beer.
URL:https://www.sayulitalife.com/sayulero/calendar/mexican-wine-tasting-live-jazz/2028-12-24/
LOCATION:Sayulita Wine Shop\, Lado Norte\, C. Miramar 13\, Sayulita\, Nayarit\, Mexico
CATEGORIES:Art,Entertainment,Music
ATTACH;FMTTYPE=image/jpeg:https://res.cloudinary.com/sayulitalife/images/w_1920,h_2560,c_scale/w_1920/f_auto,q_auto/v1765410288/wordpress_assets/POSTER-JAZZ_43416d8304/POSTER-JAZZ_43416d8304.jpg?_i=AA
END:VEVENT
BEGIN:VEVENT
DTSTART;TZID=America/Mexico_City:20281227T180000
DTEND;TZID=America/Mexico_City:20281227T210000
DTSTAMP:20260419T065627
CREATED:20251211T172406Z
LAST-MODIFIED:20251211T172609Z
UID:10018136-1861552800-1861563600@www.sayulitalife.com
SUMMARY:Mexican Wine Tasting & Live Jazz
DESCRIPTION:Every Wednesday & Saturday we feature\, Mexican Wines to surprise you with incredible cheese plates charcuterie and incredible vibes.\nAlso Mezcal\, tequila and non alcoholic wine and beer.
URL:https://www.sayulitalife.com/sayulero/calendar/mexican-wine-tasting-live-jazz/2028-12-27/
LOCATION:Sayulita Wine Shop\, Lado Norte\, C. Miramar 13\, Sayulita\, Nayarit\, Mexico
CATEGORIES:Art,Entertainment,Music
ATTACH;FMTTYPE=image/jpeg:https://res.cloudinary.com/sayulitalife/images/w_1920,h_2560,c_scale/w_1920/f_auto,q_auto/v1765410288/wordpress_assets/POSTER-JAZZ_43416d8304/POSTER-JAZZ_43416d8304.jpg?_i=AA
END:VEVENT
BEGIN:VEVENT
DTSTART;TZID=America/Mexico_City:20281231T180000
DTEND;TZID=America/Mexico_City:20281231T210000
DTSTAMP:20260419T065627
CREATED:20251211T172406Z
LAST-MODIFIED:20251211T172609Z
UID:10018137-1861898400-1861909200@www.sayulitalife.com
SUMMARY:Mexican Wine Tasting & Live Jazz
DESCRIPTION:Every Wednesday & Saturday we feature\, Mexican Wines to surprise you with incredible cheese plates charcuterie and incredible vibes.\nAlso Mezcal\, tequila and non alcoholic wine and beer.
URL:https://www.sayulitalife.com/sayulero/calendar/mexican-wine-tasting-live-jazz/2028-12-31/
LOCATION:Sayulita Wine Shop\, Lado Norte\, C. Miramar 13\, Sayulita\, Nayarit\, Mexico
CATEGORIES:Art,Entertainment,Music
ATTACH;FMTTYPE=image/jpeg:https://res.cloudinary.com/sayulitalife/images/w_1920,h_2560,c_scale/w_1920/f_auto,q_auto/v1765410288/wordpress_assets/POSTER-JAZZ_43416d8304/POSTER-JAZZ_43416d8304.jpg?_i=AA
END:VEVENT
BEGIN:VEVENT
DTSTART;TZID=America/Mexico_City:20290103T180000
DTEND;TZID=America/Mexico_City:20290103T210000
DTSTAMP:20260419T065627
CREATED:20251211T172406Z
LAST-MODIFIED:20251211T172609Z
UID:10018138-1862157600-1862168400@www.sayulitalife.com
SUMMARY:Mexican Wine Tasting & Live Jazz
DESCRIPTION:Every Wednesday & Saturday we feature\, Mexican Wines to surprise you with incredible cheese plates charcuterie and incredible vibes.\nAlso Mezcal\, tequila and non alcoholic wine and beer.
URL:https://www.sayulitalife.com/sayulero/calendar/mexican-wine-tasting-live-jazz/2029-01-03/
LOCATION:Sayulita Wine Shop\, Lado Norte\, C. Miramar 13\, Sayulita\, Nayarit\, Mexico
CATEGORIES:Art,Entertainment,Music
ATTACH;FMTTYPE=image/jpeg:https://res.cloudinary.com/sayulitalife/images/w_1920,h_2560,c_scale/w_1920/f_auto,q_auto/v1765410288/wordpress_assets/POSTER-JAZZ_43416d8304/POSTER-JAZZ_43416d8304.jpg?_i=AA
END:VEVENT
BEGIN:VEVENT
DTSTART;TZID=America/Mexico_City:20290107T180000
DTEND;TZID=America/Mexico_City:20290107T210000
DTSTAMP:20260419T065627
CREATED:20251211T172406Z
LAST-MODIFIED:20251211T172609Z
UID:10018139-1862503200-1862514000@www.sayulitalife.com
SUMMARY:Mexican Wine Tasting & Live Jazz
DESCRIPTION:Every Wednesday & Saturday we feature\, Mexican Wines to surprise you with incredible cheese plates charcuterie and incredible vibes.\nAlso Mezcal\, tequila and non alcoholic wine and beer.
URL:https://www.sayulitalife.com/sayulero/calendar/mexican-wine-tasting-live-jazz/2029-01-07/
LOCATION:Sayulita Wine Shop\, Lado Norte\, C. Miramar 13\, Sayulita\, Nayarit\, Mexico
CATEGORIES:Art,Entertainment,Music
ATTACH;FMTTYPE=image/jpeg:https://res.cloudinary.com/sayulitalife/images/w_1920,h_2560,c_scale/w_1920/f_auto,q_auto/v1765410288/wordpress_assets/POSTER-JAZZ_43416d8304/POSTER-JAZZ_43416d8304.jpg?_i=AA
END:VEVENT
BEGIN:VEVENT
DTSTART;TZID=America/Mexico_City:20290110T180000
DTEND;TZID=America/Mexico_City:20290110T210000
DTSTAMP:20260419T065627
CREATED:20251211T172406Z
LAST-MODIFIED:20251211T172609Z
UID:10018140-1862762400-1862773200@www.sayulitalife.com
SUMMARY:Mexican Wine Tasting & Live Jazz
DESCRIPTION:Every Wednesday & Saturday we feature\, Mexican Wines to surprise you with incredible cheese plates charcuterie and incredible vibes.\nAlso Mezcal\, tequila and non alcoholic wine and beer.
URL:https://www.sayulitalife.com/sayulero/calendar/mexican-wine-tasting-live-jazz/2029-01-10/
LOCATION:Sayulita Wine Shop\, Lado Norte\, C. Miramar 13\, Sayulita\, Nayarit\, Mexico
CATEGORIES:Art,Entertainment,Music
ATTACH;FMTTYPE=image/jpeg:https://res.cloudinary.com/sayulitalife/images/w_1920,h_2560,c_scale/w_1920/f_auto,q_auto/v1765410288/wordpress_assets/POSTER-JAZZ_43416d8304/POSTER-JAZZ_43416d8304.jpg?_i=AA
END:VEVENT
BEGIN:VEVENT
DTSTART;TZID=America/Mexico_City:20290114T180000
DTEND;TZID=America/Mexico_City:20290114T210000
DTSTAMP:20260419T065627
CREATED:20251211T172406Z
LAST-MODIFIED:20251211T172609Z
UID:10018141-1863108000-1863118800@www.sayulitalife.com
SUMMARY:Mexican Wine Tasting & Live Jazz
DESCRIPTION:Every Wednesday & Saturday we feature\, Mexican Wines to surprise you with incredible cheese plates charcuterie and incredible vibes.\nAlso Mezcal\, tequila and non alcoholic wine and beer.
URL:https://www.sayulitalife.com/sayulero/calendar/mexican-wine-tasting-live-jazz/2029-01-14/
LOCATION:Sayulita Wine Shop\, Lado Norte\, C. Miramar 13\, Sayulita\, Nayarit\, Mexico
CATEGORIES:Art,Entertainment,Music
ATTACH;FMTTYPE=image/jpeg:https://res.cloudinary.com/sayulitalife/images/w_1920,h_2560,c_scale/w_1920/f_auto,q_auto/v1765410288/wordpress_assets/POSTER-JAZZ_43416d8304/POSTER-JAZZ_43416d8304.jpg?_i=AA
END:VEVENT
BEGIN:VEVENT
DTSTART;TZID=America/Mexico_City:20290117T180000
DTEND;TZID=America/Mexico_City:20290117T210000
DTSTAMP:20260419T065627
CREATED:20251211T172406Z
LAST-MODIFIED:20251211T172609Z
UID:10018142-1863367200-1863378000@www.sayulitalife.com
SUMMARY:Mexican Wine Tasting & Live Jazz
DESCRIPTION:Every Wednesday & Saturday we feature\, Mexican Wines to surprise you with incredible cheese plates charcuterie and incredible vibes.\nAlso Mezcal\, tequila and non alcoholic wine and beer.
URL:https://www.sayulitalife.com/sayulero/calendar/mexican-wine-tasting-live-jazz/2029-01-17/
LOCATION:Sayulita Wine Shop\, Lado Norte\, C. Miramar 13\, Sayulita\, Nayarit\, Mexico
CATEGORIES:Art,Entertainment,Music
ATTACH;FMTTYPE=image/jpeg:https://res.cloudinary.com/sayulitalife/images/w_1920,h_2560,c_scale/w_1920/f_auto,q_auto/v1765410288/wordpress_assets/POSTER-JAZZ_43416d8304/POSTER-JAZZ_43416d8304.jpg?_i=AA
END:VEVENT
BEGIN:VEVENT
DTSTART;TZID=America/Mexico_City:20290121T180000
DTEND;TZID=America/Mexico_City:20290121T210000
DTSTAMP:20260419T065627
CREATED:20251211T172406Z
LAST-MODIFIED:20251211T172609Z
UID:10018143-1863712800-1863723600@www.sayulitalife.com
SUMMARY:Mexican Wine Tasting & Live Jazz
DESCRIPTION:Every Wednesday & Saturday we feature\, Mexican Wines to surprise you with incredible cheese plates charcuterie and incredible vibes.\nAlso Mezcal\, tequila and non alcoholic wine and beer.
URL:https://www.sayulitalife.com/sayulero/calendar/mexican-wine-tasting-live-jazz/2029-01-21/
LOCATION:Sayulita Wine Shop\, Lado Norte\, C. Miramar 13\, Sayulita\, Nayarit\, Mexico
CATEGORIES:Art,Entertainment,Music
ATTACH;FMTTYPE=image/jpeg:https://res.cloudinary.com/sayulitalife/images/w_1920,h_2560,c_scale/w_1920/f_auto,q_auto/v1765410288/wordpress_assets/POSTER-JAZZ_43416d8304/POSTER-JAZZ_43416d8304.jpg?_i=AA
END:VEVENT
BEGIN:VEVENT
DTSTART;TZID=America/Mexico_City:20290124T180000
DTEND;TZID=America/Mexico_City:20290124T210000
DTSTAMP:20260419T065627
CREATED:20251211T172406Z
LAST-MODIFIED:20251211T172609Z
UID:10018144-1863972000-1863982800@www.sayulitalife.com
SUMMARY:Mexican Wine Tasting & Live Jazz
DESCRIPTION:Every Wednesday & Saturday we feature\, Mexican Wines to surprise you with incredible cheese plates charcuterie and incredible vibes.\nAlso Mezcal\, tequila and non alcoholic wine and beer.
URL:https://www.sayulitalife.com/sayulero/calendar/mexican-wine-tasting-live-jazz/2029-01-24/
LOCATION:Sayulita Wine Shop\, Lado Norte\, C. Miramar 13\, Sayulita\, Nayarit\, Mexico
CATEGORIES:Art,Entertainment,Music
ATTACH;FMTTYPE=image/jpeg:https://res.cloudinary.com/sayulitalife/images/w_1920,h_2560,c_scale/w_1920/f_auto,q_auto/v1765410288/wordpress_assets/POSTER-JAZZ_43416d8304/POSTER-JAZZ_43416d8304.jpg?_i=AA
END:VEVENT
BEGIN:VEVENT
DTSTART;TZID=America/Mexico_City:20290128T180000
DTEND;TZID=America/Mexico_City:20290128T210000
DTSTAMP:20260419T065627
CREATED:20251211T172406Z
LAST-MODIFIED:20251211T172609Z
UID:10018145-1864317600-1864328400@www.sayulitalife.com
SUMMARY:Mexican Wine Tasting & Live Jazz
DESCRIPTION:Every Wednesday & Saturday we feature\, Mexican Wines to surprise you with incredible cheese plates charcuterie and incredible vibes.\nAlso Mezcal\, tequila and non alcoholic wine and beer.
URL:https://www.sayulitalife.com/sayulero/calendar/mexican-wine-tasting-live-jazz/2029-01-28/
LOCATION:Sayulita Wine Shop\, Lado Norte\, C. Miramar 13\, Sayulita\, Nayarit\, Mexico
CATEGORIES:Art,Entertainment,Music
ATTACH;FMTTYPE=image/jpeg:https://res.cloudinary.com/sayulitalife/images/w_1920,h_2560,c_scale/w_1920/f_auto,q_auto/v1765410288/wordpress_assets/POSTER-JAZZ_43416d8304/POSTER-JAZZ_43416d8304.jpg?_i=AA
END:VEVENT
BEGIN:VEVENT
DTSTART;TZID=America/Mexico_City:20290131T180000
DTEND;TZID=America/Mexico_City:20290131T210000
DTSTAMP:20260419T065627
CREATED:20251211T172406Z
LAST-MODIFIED:20251211T172609Z
UID:10018146-1864576800-1864587600@www.sayulitalife.com
SUMMARY:Mexican Wine Tasting & Live Jazz
DESCRIPTION:Every Wednesday & Saturday we feature\, Mexican Wines to surprise you with incredible cheese plates charcuterie and incredible vibes.\nAlso Mezcal\, tequila and non alcoholic wine and beer.
URL:https://www.sayulitalife.com/sayulero/calendar/mexican-wine-tasting-live-jazz/2029-01-31/
LOCATION:Sayulita Wine Shop\, Lado Norte\, C. Miramar 13\, Sayulita\, Nayarit\, Mexico
CATEGORIES:Art,Entertainment,Music
ATTACH;FMTTYPE=image/jpeg:https://res.cloudinary.com/sayulitalife/images/w_1920,h_2560,c_scale/w_1920/f_auto,q_auto/v1765410288/wordpress_assets/POSTER-JAZZ_43416d8304/POSTER-JAZZ_43416d8304.jpg?_i=AA
END:VEVENT
BEGIN:VEVENT
DTSTART;TZID=America/Mexico_City:20290204T180000
DTEND;TZID=America/Mexico_City:20290204T210000
DTSTAMP:20260419T065627
CREATED:20251211T172406Z
LAST-MODIFIED:20251211T172609Z
UID:10018147-1864922400-1864933200@www.sayulitalife.com
SUMMARY:Mexican Wine Tasting & Live Jazz
DESCRIPTION:Every Wednesday & Saturday we feature\, Mexican Wines to surprise you with incredible cheese plates charcuterie and incredible vibes.\nAlso Mezcal\, tequila and non alcoholic wine and beer.
URL:https://www.sayulitalife.com/sayulero/calendar/mexican-wine-tasting-live-jazz/2029-02-04/
LOCATION:Sayulita Wine Shop\, Lado Norte\, C. Miramar 13\, Sayulita\, Nayarit\, Mexico
CATEGORIES:Art,Entertainment,Music
ATTACH;FMTTYPE=image/jpeg:https://res.cloudinary.com/sayulitalife/images/w_1920,h_2560,c_scale/w_1920/f_auto,q_auto/v1765410288/wordpress_assets/POSTER-JAZZ_43416d8304/POSTER-JAZZ_43416d8304.jpg?_i=AA
END:VEVENT
BEGIN:VEVENT
DTSTART;TZID=America/Mexico_City:20290207T180000
DTEND;TZID=America/Mexico_City:20290207T210000
DTSTAMP:20260419T065627
CREATED:20251211T172406Z
LAST-MODIFIED:20251211T172609Z
UID:10018148-1865181600-1865192400@www.sayulitalife.com
SUMMARY:Mexican Wine Tasting & Live Jazz
DESCRIPTION:Every Wednesday & Saturday we feature\, Mexican Wines to surprise you with incredible cheese plates charcuterie and incredible vibes.\nAlso Mezcal\, tequila and non alcoholic wine and beer.
URL:https://www.sayulitalife.com/sayulero/calendar/mexican-wine-tasting-live-jazz/2029-02-07/
LOCATION:Sayulita Wine Shop\, Lado Norte\, C. Miramar 13\, Sayulita\, Nayarit\, Mexico
CATEGORIES:Art,Entertainment,Music
ATTACH;FMTTYPE=image/jpeg:https://res.cloudinary.com/sayulitalife/images/w_1920,h_2560,c_scale/w_1920/f_auto,q_auto/v1765410288/wordpress_assets/POSTER-JAZZ_43416d8304/POSTER-JAZZ_43416d8304.jpg?_i=AA
END:VEVENT
BEGIN:VEVENT
DTSTART;TZID=America/Mexico_City:20290211T180000
DTEND;TZID=America/Mexico_City:20290211T210000
DTSTAMP:20260419T065627
CREATED:20251211T172406Z
LAST-MODIFIED:20251211T172609Z
UID:10018149-1865527200-1865538000@www.sayulitalife.com
SUMMARY:Mexican Wine Tasting & Live Jazz
DESCRIPTION:Every Wednesday & Saturday we feature\, Mexican Wines to surprise you with incredible cheese plates charcuterie and incredible vibes.\nAlso Mezcal\, tequila and non alcoholic wine and beer.
URL:https://www.sayulitalife.com/sayulero/calendar/mexican-wine-tasting-live-jazz/2029-02-11/
LOCATION:Sayulita Wine Shop\, Lado Norte\, C. Miramar 13\, Sayulita\, Nayarit\, Mexico
CATEGORIES:Art,Entertainment,Music
ATTACH;FMTTYPE=image/jpeg:https://res.cloudinary.com/sayulitalife/images/w_1920,h_2560,c_scale/w_1920/f_auto,q_auto/v1765410288/wordpress_assets/POSTER-JAZZ_43416d8304/POSTER-JAZZ_43416d8304.jpg?_i=AA
END:VEVENT
BEGIN:VEVENT
DTSTART;TZID=America/Mexico_City:20290214T180000
DTEND;TZID=America/Mexico_City:20290214T210000
DTSTAMP:20260419T065627
CREATED:20251211T172406Z
LAST-MODIFIED:20251211T172609Z
UID:10018150-1865786400-1865797200@www.sayulitalife.com
SUMMARY:Mexican Wine Tasting & Live Jazz
DESCRIPTION:Every Wednesday & Saturday we feature\, Mexican Wines to surprise you with incredible cheese plates charcuterie and incredible vibes.\nAlso Mezcal\, tequila and non alcoholic wine and beer.
URL:https://www.sayulitalife.com/sayulero/calendar/mexican-wine-tasting-live-jazz/2029-02-14/
LOCATION:Sayulita Wine Shop\, Lado Norte\, C. Miramar 13\, Sayulita\, Nayarit\, Mexico
CATEGORIES:Art,Entertainment,Music
ATTACH;FMTTYPE=image/jpeg:https://res.cloudinary.com/sayulitalife/images/w_1920,h_2560,c_scale/w_1920/f_auto,q_auto/v1765410288/wordpress_assets/POSTER-JAZZ_43416d8304/POSTER-JAZZ_43416d8304.jpg?_i=AA
END:VEVENT
BEGIN:VEVENT
DTSTART;TZID=America/Mexico_City:20290218T180000
DTEND;TZID=America/Mexico_City:20290218T210000
DTSTAMP:20260419T065627
CREATED:20251211T172406Z
LAST-MODIFIED:20251211T172609Z
UID:10018151-1866132000-1866142800@www.sayulitalife.com
SUMMARY:Mexican Wine Tasting & Live Jazz
DESCRIPTION:Every Wednesday & Saturday we feature\, Mexican Wines to surprise you with incredible cheese plates charcuterie and incredible vibes.\nAlso Mezcal\, tequila and non alcoholic wine and beer.
URL:https://www.sayulitalife.com/sayulero/calendar/mexican-wine-tasting-live-jazz/2029-02-18/
LOCATION:Sayulita Wine Shop\, Lado Norte\, C. Miramar 13\, Sayulita\, Nayarit\, Mexico
CATEGORIES:Art,Entertainment,Music
ATTACH;FMTTYPE=image/jpeg:https://res.cloudinary.com/sayulitalife/images/w_1920,h_2560,c_scale/w_1920/f_auto,q_auto/v1765410288/wordpress_assets/POSTER-JAZZ_43416d8304/POSTER-JAZZ_43416d8304.jpg?_i=AA
END:VEVENT
END:VCALENDAR