BEGIN:VCALENDAR
VERSION:2.0
PRODID:-//El Sayulero - ECPv6.13.1//NONSGML v1.0//EN
CALSCALE:GREGORIAN
METHOD:PUBLISH
X-WR-CALNAME:El Sayulero
X-ORIGINAL-URL:https://www.sayulitalife.com/sayulero
X-WR-CALDESC:Events for El Sayulero
REFRESH-INTERVAL;VALUE=DURATION:PT1H
X-Robots-Tag:noindex
X-PUBLISHED-TTL:PT1H
BEGIN:VTIMEZONE
TZID:America/Mexico_City
BEGIN:STANDARD
TZOFFSETFROM:-0600
TZOFFSETTO:-0600
TZNAME:CST
DTSTART:20290101T000000
END:STANDARD
END:VTIMEZONE
BEGIN:VEVENT
DTSTART;TZID=America/Mexico_City:20290221T180000
DTEND;TZID=America/Mexico_City:20290221T210000
DTSTAMP:20260419T104010
CREATED:20251211T172406Z
LAST-MODIFIED:20251211T172609Z
UID:10018152-1866391200-1866402000@www.sayulitalife.com
SUMMARY:Mexican Wine Tasting & Live Jazz
DESCRIPTION:Every Wednesday & Saturday we feature\, Mexican Wines to surprise you with incredible cheese plates charcuterie and incredible vibes.\nAlso Mezcal\, tequila and non alcoholic wine and beer.
URL:https://www.sayulitalife.com/sayulero/calendar/mexican-wine-tasting-live-jazz/2029-02-21/
LOCATION:Sayulita Wine Shop\, Lado Norte\, C. Miramar 13\, Sayulita\, Nayarit\, Mexico
CATEGORIES:Art,Entertainment,Music
ATTACH;FMTTYPE=image/jpeg:https://res.cloudinary.com/sayulitalife/images/w_1920,h_2560,c_scale/w_1920/f_auto,q_auto/v1765410288/wordpress_assets/POSTER-JAZZ_43416d8304/POSTER-JAZZ_43416d8304.jpg?_i=AA
END:VEVENT
BEGIN:VEVENT
DTSTART;TZID=America/Mexico_City:20290225T180000
DTEND;TZID=America/Mexico_City:20290225T210000
DTSTAMP:20260419T104010
CREATED:20251211T172406Z
LAST-MODIFIED:20251211T172609Z
UID:10018153-1866736800-1866747600@www.sayulitalife.com
SUMMARY:Mexican Wine Tasting & Live Jazz
DESCRIPTION:Every Wednesday & Saturday we feature\, Mexican Wines to surprise you with incredible cheese plates charcuterie and incredible vibes.\nAlso Mezcal\, tequila and non alcoholic wine and beer.
URL:https://www.sayulitalife.com/sayulero/calendar/mexican-wine-tasting-live-jazz/2029-02-25/
LOCATION:Sayulita Wine Shop\, Lado Norte\, C. Miramar 13\, Sayulita\, Nayarit\, Mexico
CATEGORIES:Art,Entertainment,Music
ATTACH;FMTTYPE=image/jpeg:https://res.cloudinary.com/sayulitalife/images/w_1920,h_2560,c_scale/w_1920/f_auto,q_auto/v1765410288/wordpress_assets/POSTER-JAZZ_43416d8304/POSTER-JAZZ_43416d8304.jpg?_i=AA
END:VEVENT
BEGIN:VEVENT
DTSTART;TZID=America/Mexico_City:20290228T180000
DTEND;TZID=America/Mexico_City:20290228T210000
DTSTAMP:20260419T104010
CREATED:20251211T172406Z
LAST-MODIFIED:20251211T172609Z
UID:10018154-1866996000-1867006800@www.sayulitalife.com
SUMMARY:Mexican Wine Tasting & Live Jazz
DESCRIPTION:Every Wednesday & Saturday we feature\, Mexican Wines to surprise you with incredible cheese plates charcuterie and incredible vibes.\nAlso Mezcal\, tequila and non alcoholic wine and beer.
URL:https://www.sayulitalife.com/sayulero/calendar/mexican-wine-tasting-live-jazz/2029-02-28/
LOCATION:Sayulita Wine Shop\, Lado Norte\, C. Miramar 13\, Sayulita\, Nayarit\, Mexico
CATEGORIES:Art,Entertainment,Music
ATTACH;FMTTYPE=image/jpeg:https://res.cloudinary.com/sayulitalife/images/w_1920,h_2560,c_scale/w_1920/f_auto,q_auto/v1765410288/wordpress_assets/POSTER-JAZZ_43416d8304/POSTER-JAZZ_43416d8304.jpg?_i=AA
END:VEVENT
BEGIN:VEVENT
DTSTART;TZID=America/Mexico_City:20290304T180000
DTEND;TZID=America/Mexico_City:20290304T210000
DTSTAMP:20260419T104010
CREATED:20251211T172406Z
LAST-MODIFIED:20251211T172609Z
UID:10018155-1867341600-1867352400@www.sayulitalife.com
SUMMARY:Mexican Wine Tasting & Live Jazz
DESCRIPTION:Every Wednesday & Saturday we feature\, Mexican Wines to surprise you with incredible cheese plates charcuterie and incredible vibes.\nAlso Mezcal\, tequila and non alcoholic wine and beer.
URL:https://www.sayulitalife.com/sayulero/calendar/mexican-wine-tasting-live-jazz/2029-03-04/
LOCATION:Sayulita Wine Shop\, Lado Norte\, C. Miramar 13\, Sayulita\, Nayarit\, Mexico
CATEGORIES:Art,Entertainment,Music
ATTACH;FMTTYPE=image/jpeg:https://res.cloudinary.com/sayulitalife/images/w_1920,h_2560,c_scale/w_1920/f_auto,q_auto/v1765410288/wordpress_assets/POSTER-JAZZ_43416d8304/POSTER-JAZZ_43416d8304.jpg?_i=AA
END:VEVENT
BEGIN:VEVENT
DTSTART;TZID=America/Mexico_City:20290307T180000
DTEND;TZID=America/Mexico_City:20290307T210000
DTSTAMP:20260419T104010
CREATED:20251211T172406Z
LAST-MODIFIED:20251211T172609Z
UID:10018156-1867600800-1867611600@www.sayulitalife.com
SUMMARY:Mexican Wine Tasting & Live Jazz
DESCRIPTION:Every Wednesday & Saturday we feature\, Mexican Wines to surprise you with incredible cheese plates charcuterie and incredible vibes.\nAlso Mezcal\, tequila and non alcoholic wine and beer.
URL:https://www.sayulitalife.com/sayulero/calendar/mexican-wine-tasting-live-jazz/2029-03-07/
LOCATION:Sayulita Wine Shop\, Lado Norte\, C. Miramar 13\, Sayulita\, Nayarit\, Mexico
CATEGORIES:Art,Entertainment,Music
ATTACH;FMTTYPE=image/jpeg:https://res.cloudinary.com/sayulitalife/images/w_1920,h_2560,c_scale/w_1920/f_auto,q_auto/v1765410288/wordpress_assets/POSTER-JAZZ_43416d8304/POSTER-JAZZ_43416d8304.jpg?_i=AA
END:VEVENT
BEGIN:VEVENT
DTSTART;TZID=America/Mexico_City:20290311T180000
DTEND;TZID=America/Mexico_City:20290311T210000
DTSTAMP:20260419T104010
CREATED:20251211T172406Z
LAST-MODIFIED:20251211T172609Z
UID:10018157-1867946400-1867957200@www.sayulitalife.com
SUMMARY:Mexican Wine Tasting & Live Jazz
DESCRIPTION:Every Wednesday & Saturday we feature\, Mexican Wines to surprise you with incredible cheese plates charcuterie and incredible vibes.\nAlso Mezcal\, tequila and non alcoholic wine and beer.
URL:https://www.sayulitalife.com/sayulero/calendar/mexican-wine-tasting-live-jazz/2029-03-11/
LOCATION:Sayulita Wine Shop\, Lado Norte\, C. Miramar 13\, Sayulita\, Nayarit\, Mexico
CATEGORIES:Art,Entertainment,Music
ATTACH;FMTTYPE=image/jpeg:https://res.cloudinary.com/sayulitalife/images/w_1920,h_2560,c_scale/w_1920/f_auto,q_auto/v1765410288/wordpress_assets/POSTER-JAZZ_43416d8304/POSTER-JAZZ_43416d8304.jpg?_i=AA
END:VEVENT
BEGIN:VEVENT
DTSTART;TZID=America/Mexico_City:20290314T180000
DTEND;TZID=America/Mexico_City:20290314T210000
DTSTAMP:20260419T104010
CREATED:20251211T172406Z
LAST-MODIFIED:20251211T172609Z
UID:10018158-1868205600-1868216400@www.sayulitalife.com
SUMMARY:Mexican Wine Tasting & Live Jazz
DESCRIPTION:Every Wednesday & Saturday we feature\, Mexican Wines to surprise you with incredible cheese plates charcuterie and incredible vibes.\nAlso Mezcal\, tequila and non alcoholic wine and beer.
URL:https://www.sayulitalife.com/sayulero/calendar/mexican-wine-tasting-live-jazz/2029-03-14/
LOCATION:Sayulita Wine Shop\, Lado Norte\, C. Miramar 13\, Sayulita\, Nayarit\, Mexico
CATEGORIES:Art,Entertainment,Music
ATTACH;FMTTYPE=image/jpeg:https://res.cloudinary.com/sayulitalife/images/w_1920,h_2560,c_scale/w_1920/f_auto,q_auto/v1765410288/wordpress_assets/POSTER-JAZZ_43416d8304/POSTER-JAZZ_43416d8304.jpg?_i=AA
END:VEVENT
BEGIN:VEVENT
DTSTART;TZID=America/Mexico_City:20290318T180000
DTEND;TZID=America/Mexico_City:20290318T210000
DTSTAMP:20260419T104010
CREATED:20251211T172406Z
LAST-MODIFIED:20251211T172609Z
UID:10018159-1868551200-1868562000@www.sayulitalife.com
SUMMARY:Mexican Wine Tasting & Live Jazz
DESCRIPTION:Every Wednesday & Saturday we feature\, Mexican Wines to surprise you with incredible cheese plates charcuterie and incredible vibes.\nAlso Mezcal\, tequila and non alcoholic wine and beer.
URL:https://www.sayulitalife.com/sayulero/calendar/mexican-wine-tasting-live-jazz/2029-03-18/
LOCATION:Sayulita Wine Shop\, Lado Norte\, C. Miramar 13\, Sayulita\, Nayarit\, Mexico
CATEGORIES:Art,Entertainment,Music
ATTACH;FMTTYPE=image/jpeg:https://res.cloudinary.com/sayulitalife/images/w_1920,h_2560,c_scale/w_1920/f_auto,q_auto/v1765410288/wordpress_assets/POSTER-JAZZ_43416d8304/POSTER-JAZZ_43416d8304.jpg?_i=AA
END:VEVENT
BEGIN:VEVENT
DTSTART;TZID=America/Mexico_City:20290321T180000
DTEND;TZID=America/Mexico_City:20290321T210000
DTSTAMP:20260419T104010
CREATED:20251211T172406Z
LAST-MODIFIED:20251211T172609Z
UID:10018160-1868810400-1868821200@www.sayulitalife.com
SUMMARY:Mexican Wine Tasting & Live Jazz
DESCRIPTION:Every Wednesday & Saturday we feature\, Mexican Wines to surprise you with incredible cheese plates charcuterie and incredible vibes.\nAlso Mezcal\, tequila and non alcoholic wine and beer.
URL:https://www.sayulitalife.com/sayulero/calendar/mexican-wine-tasting-live-jazz/2029-03-21/
LOCATION:Sayulita Wine Shop\, Lado Norte\, C. Miramar 13\, Sayulita\, Nayarit\, Mexico
CATEGORIES:Art,Entertainment,Music
ATTACH;FMTTYPE=image/jpeg:https://res.cloudinary.com/sayulitalife/images/w_1920,h_2560,c_scale/w_1920/f_auto,q_auto/v1765410288/wordpress_assets/POSTER-JAZZ_43416d8304/POSTER-JAZZ_43416d8304.jpg?_i=AA
END:VEVENT
BEGIN:VEVENT
DTSTART;TZID=America/Mexico_City:20290325T180000
DTEND;TZID=America/Mexico_City:20290325T210000
DTSTAMP:20260419T104010
CREATED:20251211T172406Z
LAST-MODIFIED:20251211T172609Z
UID:10018161-1869156000-1869166800@www.sayulitalife.com
SUMMARY:Mexican Wine Tasting & Live Jazz
DESCRIPTION:Every Wednesday & Saturday we feature\, Mexican Wines to surprise you with incredible cheese plates charcuterie and incredible vibes.\nAlso Mezcal\, tequila and non alcoholic wine and beer.
URL:https://www.sayulitalife.com/sayulero/calendar/mexican-wine-tasting-live-jazz/2029-03-25/
LOCATION:Sayulita Wine Shop\, Lado Norte\, C. Miramar 13\, Sayulita\, Nayarit\, Mexico
CATEGORIES:Art,Entertainment,Music
ATTACH;FMTTYPE=image/jpeg:https://res.cloudinary.com/sayulitalife/images/w_1920,h_2560,c_scale/w_1920/f_auto,q_auto/v1765410288/wordpress_assets/POSTER-JAZZ_43416d8304/POSTER-JAZZ_43416d8304.jpg?_i=AA
END:VEVENT
BEGIN:VEVENT
DTSTART;TZID=America/Mexico_City:20290328T180000
DTEND;TZID=America/Mexico_City:20290328T210000
DTSTAMP:20260419T104010
CREATED:20251211T172406Z
LAST-MODIFIED:20251211T172609Z
UID:10018162-1869415200-1869426000@www.sayulitalife.com
SUMMARY:Mexican Wine Tasting & Live Jazz
DESCRIPTION:Every Wednesday & Saturday we feature\, Mexican Wines to surprise you with incredible cheese plates charcuterie and incredible vibes.\nAlso Mezcal\, tequila and non alcoholic wine and beer.
URL:https://www.sayulitalife.com/sayulero/calendar/mexican-wine-tasting-live-jazz/2029-03-28/
LOCATION:Sayulita Wine Shop\, Lado Norte\, C. Miramar 13\, Sayulita\, Nayarit\, Mexico
CATEGORIES:Art,Entertainment,Music
ATTACH;FMTTYPE=image/jpeg:https://res.cloudinary.com/sayulitalife/images/w_1920,h_2560,c_scale/w_1920/f_auto,q_auto/v1765410288/wordpress_assets/POSTER-JAZZ_43416d8304/POSTER-JAZZ_43416d8304.jpg?_i=AA
END:VEVENT
BEGIN:VEVENT
DTSTART;TZID=America/Mexico_City:20290401T180000
DTEND;TZID=America/Mexico_City:20290401T210000
DTSTAMP:20260419T104010
CREATED:20251211T172406Z
LAST-MODIFIED:20251211T172609Z
UID:10018163-1869760800-1869771600@www.sayulitalife.com
SUMMARY:Mexican Wine Tasting & Live Jazz
DESCRIPTION:Every Wednesday & Saturday we feature\, Mexican Wines to surprise you with incredible cheese plates charcuterie and incredible vibes.\nAlso Mezcal\, tequila and non alcoholic wine and beer.
URL:https://www.sayulitalife.com/sayulero/calendar/mexican-wine-tasting-live-jazz/2029-04-01/
LOCATION:Sayulita Wine Shop\, Lado Norte\, C. Miramar 13\, Sayulita\, Nayarit\, Mexico
CATEGORIES:Art,Entertainment,Music
ATTACH;FMTTYPE=image/jpeg:https://res.cloudinary.com/sayulitalife/images/w_1920,h_2560,c_scale/w_1920/f_auto,q_auto/v1765410288/wordpress_assets/POSTER-JAZZ_43416d8304/POSTER-JAZZ_43416d8304.jpg?_i=AA
END:VEVENT
BEGIN:VEVENT
DTSTART;TZID=America/Mexico_City:20290404T180000
DTEND;TZID=America/Mexico_City:20290404T210000
DTSTAMP:20260419T104010
CREATED:20251211T172406Z
LAST-MODIFIED:20251211T172609Z
UID:10018164-1870020000-1870030800@www.sayulitalife.com
SUMMARY:Mexican Wine Tasting & Live Jazz
DESCRIPTION:Every Wednesday & Saturday we feature\, Mexican Wines to surprise you with incredible cheese plates charcuterie and incredible vibes.\nAlso Mezcal\, tequila and non alcoholic wine and beer.
URL:https://www.sayulitalife.com/sayulero/calendar/mexican-wine-tasting-live-jazz/2029-04-04/
LOCATION:Sayulita Wine Shop\, Lado Norte\, C. Miramar 13\, Sayulita\, Nayarit\, Mexico
CATEGORIES:Art,Entertainment,Music
ATTACH;FMTTYPE=image/jpeg:https://res.cloudinary.com/sayulitalife/images/w_1920,h_2560,c_scale/w_1920/f_auto,q_auto/v1765410288/wordpress_assets/POSTER-JAZZ_43416d8304/POSTER-JAZZ_43416d8304.jpg?_i=AA
END:VEVENT
BEGIN:VEVENT
DTSTART;TZID=America/Mexico_City:20290408T180000
DTEND;TZID=America/Mexico_City:20290408T210000
DTSTAMP:20260419T104010
CREATED:20251211T172406Z
LAST-MODIFIED:20251211T172609Z
UID:10018165-1870365600-1870376400@www.sayulitalife.com
SUMMARY:Mexican Wine Tasting & Live Jazz
DESCRIPTION:Every Wednesday & Saturday we feature\, Mexican Wines to surprise you with incredible cheese plates charcuterie and incredible vibes.\nAlso Mezcal\, tequila and non alcoholic wine and beer.
URL:https://www.sayulitalife.com/sayulero/calendar/mexican-wine-tasting-live-jazz/2029-04-08/
LOCATION:Sayulita Wine Shop\, Lado Norte\, C. Miramar 13\, Sayulita\, Nayarit\, Mexico
CATEGORIES:Art,Entertainment,Music
ATTACH;FMTTYPE=image/jpeg:https://res.cloudinary.com/sayulitalife/images/w_1920,h_2560,c_scale/w_1920/f_auto,q_auto/v1765410288/wordpress_assets/POSTER-JAZZ_43416d8304/POSTER-JAZZ_43416d8304.jpg?_i=AA
END:VEVENT
BEGIN:VEVENT
DTSTART;TZID=America/Mexico_City:20290411T180000
DTEND;TZID=America/Mexico_City:20290411T210000
DTSTAMP:20260419T104010
CREATED:20251211T172406Z
LAST-MODIFIED:20251211T172609Z
UID:10018166-1870624800-1870635600@www.sayulitalife.com
SUMMARY:Mexican Wine Tasting & Live Jazz
DESCRIPTION:Every Wednesday & Saturday we feature\, Mexican Wines to surprise you with incredible cheese plates charcuterie and incredible vibes.\nAlso Mezcal\, tequila and non alcoholic wine and beer.
URL:https://www.sayulitalife.com/sayulero/calendar/mexican-wine-tasting-live-jazz/2029-04-11/
LOCATION:Sayulita Wine Shop\, Lado Norte\, C. Miramar 13\, Sayulita\, Nayarit\, Mexico
CATEGORIES:Art,Entertainment,Music
ATTACH;FMTTYPE=image/jpeg:https://res.cloudinary.com/sayulitalife/images/w_1920,h_2560,c_scale/w_1920/f_auto,q_auto/v1765410288/wordpress_assets/POSTER-JAZZ_43416d8304/POSTER-JAZZ_43416d8304.jpg?_i=AA
END:VEVENT
BEGIN:VEVENT
DTSTART;TZID=America/Mexico_City:20290415T180000
DTEND;TZID=America/Mexico_City:20290415T210000
DTSTAMP:20260419T104010
CREATED:20251211T172406Z
LAST-MODIFIED:20251211T172609Z
UID:10018167-1870970400-1870981200@www.sayulitalife.com
SUMMARY:Mexican Wine Tasting & Live Jazz
DESCRIPTION:Every Wednesday & Saturday we feature\, Mexican Wines to surprise you with incredible cheese plates charcuterie and incredible vibes.\nAlso Mezcal\, tequila and non alcoholic wine and beer.
URL:https://www.sayulitalife.com/sayulero/calendar/mexican-wine-tasting-live-jazz/2029-04-15/
LOCATION:Sayulita Wine Shop\, Lado Norte\, C. Miramar 13\, Sayulita\, Nayarit\, Mexico
CATEGORIES:Art,Entertainment,Music
ATTACH;FMTTYPE=image/jpeg:https://res.cloudinary.com/sayulitalife/images/w_1920,h_2560,c_scale/w_1920/f_auto,q_auto/v1765410288/wordpress_assets/POSTER-JAZZ_43416d8304/POSTER-JAZZ_43416d8304.jpg?_i=AA
END:VEVENT
BEGIN:VEVENT
DTSTART;TZID=America/Mexico_City:20290418T180000
DTEND;TZID=America/Mexico_City:20290418T210000
DTSTAMP:20260419T104010
CREATED:20251211T172406Z
LAST-MODIFIED:20251211T172609Z
UID:10018168-1871229600-1871240400@www.sayulitalife.com
SUMMARY:Mexican Wine Tasting & Live Jazz
DESCRIPTION:Every Wednesday & Saturday we feature\, Mexican Wines to surprise you with incredible cheese plates charcuterie and incredible vibes.\nAlso Mezcal\, tequila and non alcoholic wine and beer.
URL:https://www.sayulitalife.com/sayulero/calendar/mexican-wine-tasting-live-jazz/2029-04-18/
LOCATION:Sayulita Wine Shop\, Lado Norte\, C. Miramar 13\, Sayulita\, Nayarit\, Mexico
CATEGORIES:Art,Entertainment,Music
ATTACH;FMTTYPE=image/jpeg:https://res.cloudinary.com/sayulitalife/images/w_1920,h_2560,c_scale/w_1920/f_auto,q_auto/v1765410288/wordpress_assets/POSTER-JAZZ_43416d8304/POSTER-JAZZ_43416d8304.jpg?_i=AA
END:VEVENT
BEGIN:VEVENT
DTSTART;TZID=America/Mexico_City:20290422T180000
DTEND;TZID=America/Mexico_City:20290422T210000
DTSTAMP:20260419T104010
CREATED:20251211T172406Z
LAST-MODIFIED:20251211T172609Z
UID:10018169-1871575200-1871586000@www.sayulitalife.com
SUMMARY:Mexican Wine Tasting & Live Jazz
DESCRIPTION:Every Wednesday & Saturday we feature\, Mexican Wines to surprise you with incredible cheese plates charcuterie and incredible vibes.\nAlso Mezcal\, tequila and non alcoholic wine and beer.
URL:https://www.sayulitalife.com/sayulero/calendar/mexican-wine-tasting-live-jazz/2029-04-22/
LOCATION:Sayulita Wine Shop\, Lado Norte\, C. Miramar 13\, Sayulita\, Nayarit\, Mexico
CATEGORIES:Art,Entertainment,Music
ATTACH;FMTTYPE=image/jpeg:https://res.cloudinary.com/sayulitalife/images/w_1920,h_2560,c_scale/w_1920/f_auto,q_auto/v1765410288/wordpress_assets/POSTER-JAZZ_43416d8304/POSTER-JAZZ_43416d8304.jpg?_i=AA
END:VEVENT
BEGIN:VEVENT
DTSTART;TZID=America/Mexico_City:20290425T180000
DTEND;TZID=America/Mexico_City:20290425T210000
DTSTAMP:20260419T104010
CREATED:20251211T172406Z
LAST-MODIFIED:20251211T172609Z
UID:10018170-1871834400-1871845200@www.sayulitalife.com
SUMMARY:Mexican Wine Tasting & Live Jazz
DESCRIPTION:Every Wednesday & Saturday we feature\, Mexican Wines to surprise you with incredible cheese plates charcuterie and incredible vibes.\nAlso Mezcal\, tequila and non alcoholic wine and beer.
URL:https://www.sayulitalife.com/sayulero/calendar/mexican-wine-tasting-live-jazz/2029-04-25/
LOCATION:Sayulita Wine Shop\, Lado Norte\, C. Miramar 13\, Sayulita\, Nayarit\, Mexico
CATEGORIES:Art,Entertainment,Music
ATTACH;FMTTYPE=image/jpeg:https://res.cloudinary.com/sayulitalife/images/w_1920,h_2560,c_scale/w_1920/f_auto,q_auto/v1765410288/wordpress_assets/POSTER-JAZZ_43416d8304/POSTER-JAZZ_43416d8304.jpg?_i=AA
END:VEVENT
BEGIN:VEVENT
DTSTART;TZID=America/Mexico_City:20290429T180000
DTEND;TZID=America/Mexico_City:20290429T210000
DTSTAMP:20260419T104010
CREATED:20251211T172406Z
LAST-MODIFIED:20251211T172609Z
UID:10018171-1872180000-1872190800@www.sayulitalife.com
SUMMARY:Mexican Wine Tasting & Live Jazz
DESCRIPTION:Every Wednesday & Saturday we feature\, Mexican Wines to surprise you with incredible cheese plates charcuterie and incredible vibes.\nAlso Mezcal\, tequila and non alcoholic wine and beer.
URL:https://www.sayulitalife.com/sayulero/calendar/mexican-wine-tasting-live-jazz/2029-04-29/
LOCATION:Sayulita Wine Shop\, Lado Norte\, C. Miramar 13\, Sayulita\, Nayarit\, Mexico
CATEGORIES:Art,Entertainment,Music
ATTACH;FMTTYPE=image/jpeg:https://res.cloudinary.com/sayulitalife/images/w_1920,h_2560,c_scale/w_1920/f_auto,q_auto/v1765410288/wordpress_assets/POSTER-JAZZ_43416d8304/POSTER-JAZZ_43416d8304.jpg?_i=AA
END:VEVENT
BEGIN:VEVENT
DTSTART;TZID=America/Mexico_City:20290502T180000
DTEND;TZID=America/Mexico_City:20290502T210000
DTSTAMP:20260419T104010
CREATED:20251211T172406Z
LAST-MODIFIED:20251211T172609Z
UID:10018172-1872439200-1872450000@www.sayulitalife.com
SUMMARY:Mexican Wine Tasting & Live Jazz
DESCRIPTION:Every Wednesday & Saturday we feature\, Mexican Wines to surprise you with incredible cheese plates charcuterie and incredible vibes.\nAlso Mezcal\, tequila and non alcoholic wine and beer.
URL:https://www.sayulitalife.com/sayulero/calendar/mexican-wine-tasting-live-jazz/2029-05-02/
LOCATION:Sayulita Wine Shop\, Lado Norte\, C. Miramar 13\, Sayulita\, Nayarit\, Mexico
CATEGORIES:Art,Entertainment,Music
ATTACH;FMTTYPE=image/jpeg:https://res.cloudinary.com/sayulitalife/images/w_1920,h_2560,c_scale/w_1920/f_auto,q_auto/v1765410288/wordpress_assets/POSTER-JAZZ_43416d8304/POSTER-JAZZ_43416d8304.jpg?_i=AA
END:VEVENT
BEGIN:VEVENT
DTSTART;TZID=America/Mexico_City:20290506T180000
DTEND;TZID=America/Mexico_City:20290506T210000
DTSTAMP:20260419T104010
CREATED:20251211T172406Z
LAST-MODIFIED:20251211T172609Z
UID:10018173-1872784800-1872795600@www.sayulitalife.com
SUMMARY:Mexican Wine Tasting & Live Jazz
DESCRIPTION:Every Wednesday & Saturday we feature\, Mexican Wines to surprise you with incredible cheese plates charcuterie and incredible vibes.\nAlso Mezcal\, tequila and non alcoholic wine and beer.
URL:https://www.sayulitalife.com/sayulero/calendar/mexican-wine-tasting-live-jazz/2029-05-06/
LOCATION:Sayulita Wine Shop\, Lado Norte\, C. Miramar 13\, Sayulita\, Nayarit\, Mexico
CATEGORIES:Art,Entertainment,Music
ATTACH;FMTTYPE=image/jpeg:https://res.cloudinary.com/sayulitalife/images/w_1920,h_2560,c_scale/w_1920/f_auto,q_auto/v1765410288/wordpress_assets/POSTER-JAZZ_43416d8304/POSTER-JAZZ_43416d8304.jpg?_i=AA
END:VEVENT
BEGIN:VEVENT
DTSTART;TZID=America/Mexico_City:20290509T180000
DTEND;TZID=America/Mexico_City:20290509T210000
DTSTAMP:20260419T104010
CREATED:20251211T172406Z
LAST-MODIFIED:20251211T172609Z
UID:10018174-1873044000-1873054800@www.sayulitalife.com
SUMMARY:Mexican Wine Tasting & Live Jazz
DESCRIPTION:Every Wednesday & Saturday we feature\, Mexican Wines to surprise you with incredible cheese plates charcuterie and incredible vibes.\nAlso Mezcal\, tequila and non alcoholic wine and beer.
URL:https://www.sayulitalife.com/sayulero/calendar/mexican-wine-tasting-live-jazz/2029-05-09/
LOCATION:Sayulita Wine Shop\, Lado Norte\, C. Miramar 13\, Sayulita\, Nayarit\, Mexico
CATEGORIES:Art,Entertainment,Music
ATTACH;FMTTYPE=image/jpeg:https://res.cloudinary.com/sayulitalife/images/w_1920,h_2560,c_scale/w_1920/f_auto,q_auto/v1765410288/wordpress_assets/POSTER-JAZZ_43416d8304/POSTER-JAZZ_43416d8304.jpg?_i=AA
END:VEVENT
BEGIN:VEVENT
DTSTART;TZID=America/Mexico_City:20290513T180000
DTEND;TZID=America/Mexico_City:20290513T210000
DTSTAMP:20260419T104010
CREATED:20251211T172406Z
LAST-MODIFIED:20251211T172609Z
UID:10018175-1873389600-1873400400@www.sayulitalife.com
SUMMARY:Mexican Wine Tasting & Live Jazz
DESCRIPTION:Every Wednesday & Saturday we feature\, Mexican Wines to surprise you with incredible cheese plates charcuterie and incredible vibes.\nAlso Mezcal\, tequila and non alcoholic wine and beer.
URL:https://www.sayulitalife.com/sayulero/calendar/mexican-wine-tasting-live-jazz/2029-05-13/
LOCATION:Sayulita Wine Shop\, Lado Norte\, C. Miramar 13\, Sayulita\, Nayarit\, Mexico
CATEGORIES:Art,Entertainment,Music
ATTACH;FMTTYPE=image/jpeg:https://res.cloudinary.com/sayulitalife/images/w_1920,h_2560,c_scale/w_1920/f_auto,q_auto/v1765410288/wordpress_assets/POSTER-JAZZ_43416d8304/POSTER-JAZZ_43416d8304.jpg?_i=AA
END:VEVENT
BEGIN:VEVENT
DTSTART;TZID=America/Mexico_City:20290516T180000
DTEND;TZID=America/Mexico_City:20290516T210000
DTSTAMP:20260419T104010
CREATED:20251211T172406Z
LAST-MODIFIED:20251211T172609Z
UID:10018176-1873648800-1873659600@www.sayulitalife.com
SUMMARY:Mexican Wine Tasting & Live Jazz
DESCRIPTION:Every Wednesday & Saturday we feature\, Mexican Wines to surprise you with incredible cheese plates charcuterie and incredible vibes.\nAlso Mezcal\, tequila and non alcoholic wine and beer.
URL:https://www.sayulitalife.com/sayulero/calendar/mexican-wine-tasting-live-jazz/2029-05-16/
LOCATION:Sayulita Wine Shop\, Lado Norte\, C. Miramar 13\, Sayulita\, Nayarit\, Mexico
CATEGORIES:Art,Entertainment,Music
ATTACH;FMTTYPE=image/jpeg:https://res.cloudinary.com/sayulitalife/images/w_1920,h_2560,c_scale/w_1920/f_auto,q_auto/v1765410288/wordpress_assets/POSTER-JAZZ_43416d8304/POSTER-JAZZ_43416d8304.jpg?_i=AA
END:VEVENT
BEGIN:VEVENT
DTSTART;TZID=America/Mexico_City:20290520T180000
DTEND;TZID=America/Mexico_City:20290520T210000
DTSTAMP:20260419T104010
CREATED:20251211T172406Z
LAST-MODIFIED:20251211T172609Z
UID:10018177-1873994400-1874005200@www.sayulitalife.com
SUMMARY:Mexican Wine Tasting & Live Jazz
DESCRIPTION:Every Wednesday & Saturday we feature\, Mexican Wines to surprise you with incredible cheese plates charcuterie and incredible vibes.\nAlso Mezcal\, tequila and non alcoholic wine and beer.
URL:https://www.sayulitalife.com/sayulero/calendar/mexican-wine-tasting-live-jazz/2029-05-20/
LOCATION:Sayulita Wine Shop\, Lado Norte\, C. Miramar 13\, Sayulita\, Nayarit\, Mexico
CATEGORIES:Art,Entertainment,Music
ATTACH;FMTTYPE=image/jpeg:https://res.cloudinary.com/sayulitalife/images/w_1920,h_2560,c_scale/w_1920/f_auto,q_auto/v1765410288/wordpress_assets/POSTER-JAZZ_43416d8304/POSTER-JAZZ_43416d8304.jpg?_i=AA
END:VEVENT
BEGIN:VEVENT
DTSTART;TZID=America/Mexico_City:20290523T180000
DTEND;TZID=America/Mexico_City:20290523T210000
DTSTAMP:20260419T104010
CREATED:20251211T172406Z
LAST-MODIFIED:20251211T172609Z
UID:10018178-1874253600-1874264400@www.sayulitalife.com
SUMMARY:Mexican Wine Tasting & Live Jazz
DESCRIPTION:Every Wednesday & Saturday we feature\, Mexican Wines to surprise you with incredible cheese plates charcuterie and incredible vibes.\nAlso Mezcal\, tequila and non alcoholic wine and beer.
URL:https://www.sayulitalife.com/sayulero/calendar/mexican-wine-tasting-live-jazz/2029-05-23/
LOCATION:Sayulita Wine Shop\, Lado Norte\, C. Miramar 13\, Sayulita\, Nayarit\, Mexico
CATEGORIES:Art,Entertainment,Music
ATTACH;FMTTYPE=image/jpeg:https://res.cloudinary.com/sayulitalife/images/w_1920,h_2560,c_scale/w_1920/f_auto,q_auto/v1765410288/wordpress_assets/POSTER-JAZZ_43416d8304/POSTER-JAZZ_43416d8304.jpg?_i=AA
END:VEVENT
BEGIN:VEVENT
DTSTART;TZID=America/Mexico_City:20290527T180000
DTEND;TZID=America/Mexico_City:20290527T210000
DTSTAMP:20260419T104010
CREATED:20251211T172406Z
LAST-MODIFIED:20251211T172609Z
UID:10018179-1874599200-1874610000@www.sayulitalife.com
SUMMARY:Mexican Wine Tasting & Live Jazz
DESCRIPTION:Every Wednesday & Saturday we feature\, Mexican Wines to surprise you with incredible cheese plates charcuterie and incredible vibes.\nAlso Mezcal\, tequila and non alcoholic wine and beer.
URL:https://www.sayulitalife.com/sayulero/calendar/mexican-wine-tasting-live-jazz/2029-05-27/
LOCATION:Sayulita Wine Shop\, Lado Norte\, C. Miramar 13\, Sayulita\, Nayarit\, Mexico
CATEGORIES:Art,Entertainment,Music
ATTACH;FMTTYPE=image/jpeg:https://res.cloudinary.com/sayulitalife/images/w_1920,h_2560,c_scale/w_1920/f_auto,q_auto/v1765410288/wordpress_assets/POSTER-JAZZ_43416d8304/POSTER-JAZZ_43416d8304.jpg?_i=AA
END:VEVENT
BEGIN:VEVENT
DTSTART;TZID=America/Mexico_City:20290530T180000
DTEND;TZID=America/Mexico_City:20290530T210000
DTSTAMP:20260419T104010
CREATED:20251211T172406Z
LAST-MODIFIED:20251211T172609Z
UID:10018180-1874858400-1874869200@www.sayulitalife.com
SUMMARY:Mexican Wine Tasting & Live Jazz
DESCRIPTION:Every Wednesday & Saturday we feature\, Mexican Wines to surprise you with incredible cheese plates charcuterie and incredible vibes.\nAlso Mezcal\, tequila and non alcoholic wine and beer.
URL:https://www.sayulitalife.com/sayulero/calendar/mexican-wine-tasting-live-jazz/2029-05-30/
LOCATION:Sayulita Wine Shop\, Lado Norte\, C. Miramar 13\, Sayulita\, Nayarit\, Mexico
CATEGORIES:Art,Entertainment,Music
ATTACH;FMTTYPE=image/jpeg:https://res.cloudinary.com/sayulitalife/images/w_1920,h_2560,c_scale/w_1920/f_auto,q_auto/v1765410288/wordpress_assets/POSTER-JAZZ_43416d8304/POSTER-JAZZ_43416d8304.jpg?_i=AA
END:VEVENT
BEGIN:VEVENT
DTSTART;TZID=America/Mexico_City:20290603T180000
DTEND;TZID=America/Mexico_City:20290603T210000
DTSTAMP:20260419T104010
CREATED:20251211T172406Z
LAST-MODIFIED:20251211T172609Z
UID:10018181-1875204000-1875214800@www.sayulitalife.com
SUMMARY:Mexican Wine Tasting & Live Jazz
DESCRIPTION:Every Wednesday & Saturday we feature\, Mexican Wines to surprise you with incredible cheese plates charcuterie and incredible vibes.\nAlso Mezcal\, tequila and non alcoholic wine and beer.
URL:https://www.sayulitalife.com/sayulero/calendar/mexican-wine-tasting-live-jazz/2029-06-03/
LOCATION:Sayulita Wine Shop\, Lado Norte\, C. Miramar 13\, Sayulita\, Nayarit\, Mexico
CATEGORIES:Art,Entertainment,Music
ATTACH;FMTTYPE=image/jpeg:https://res.cloudinary.com/sayulitalife/images/w_1920,h_2560,c_scale/w_1920/f_auto,q_auto/v1765410288/wordpress_assets/POSTER-JAZZ_43416d8304/POSTER-JAZZ_43416d8304.jpg?_i=AA
END:VEVENT
END:VCALENDAR