BEGIN:VCALENDAR
VERSION:2.0
PRODID:-//El Sayulero - ECPv6.13.1//NONSGML v1.0//EN
CALSCALE:GREGORIAN
METHOD:PUBLISH
X-ORIGINAL-URL:https://www.sayulitalife.com/sayulero
X-WR-CALDESC:Events for El Sayulero
REFRESH-INTERVAL;VALUE=DURATION:PT1H
X-Robots-Tag:noindex
X-PUBLISHED-TTL:PT1H
BEGIN:VTIMEZONE
TZID:America/Mexico_City
BEGIN:STANDARD
TZOFFSETFROM:-0600
TZOFFSETTO:-0600
TZNAME:CST
DTSTART:20290101T000000
END:STANDARD
END:VTIMEZONE
BEGIN:VEVENT
DTSTART;TZID=America/Mexico_City:20290820T190000
DTEND;TZID=America/Mexico_City:20290820T220000
DTSTAMP:20260419T104126
CREATED:20250811T210924Z
LAST-MODIFIED:20260220T222235Z
UID:10010746-1881946800-1881957600@www.sayulitalife.com
SUMMARY:Don Pedros Salsa Night
DESCRIPTION:Join us for Salsa Night\, every Monday at 8:00 PM during the season (Oct – June). \nCome at 7:00 PM for salsa lessons.
URL:https://www.sayulitalife.com/sayulero/calendar/don-pedros-salsa-night/2029-08-20/
LOCATION:Don Pedros Restaurant\, C. Marlín 2\, Sayulita\, Nayarit\, 63734\, Mexico
CATEGORIES:Community,Music
ATTACH;FMTTYPE=image/png:https://res.cloudinary.com/sayulitalife/images/w_1920/f_auto,q_auto/v1754946566/wordpress_assets/15f3b634-b643-2178-a2a8-112940b8af26_37989914aa/15f3b634-b643-2178-a2a8-112940b8af26_37989914aa.png?_i=AA
END:VEVENT
BEGIN:VEVENT
DTSTART;TZID=America/Mexico_City:20290822T180000
DTEND;TZID=America/Mexico_City:20290822T210000
DTSTAMP:20260419T104126
CREATED:20251211T172406Z
LAST-MODIFIED:20251211T172609Z
UID:10018204-1882116000-1882126800@www.sayulitalife.com
SUMMARY:Mexican Wine Tasting & Live Jazz
DESCRIPTION:Every Wednesday & Saturday we feature\, Mexican Wines to surprise you with incredible cheese plates charcuterie and incredible vibes.\nAlso Mezcal\, tequila and non alcoholic wine and beer.
URL:https://www.sayulitalife.com/sayulero/calendar/mexican-wine-tasting-live-jazz/2029-08-22/
LOCATION:Sayulita Wine Shop\, Lado Norte\, C. Miramar 13\, Sayulita\, Nayarit\, Mexico
CATEGORIES:Art,Entertainment,Music
ATTACH;FMTTYPE=image/jpeg:https://res.cloudinary.com/sayulitalife/images/w_1920,h_2560,c_scale/w_1920/f_auto,q_auto/v1765410288/wordpress_assets/POSTER-JAZZ_43416d8304/POSTER-JAZZ_43416d8304.jpg?_i=AA
END:VEVENT
BEGIN:VEVENT
DTSTART;TZID=America/Mexico_City:20290826T180000
DTEND;TZID=America/Mexico_City:20290826T210000
DTSTAMP:20260419T104126
CREATED:20251211T172406Z
LAST-MODIFIED:20251211T172609Z
UID:10018205-1882461600-1882472400@www.sayulitalife.com
SUMMARY:Mexican Wine Tasting & Live Jazz
DESCRIPTION:Every Wednesday & Saturday we feature\, Mexican Wines to surprise you with incredible cheese plates charcuterie and incredible vibes.\nAlso Mezcal\, tequila and non alcoholic wine and beer.
URL:https://www.sayulitalife.com/sayulero/calendar/mexican-wine-tasting-live-jazz/2029-08-26/
LOCATION:Sayulita Wine Shop\, Lado Norte\, C. Miramar 13\, Sayulita\, Nayarit\, Mexico
CATEGORIES:Art,Entertainment,Music
ATTACH;FMTTYPE=image/jpeg:https://res.cloudinary.com/sayulitalife/images/w_1920,h_2560,c_scale/w_1920/f_auto,q_auto/v1765410288/wordpress_assets/POSTER-JAZZ_43416d8304/POSTER-JAZZ_43416d8304.jpg?_i=AA
END:VEVENT
BEGIN:VEVENT
DTSTART;TZID=America/Mexico_City:20290827T190000
DTEND;TZID=America/Mexico_City:20290827T220000
DTSTAMP:20260419T104126
CREATED:20250811T210924Z
LAST-MODIFIED:20260220T222235Z
UID:10010747-1882551600-1882562400@www.sayulitalife.com
SUMMARY:Don Pedros Salsa Night
DESCRIPTION:Join us for Salsa Night\, every Monday at 8:00 PM during the season (Oct – June). \nCome at 7:00 PM for salsa lessons.
URL:https://www.sayulitalife.com/sayulero/calendar/don-pedros-salsa-night/2029-08-27/
LOCATION:Don Pedros Restaurant\, C. Marlín 2\, Sayulita\, Nayarit\, 63734\, Mexico
CATEGORIES:Community,Music
ATTACH;FMTTYPE=image/png:https://res.cloudinary.com/sayulitalife/images/w_1920/f_auto,q_auto/v1754946566/wordpress_assets/15f3b634-b643-2178-a2a8-112940b8af26_37989914aa/15f3b634-b643-2178-a2a8-112940b8af26_37989914aa.png?_i=AA
END:VEVENT
BEGIN:VEVENT
DTSTART;TZID=America/Mexico_City:20290829T180000
DTEND;TZID=America/Mexico_City:20290829T210000
DTSTAMP:20260419T104126
CREATED:20251211T172406Z
LAST-MODIFIED:20251211T172609Z
UID:10018206-1882720800-1882731600@www.sayulitalife.com
SUMMARY:Mexican Wine Tasting & Live Jazz
DESCRIPTION:Every Wednesday & Saturday we feature\, Mexican Wines to surprise you with incredible cheese plates charcuterie and incredible vibes.\nAlso Mezcal\, tequila and non alcoholic wine and beer.
URL:https://www.sayulitalife.com/sayulero/calendar/mexican-wine-tasting-live-jazz/2029-08-29/
LOCATION:Sayulita Wine Shop\, Lado Norte\, C. Miramar 13\, Sayulita\, Nayarit\, Mexico
CATEGORIES:Art,Entertainment,Music
ATTACH;FMTTYPE=image/jpeg:https://res.cloudinary.com/sayulitalife/images/w_1920,h_2560,c_scale/w_1920/f_auto,q_auto/v1765410288/wordpress_assets/POSTER-JAZZ_43416d8304/POSTER-JAZZ_43416d8304.jpg?_i=AA
END:VEVENT
BEGIN:VEVENT
DTSTART;TZID=America/Mexico_City:20290902T180000
DTEND;TZID=America/Mexico_City:20290902T210000
DTSTAMP:20260419T104126
CREATED:20251211T172406Z
LAST-MODIFIED:20251211T172609Z
UID:10018207-1883066400-1883077200@www.sayulitalife.com
SUMMARY:Mexican Wine Tasting & Live Jazz
DESCRIPTION:Every Wednesday & Saturday we feature\, Mexican Wines to surprise you with incredible cheese plates charcuterie and incredible vibes.\nAlso Mezcal\, tequila and non alcoholic wine and beer.
URL:https://www.sayulitalife.com/sayulero/calendar/mexican-wine-tasting-live-jazz/2029-09-02/
LOCATION:Sayulita Wine Shop\, Lado Norte\, C. Miramar 13\, Sayulita\, Nayarit\, Mexico
CATEGORIES:Art,Entertainment,Music
ATTACH;FMTTYPE=image/jpeg:https://res.cloudinary.com/sayulitalife/images/w_1920,h_2560,c_scale/w_1920/f_auto,q_auto/v1765410288/wordpress_assets/POSTER-JAZZ_43416d8304/POSTER-JAZZ_43416d8304.jpg?_i=AA
END:VEVENT
BEGIN:VEVENT
DTSTART;TZID=America/Mexico_City:20290903T190000
DTEND;TZID=America/Mexico_City:20290903T220000
DTSTAMP:20260419T104126
CREATED:20250811T210924Z
LAST-MODIFIED:20260220T222235Z
UID:10010748-1883156400-1883167200@www.sayulitalife.com
SUMMARY:Don Pedros Salsa Night
DESCRIPTION:Join us for Salsa Night\, every Monday at 8:00 PM during the season (Oct – June). \nCome at 7:00 PM for salsa lessons.
URL:https://www.sayulitalife.com/sayulero/calendar/don-pedros-salsa-night/2029-09-03/
LOCATION:Don Pedros Restaurant\, C. Marlín 2\, Sayulita\, Nayarit\, 63734\, Mexico
CATEGORIES:Community,Music
ATTACH;FMTTYPE=image/png:https://res.cloudinary.com/sayulitalife/images/w_1920/f_auto,q_auto/v1754946566/wordpress_assets/15f3b634-b643-2178-a2a8-112940b8af26_37989914aa/15f3b634-b643-2178-a2a8-112940b8af26_37989914aa.png?_i=AA
END:VEVENT
BEGIN:VEVENT
DTSTART;TZID=America/Mexico_City:20290905T180000
DTEND;TZID=America/Mexico_City:20290905T210000
DTSTAMP:20260419T104126
CREATED:20251211T172406Z
LAST-MODIFIED:20251211T172609Z
UID:10018208-1883325600-1883336400@www.sayulitalife.com
SUMMARY:Mexican Wine Tasting & Live Jazz
DESCRIPTION:Every Wednesday & Saturday we feature\, Mexican Wines to surprise you with incredible cheese plates charcuterie and incredible vibes.\nAlso Mezcal\, tequila and non alcoholic wine and beer.
URL:https://www.sayulitalife.com/sayulero/calendar/mexican-wine-tasting-live-jazz/2029-09-05/
LOCATION:Sayulita Wine Shop\, Lado Norte\, C. Miramar 13\, Sayulita\, Nayarit\, Mexico
CATEGORIES:Art,Entertainment,Music
ATTACH;FMTTYPE=image/jpeg:https://res.cloudinary.com/sayulitalife/images/w_1920,h_2560,c_scale/w_1920/f_auto,q_auto/v1765410288/wordpress_assets/POSTER-JAZZ_43416d8304/POSTER-JAZZ_43416d8304.jpg?_i=AA
END:VEVENT
BEGIN:VEVENT
DTSTART;TZID=America/Mexico_City:20290909T180000
DTEND;TZID=America/Mexico_City:20290909T210000
DTSTAMP:20260419T104127
CREATED:20251211T172406Z
LAST-MODIFIED:20251211T172609Z
UID:10018209-1883671200-1883682000@www.sayulitalife.com
SUMMARY:Mexican Wine Tasting & Live Jazz
DESCRIPTION:Every Wednesday & Saturday we feature\, Mexican Wines to surprise you with incredible cheese plates charcuterie and incredible vibes.\nAlso Mezcal\, tequila and non alcoholic wine and beer.
URL:https://www.sayulitalife.com/sayulero/calendar/mexican-wine-tasting-live-jazz/2029-09-09/
LOCATION:Sayulita Wine Shop\, Lado Norte\, C. Miramar 13\, Sayulita\, Nayarit\, Mexico
CATEGORIES:Art,Entertainment,Music
ATTACH;FMTTYPE=image/jpeg:https://res.cloudinary.com/sayulitalife/images/w_1920,h_2560,c_scale/w_1920/f_auto,q_auto/v1765410288/wordpress_assets/POSTER-JAZZ_43416d8304/POSTER-JAZZ_43416d8304.jpg?_i=AA
END:VEVENT
BEGIN:VEVENT
DTSTART;TZID=America/Mexico_City:20290910T190000
DTEND;TZID=America/Mexico_City:20290910T220000
DTSTAMP:20260419T104127
CREATED:20250811T210924Z
LAST-MODIFIED:20260220T222235Z
UID:10010749-1883761200-1883772000@www.sayulitalife.com
SUMMARY:Don Pedros Salsa Night
DESCRIPTION:Join us for Salsa Night\, every Monday at 8:00 PM during the season (Oct – June). \nCome at 7:00 PM for salsa lessons.
URL:https://www.sayulitalife.com/sayulero/calendar/don-pedros-salsa-night/2029-09-10/
LOCATION:Don Pedros Restaurant\, C. Marlín 2\, Sayulita\, Nayarit\, 63734\, Mexico
CATEGORIES:Community,Music
ATTACH;FMTTYPE=image/png:https://res.cloudinary.com/sayulitalife/images/w_1920/f_auto,q_auto/v1754946566/wordpress_assets/15f3b634-b643-2178-a2a8-112940b8af26_37989914aa/15f3b634-b643-2178-a2a8-112940b8af26_37989914aa.png?_i=AA
END:VEVENT
BEGIN:VEVENT
DTSTART;TZID=America/Mexico_City:20290912T180000
DTEND;TZID=America/Mexico_City:20290912T210000
DTSTAMP:20260419T104127
CREATED:20251211T172406Z
LAST-MODIFIED:20251211T172609Z
UID:10018210-1883930400-1883941200@www.sayulitalife.com
SUMMARY:Mexican Wine Tasting & Live Jazz
DESCRIPTION:Every Wednesday & Saturday we feature\, Mexican Wines to surprise you with incredible cheese plates charcuterie and incredible vibes.\nAlso Mezcal\, tequila and non alcoholic wine and beer.
URL:https://www.sayulitalife.com/sayulero/calendar/mexican-wine-tasting-live-jazz/2029-09-12/
LOCATION:Sayulita Wine Shop\, Lado Norte\, C. Miramar 13\, Sayulita\, Nayarit\, Mexico
CATEGORIES:Art,Entertainment,Music
ATTACH;FMTTYPE=image/jpeg:https://res.cloudinary.com/sayulitalife/images/w_1920,h_2560,c_scale/w_1920/f_auto,q_auto/v1765410288/wordpress_assets/POSTER-JAZZ_43416d8304/POSTER-JAZZ_43416d8304.jpg?_i=AA
END:VEVENT
BEGIN:VEVENT
DTSTART;TZID=America/Mexico_City:20290916T180000
DTEND;TZID=America/Mexico_City:20290916T210000
DTSTAMP:20260419T104127
CREATED:20251211T172406Z
LAST-MODIFIED:20251211T172609Z
UID:10018211-1884276000-1884286800@www.sayulitalife.com
SUMMARY:Mexican Wine Tasting & Live Jazz
DESCRIPTION:Every Wednesday & Saturday we feature\, Mexican Wines to surprise you with incredible cheese plates charcuterie and incredible vibes.\nAlso Mezcal\, tequila and non alcoholic wine and beer.
URL:https://www.sayulitalife.com/sayulero/calendar/mexican-wine-tasting-live-jazz/2029-09-16/
LOCATION:Sayulita Wine Shop\, Lado Norte\, C. Miramar 13\, Sayulita\, Nayarit\, Mexico
CATEGORIES:Art,Entertainment,Music
ATTACH;FMTTYPE=image/jpeg:https://res.cloudinary.com/sayulitalife/images/w_1920,h_2560,c_scale/w_1920/f_auto,q_auto/v1765410288/wordpress_assets/POSTER-JAZZ_43416d8304/POSTER-JAZZ_43416d8304.jpg?_i=AA
END:VEVENT
BEGIN:VEVENT
DTSTART;TZID=America/Mexico_City:20290917T190000
DTEND;TZID=America/Mexico_City:20290917T220000
DTSTAMP:20260419T104127
CREATED:20250811T210924Z
LAST-MODIFIED:20260220T222235Z
UID:10010750-1884366000-1884376800@www.sayulitalife.com
SUMMARY:Don Pedros Salsa Night
DESCRIPTION:Join us for Salsa Night\, every Monday at 8:00 PM during the season (Oct – June). \nCome at 7:00 PM for salsa lessons.
URL:https://www.sayulitalife.com/sayulero/calendar/don-pedros-salsa-night/2029-09-17/
LOCATION:Don Pedros Restaurant\, C. Marlín 2\, Sayulita\, Nayarit\, 63734\, Mexico
CATEGORIES:Community,Music
ATTACH;FMTTYPE=image/png:https://res.cloudinary.com/sayulitalife/images/w_1920/f_auto,q_auto/v1754946566/wordpress_assets/15f3b634-b643-2178-a2a8-112940b8af26_37989914aa/15f3b634-b643-2178-a2a8-112940b8af26_37989914aa.png?_i=AA
END:VEVENT
BEGIN:VEVENT
DTSTART;TZID=America/Mexico_City:20290919T180000
DTEND;TZID=America/Mexico_City:20290919T210000
DTSTAMP:20260419T104127
CREATED:20251211T172406Z
LAST-MODIFIED:20251211T172609Z
UID:10018212-1884535200-1884546000@www.sayulitalife.com
SUMMARY:Mexican Wine Tasting & Live Jazz
DESCRIPTION:Every Wednesday & Saturday we feature\, Mexican Wines to surprise you with incredible cheese plates charcuterie and incredible vibes.\nAlso Mezcal\, tequila and non alcoholic wine and beer.
URL:https://www.sayulitalife.com/sayulero/calendar/mexican-wine-tasting-live-jazz/2029-09-19/
LOCATION:Sayulita Wine Shop\, Lado Norte\, C. Miramar 13\, Sayulita\, Nayarit\, Mexico
CATEGORIES:Art,Entertainment,Music
ATTACH;FMTTYPE=image/jpeg:https://res.cloudinary.com/sayulitalife/images/w_1920,h_2560,c_scale/w_1920/f_auto,q_auto/v1765410288/wordpress_assets/POSTER-JAZZ_43416d8304/POSTER-JAZZ_43416d8304.jpg?_i=AA
END:VEVENT
BEGIN:VEVENT
DTSTART;TZID=America/Mexico_City:20290923T180000
DTEND;TZID=America/Mexico_City:20290923T210000
DTSTAMP:20260419T104127
CREATED:20251211T172406Z
LAST-MODIFIED:20251211T172609Z
UID:10018213-1884880800-1884891600@www.sayulitalife.com
SUMMARY:Mexican Wine Tasting & Live Jazz
DESCRIPTION:Every Wednesday & Saturday we feature\, Mexican Wines to surprise you with incredible cheese plates charcuterie and incredible vibes.\nAlso Mezcal\, tequila and non alcoholic wine and beer.
URL:https://www.sayulitalife.com/sayulero/calendar/mexican-wine-tasting-live-jazz/2029-09-23/
LOCATION:Sayulita Wine Shop\, Lado Norte\, C. Miramar 13\, Sayulita\, Nayarit\, Mexico
CATEGORIES:Art,Entertainment,Music
ATTACH;FMTTYPE=image/jpeg:https://res.cloudinary.com/sayulitalife/images/w_1920,h_2560,c_scale/w_1920/f_auto,q_auto/v1765410288/wordpress_assets/POSTER-JAZZ_43416d8304/POSTER-JAZZ_43416d8304.jpg?_i=AA
END:VEVENT
BEGIN:VEVENT
DTSTART;TZID=America/Mexico_City:20290924T190000
DTEND;TZID=America/Mexico_City:20290924T220000
DTSTAMP:20260419T104127
CREATED:20250811T210924Z
LAST-MODIFIED:20260220T222235Z
UID:10010751-1884970800-1884981600@www.sayulitalife.com
SUMMARY:Don Pedros Salsa Night
DESCRIPTION:Join us for Salsa Night\, every Monday at 8:00 PM during the season (Oct – June). \nCome at 7:00 PM for salsa lessons.
URL:https://www.sayulitalife.com/sayulero/calendar/don-pedros-salsa-night/2029-09-24/
LOCATION:Don Pedros Restaurant\, C. Marlín 2\, Sayulita\, Nayarit\, 63734\, Mexico
CATEGORIES:Community,Music
ATTACH;FMTTYPE=image/png:https://res.cloudinary.com/sayulitalife/images/w_1920/f_auto,q_auto/v1754946566/wordpress_assets/15f3b634-b643-2178-a2a8-112940b8af26_37989914aa/15f3b634-b643-2178-a2a8-112940b8af26_37989914aa.png?_i=AA
END:VEVENT
BEGIN:VEVENT
DTSTART;TZID=America/Mexico_City:20290926T180000
DTEND;TZID=America/Mexico_City:20290926T210000
DTSTAMP:20260419T104127
CREATED:20251211T172406Z
LAST-MODIFIED:20251211T172609Z
UID:10018214-1885140000-1885150800@www.sayulitalife.com
SUMMARY:Mexican Wine Tasting & Live Jazz
DESCRIPTION:Every Wednesday & Saturday we feature\, Mexican Wines to surprise you with incredible cheese plates charcuterie and incredible vibes.\nAlso Mezcal\, tequila and non alcoholic wine and beer.
URL:https://www.sayulitalife.com/sayulero/calendar/mexican-wine-tasting-live-jazz/2029-09-26/
LOCATION:Sayulita Wine Shop\, Lado Norte\, C. Miramar 13\, Sayulita\, Nayarit\, Mexico
CATEGORIES:Art,Entertainment,Music
ATTACH;FMTTYPE=image/jpeg:https://res.cloudinary.com/sayulitalife/images/w_1920,h_2560,c_scale/w_1920/f_auto,q_auto/v1765410288/wordpress_assets/POSTER-JAZZ_43416d8304/POSTER-JAZZ_43416d8304.jpg?_i=AA
END:VEVENT
BEGIN:VEVENT
DTSTART;TZID=America/Mexico_City:20290930T180000
DTEND;TZID=America/Mexico_City:20290930T210000
DTSTAMP:20260419T104127
CREATED:20251211T172406Z
LAST-MODIFIED:20251211T172609Z
UID:10018215-1885485600-1885496400@www.sayulitalife.com
SUMMARY:Mexican Wine Tasting & Live Jazz
DESCRIPTION:Every Wednesday & Saturday we feature\, Mexican Wines to surprise you with incredible cheese plates charcuterie and incredible vibes.\nAlso Mezcal\, tequila and non alcoholic wine and beer.
URL:https://www.sayulitalife.com/sayulero/calendar/mexican-wine-tasting-live-jazz/2029-09-30/
LOCATION:Sayulita Wine Shop\, Lado Norte\, C. Miramar 13\, Sayulita\, Nayarit\, Mexico
CATEGORIES:Art,Entertainment,Music
ATTACH;FMTTYPE=image/jpeg:https://res.cloudinary.com/sayulitalife/images/w_1920,h_2560,c_scale/w_1920/f_auto,q_auto/v1765410288/wordpress_assets/POSTER-JAZZ_43416d8304/POSTER-JAZZ_43416d8304.jpg?_i=AA
END:VEVENT
BEGIN:VEVENT
DTSTART;TZID=America/Mexico_City:20291001T190000
DTEND;TZID=America/Mexico_City:20291001T220000
DTSTAMP:20260419T104127
CREATED:20250811T210924Z
LAST-MODIFIED:20260220T222235Z
UID:10010752-1885575600-1885586400@www.sayulitalife.com
SUMMARY:Don Pedros Salsa Night
DESCRIPTION:Join us for Salsa Night\, every Monday at 8:00 PM during the season (Oct – June). \nCome at 7:00 PM for salsa lessons.
URL:https://www.sayulitalife.com/sayulero/calendar/don-pedros-salsa-night/2029-10-01/
LOCATION:Don Pedros Restaurant\, C. Marlín 2\, Sayulita\, Nayarit\, 63734\, Mexico
CATEGORIES:Community,Music
ATTACH;FMTTYPE=image/png:https://res.cloudinary.com/sayulitalife/images/w_1920/f_auto,q_auto/v1754946566/wordpress_assets/15f3b634-b643-2178-a2a8-112940b8af26_37989914aa/15f3b634-b643-2178-a2a8-112940b8af26_37989914aa.png?_i=AA
END:VEVENT
BEGIN:VEVENT
DTSTART;TZID=America/Mexico_City:20291003T180000
DTEND;TZID=America/Mexico_City:20291003T210000
DTSTAMP:20260419T104127
CREATED:20251211T172406Z
LAST-MODIFIED:20251211T172609Z
UID:10018216-1885744800-1885755600@www.sayulitalife.com
SUMMARY:Mexican Wine Tasting & Live Jazz
DESCRIPTION:Every Wednesday & Saturday we feature\, Mexican Wines to surprise you with incredible cheese plates charcuterie and incredible vibes.\nAlso Mezcal\, tequila and non alcoholic wine and beer.
URL:https://www.sayulitalife.com/sayulero/calendar/mexican-wine-tasting-live-jazz/2029-10-03/
LOCATION:Sayulita Wine Shop\, Lado Norte\, C. Miramar 13\, Sayulita\, Nayarit\, Mexico
CATEGORIES:Art,Entertainment,Music
ATTACH;FMTTYPE=image/jpeg:https://res.cloudinary.com/sayulitalife/images/w_1920,h_2560,c_scale/w_1920/f_auto,q_auto/v1765410288/wordpress_assets/POSTER-JAZZ_43416d8304/POSTER-JAZZ_43416d8304.jpg?_i=AA
END:VEVENT
BEGIN:VEVENT
DTSTART;TZID=America/Mexico_City:20291007T180000
DTEND;TZID=America/Mexico_City:20291007T210000
DTSTAMP:20260419T104127
CREATED:20251211T172406Z
LAST-MODIFIED:20251211T172609Z
UID:10018217-1886090400-1886101200@www.sayulitalife.com
SUMMARY:Mexican Wine Tasting & Live Jazz
DESCRIPTION:Every Wednesday & Saturday we feature\, Mexican Wines to surprise you with incredible cheese plates charcuterie and incredible vibes.\nAlso Mezcal\, tequila and non alcoholic wine and beer.
URL:https://www.sayulitalife.com/sayulero/calendar/mexican-wine-tasting-live-jazz/2029-10-07/
LOCATION:Sayulita Wine Shop\, Lado Norte\, C. Miramar 13\, Sayulita\, Nayarit\, Mexico
CATEGORIES:Art,Entertainment,Music
ATTACH;FMTTYPE=image/jpeg:https://res.cloudinary.com/sayulitalife/images/w_1920,h_2560,c_scale/w_1920/f_auto,q_auto/v1765410288/wordpress_assets/POSTER-JAZZ_43416d8304/POSTER-JAZZ_43416d8304.jpg?_i=AA
END:VEVENT
BEGIN:VEVENT
DTSTART;TZID=America/Mexico_City:20291008T190000
DTEND;TZID=America/Mexico_City:20291008T220000
DTSTAMP:20260419T104127
CREATED:20250811T210924Z
LAST-MODIFIED:20260220T222235Z
UID:10010753-1886180400-1886191200@www.sayulitalife.com
SUMMARY:Don Pedros Salsa Night
DESCRIPTION:Join us for Salsa Night\, every Monday at 8:00 PM during the season (Oct – June). \nCome at 7:00 PM for salsa lessons.
URL:https://www.sayulitalife.com/sayulero/calendar/don-pedros-salsa-night/2029-10-08/
LOCATION:Don Pedros Restaurant\, C. Marlín 2\, Sayulita\, Nayarit\, 63734\, Mexico
CATEGORIES:Community,Music
ATTACH;FMTTYPE=image/png:https://res.cloudinary.com/sayulitalife/images/w_1920/f_auto,q_auto/v1754946566/wordpress_assets/15f3b634-b643-2178-a2a8-112940b8af26_37989914aa/15f3b634-b643-2178-a2a8-112940b8af26_37989914aa.png?_i=AA
END:VEVENT
BEGIN:VEVENT
DTSTART;TZID=America/Mexico_City:20291010T180000
DTEND;TZID=America/Mexico_City:20291010T210000
DTSTAMP:20260419T104127
CREATED:20251211T172406Z
LAST-MODIFIED:20251211T172609Z
UID:10018218-1886349600-1886360400@www.sayulitalife.com
SUMMARY:Mexican Wine Tasting & Live Jazz
DESCRIPTION:Every Wednesday & Saturday we feature\, Mexican Wines to surprise you with incredible cheese plates charcuterie and incredible vibes.\nAlso Mezcal\, tequila and non alcoholic wine and beer.
URL:https://www.sayulitalife.com/sayulero/calendar/mexican-wine-tasting-live-jazz/2029-10-10/
LOCATION:Sayulita Wine Shop\, Lado Norte\, C. Miramar 13\, Sayulita\, Nayarit\, Mexico
CATEGORIES:Art,Entertainment,Music
ATTACH;FMTTYPE=image/jpeg:https://res.cloudinary.com/sayulitalife/images/w_1920,h_2560,c_scale/w_1920/f_auto,q_auto/v1765410288/wordpress_assets/POSTER-JAZZ_43416d8304/POSTER-JAZZ_43416d8304.jpg?_i=AA
END:VEVENT
BEGIN:VEVENT
DTSTART;TZID=America/Mexico_City:20291014T180000
DTEND;TZID=America/Mexico_City:20291014T210000
DTSTAMP:20260419T104127
CREATED:20251211T172406Z
LAST-MODIFIED:20251211T172609Z
UID:10018219-1886695200-1886706000@www.sayulitalife.com
SUMMARY:Mexican Wine Tasting & Live Jazz
DESCRIPTION:Every Wednesday & Saturday we feature\, Mexican Wines to surprise you with incredible cheese plates charcuterie and incredible vibes.\nAlso Mezcal\, tequila and non alcoholic wine and beer.
URL:https://www.sayulitalife.com/sayulero/calendar/mexican-wine-tasting-live-jazz/2029-10-14/
LOCATION:Sayulita Wine Shop\, Lado Norte\, C. Miramar 13\, Sayulita\, Nayarit\, Mexico
CATEGORIES:Art,Entertainment,Music
ATTACH;FMTTYPE=image/jpeg:https://res.cloudinary.com/sayulitalife/images/w_1920,h_2560,c_scale/w_1920/f_auto,q_auto/v1765410288/wordpress_assets/POSTER-JAZZ_43416d8304/POSTER-JAZZ_43416d8304.jpg?_i=AA
END:VEVENT
BEGIN:VEVENT
DTSTART;TZID=America/Mexico_City:20291015T190000
DTEND;TZID=America/Mexico_City:20291015T220000
DTSTAMP:20260419T104127
CREATED:20250811T210924Z
LAST-MODIFIED:20260220T222235Z
UID:10010754-1886785200-1886796000@www.sayulitalife.com
SUMMARY:Don Pedros Salsa Night
DESCRIPTION:Join us for Salsa Night\, every Monday at 8:00 PM during the season (Oct – June). \nCome at 7:00 PM for salsa lessons.
URL:https://www.sayulitalife.com/sayulero/calendar/don-pedros-salsa-night/2029-10-15/
LOCATION:Don Pedros Restaurant\, C. Marlín 2\, Sayulita\, Nayarit\, 63734\, Mexico
CATEGORIES:Community,Music
ATTACH;FMTTYPE=image/png:https://res.cloudinary.com/sayulitalife/images/w_1920/f_auto,q_auto/v1754946566/wordpress_assets/15f3b634-b643-2178-a2a8-112940b8af26_37989914aa/15f3b634-b643-2178-a2a8-112940b8af26_37989914aa.png?_i=AA
END:VEVENT
BEGIN:VEVENT
DTSTART;TZID=America/Mexico_City:20291017T180000
DTEND;TZID=America/Mexico_City:20291017T210000
DTSTAMP:20260419T104127
CREATED:20251211T172406Z
LAST-MODIFIED:20251211T172609Z
UID:10018220-1886954400-1886965200@www.sayulitalife.com
SUMMARY:Mexican Wine Tasting & Live Jazz
DESCRIPTION:Every Wednesday & Saturday we feature\, Mexican Wines to surprise you with incredible cheese plates charcuterie and incredible vibes.\nAlso Mezcal\, tequila and non alcoholic wine and beer.
URL:https://www.sayulitalife.com/sayulero/calendar/mexican-wine-tasting-live-jazz/2029-10-17/
LOCATION:Sayulita Wine Shop\, Lado Norte\, C. Miramar 13\, Sayulita\, Nayarit\, Mexico
CATEGORIES:Art,Entertainment,Music
ATTACH;FMTTYPE=image/jpeg:https://res.cloudinary.com/sayulitalife/images/w_1920,h_2560,c_scale/w_1920/f_auto,q_auto/v1765410288/wordpress_assets/POSTER-JAZZ_43416d8304/POSTER-JAZZ_43416d8304.jpg?_i=AA
END:VEVENT
BEGIN:VEVENT
DTSTART;TZID=America/Mexico_City:20291021T180000
DTEND;TZID=America/Mexico_City:20291021T210000
DTSTAMP:20260419T104127
CREATED:20251211T172406Z
LAST-MODIFIED:20251211T172609Z
UID:10018221-1887300000-1887310800@www.sayulitalife.com
SUMMARY:Mexican Wine Tasting & Live Jazz
DESCRIPTION:Every Wednesday & Saturday we feature\, Mexican Wines to surprise you with incredible cheese plates charcuterie and incredible vibes.\nAlso Mezcal\, tequila and non alcoholic wine and beer.
URL:https://www.sayulitalife.com/sayulero/calendar/mexican-wine-tasting-live-jazz/2029-10-21/
LOCATION:Sayulita Wine Shop\, Lado Norte\, C. Miramar 13\, Sayulita\, Nayarit\, Mexico
CATEGORIES:Art,Entertainment,Music
ATTACH;FMTTYPE=image/jpeg:https://res.cloudinary.com/sayulitalife/images/w_1920,h_2560,c_scale/w_1920/f_auto,q_auto/v1765410288/wordpress_assets/POSTER-JAZZ_43416d8304/POSTER-JAZZ_43416d8304.jpg?_i=AA
END:VEVENT
BEGIN:VEVENT
DTSTART;TZID=America/Mexico_City:20291022T190000
DTEND;TZID=America/Mexico_City:20291022T220000
DTSTAMP:20260419T104127
CREATED:20250811T210924Z
LAST-MODIFIED:20260220T222235Z
UID:10010755-1887390000-1887400800@www.sayulitalife.com
SUMMARY:Don Pedros Salsa Night
DESCRIPTION:Join us for Salsa Night\, every Monday at 8:00 PM during the season (Oct – June). \nCome at 7:00 PM for salsa lessons.
URL:https://www.sayulitalife.com/sayulero/calendar/don-pedros-salsa-night/2029-10-22/
LOCATION:Don Pedros Restaurant\, C. Marlín 2\, Sayulita\, Nayarit\, 63734\, Mexico
CATEGORIES:Community,Music
ATTACH;FMTTYPE=image/png:https://res.cloudinary.com/sayulitalife/images/w_1920/f_auto,q_auto/v1754946566/wordpress_assets/15f3b634-b643-2178-a2a8-112940b8af26_37989914aa/15f3b634-b643-2178-a2a8-112940b8af26_37989914aa.png?_i=AA
END:VEVENT
BEGIN:VEVENT
DTSTART;TZID=America/Mexico_City:20291024T180000
DTEND;TZID=America/Mexico_City:20291024T210000
DTSTAMP:20260419T104127
CREATED:20251211T172406Z
LAST-MODIFIED:20251211T172609Z
UID:10018222-1887559200-1887570000@www.sayulitalife.com
SUMMARY:Mexican Wine Tasting & Live Jazz
DESCRIPTION:Every Wednesday & Saturday we feature\, Mexican Wines to surprise you with incredible cheese plates charcuterie and incredible vibes.\nAlso Mezcal\, tequila and non alcoholic wine and beer.
URL:https://www.sayulitalife.com/sayulero/calendar/mexican-wine-tasting-live-jazz/2029-10-24/
LOCATION:Sayulita Wine Shop\, Lado Norte\, C. Miramar 13\, Sayulita\, Nayarit\, Mexico
CATEGORIES:Art,Entertainment,Music
ATTACH;FMTTYPE=image/jpeg:https://res.cloudinary.com/sayulitalife/images/w_1920,h_2560,c_scale/w_1920/f_auto,q_auto/v1765410288/wordpress_assets/POSTER-JAZZ_43416d8304/POSTER-JAZZ_43416d8304.jpg?_i=AA
END:VEVENT
BEGIN:VEVENT
DTSTART;TZID=America/Mexico_City:20291028T180000
DTEND;TZID=America/Mexico_City:20291028T210000
DTSTAMP:20260419T104127
CREATED:20251211T172406Z
LAST-MODIFIED:20251211T172609Z
UID:10018223-1887904800-1887915600@www.sayulitalife.com
SUMMARY:Mexican Wine Tasting & Live Jazz
DESCRIPTION:Every Wednesday & Saturday we feature\, Mexican Wines to surprise you with incredible cheese plates charcuterie and incredible vibes.\nAlso Mezcal\, tequila and non alcoholic wine and beer.
URL:https://www.sayulitalife.com/sayulero/calendar/mexican-wine-tasting-live-jazz/2029-10-28/
LOCATION:Sayulita Wine Shop\, Lado Norte\, C. Miramar 13\, Sayulita\, Nayarit\, Mexico
CATEGORIES:Art,Entertainment,Music
ATTACH;FMTTYPE=image/jpeg:https://res.cloudinary.com/sayulitalife/images/w_1920,h_2560,c_scale/w_1920/f_auto,q_auto/v1765410288/wordpress_assets/POSTER-JAZZ_43416d8304/POSTER-JAZZ_43416d8304.jpg?_i=AA
END:VEVENT
END:VCALENDAR