BEGIN:VCALENDAR
VERSION:2.0
PRODID:-//El Sayulero - ECPv6.13.1//NONSGML v1.0//EN
CALSCALE:GREGORIAN
METHOD:PUBLISH
X-ORIGINAL-URL:https://www.sayulitalife.com/sayulero
X-WR-CALDESC:Events for El Sayulero
REFRESH-INTERVAL;VALUE=DURATION:PT1H
X-Robots-Tag:noindex
X-PUBLISHED-TTL:PT1H
BEGIN:VTIMEZONE
TZID:America/Mexico_City
BEGIN:STANDARD
TZOFFSETFROM:-0600
TZOFFSETTO:-0600
TZNAME:CST
DTSTART:20300101T000000
END:STANDARD
END:VTIMEZONE
BEGIN:VEVENT
DTSTART;TZID=America/Mexico_City:20300701T190000
DTEND;TZID=America/Mexico_City:20300701T220000
DTSTAMP:20260419T184842
CREATED:20250811T210924Z
LAST-MODIFIED:20260220T222235Z
UID:10010791-1909162800-1909173600@www.sayulitalife.com
SUMMARY:Don Pedros Salsa Night
DESCRIPTION:Join us for Salsa Night\, every Monday at 8:00 PM during the season (Oct – June). \nCome at 7:00 PM for salsa lessons.
URL:https://www.sayulitalife.com/sayulero/calendar/don-pedros-salsa-night/2030-07-01/
LOCATION:Don Pedros Restaurant\, C. Marlín 2\, Sayulita\, Nayarit\, 63734\, Mexico
CATEGORIES:Community,Music
ATTACH;FMTTYPE=image/png:https://res.cloudinary.com/sayulitalife/images/w_1920/f_auto,q_auto/v1754946566/wordpress_assets/15f3b634-b643-2178-a2a8-112940b8af26_37989914aa/15f3b634-b643-2178-a2a8-112940b8af26_37989914aa.png?_i=AA
END:VEVENT
BEGIN:VEVENT
DTSTART;TZID=America/Mexico_City:20300703T180000
DTEND;TZID=America/Mexico_City:20300703T210000
DTSTAMP:20260419T184842
CREATED:20251211T172406Z
LAST-MODIFIED:20251211T172609Z
UID:10018294-1909332000-1909342800@www.sayulitalife.com
SUMMARY:Mexican Wine Tasting & Live Jazz
DESCRIPTION:Every Wednesday & Saturday we feature\, Mexican Wines to surprise you with incredible cheese plates charcuterie and incredible vibes.\nAlso Mezcal\, tequila and non alcoholic wine and beer.
URL:https://www.sayulitalife.com/sayulero/calendar/mexican-wine-tasting-live-jazz/2030-07-03/
LOCATION:Sayulita Wine Shop\, Lado Norte\, C. Miramar 13\, Sayulita\, Nayarit\, Mexico
CATEGORIES:Art,Entertainment,Music
ATTACH;FMTTYPE=image/jpeg:https://res.cloudinary.com/sayulitalife/images/w_1920,h_2560,c_scale/w_1920/f_auto,q_auto/v1765410288/wordpress_assets/POSTER-JAZZ_43416d8304/POSTER-JAZZ_43416d8304.jpg?_i=AA
END:VEVENT
BEGIN:VEVENT
DTSTART;TZID=America/Mexico_City:20300707T180000
DTEND;TZID=America/Mexico_City:20300707T210000
DTSTAMP:20260419T184842
CREATED:20251211T172406Z
LAST-MODIFIED:20251211T172609Z
UID:10018295-1909677600-1909688400@www.sayulitalife.com
SUMMARY:Mexican Wine Tasting & Live Jazz
DESCRIPTION:Every Wednesday & Saturday we feature\, Mexican Wines to surprise you with incredible cheese plates charcuterie and incredible vibes.\nAlso Mezcal\, tequila and non alcoholic wine and beer.
URL:https://www.sayulitalife.com/sayulero/calendar/mexican-wine-tasting-live-jazz/2030-07-07/
LOCATION:Sayulita Wine Shop\, Lado Norte\, C. Miramar 13\, Sayulita\, Nayarit\, Mexico
CATEGORIES:Art,Entertainment,Music
ATTACH;FMTTYPE=image/jpeg:https://res.cloudinary.com/sayulitalife/images/w_1920,h_2560,c_scale/w_1920/f_auto,q_auto/v1765410288/wordpress_assets/POSTER-JAZZ_43416d8304/POSTER-JAZZ_43416d8304.jpg?_i=AA
END:VEVENT
BEGIN:VEVENT
DTSTART;TZID=America/Mexico_City:20300708T190000
DTEND;TZID=America/Mexico_City:20300708T220000
DTSTAMP:20260419T184842
CREATED:20250811T210924Z
LAST-MODIFIED:20260220T222235Z
UID:10010792-1909767600-1909778400@www.sayulitalife.com
SUMMARY:Don Pedros Salsa Night
DESCRIPTION:Join us for Salsa Night\, every Monday at 8:00 PM during the season (Oct – June). \nCome at 7:00 PM for salsa lessons.
URL:https://www.sayulitalife.com/sayulero/calendar/don-pedros-salsa-night/2030-07-08/
LOCATION:Don Pedros Restaurant\, C. Marlín 2\, Sayulita\, Nayarit\, 63734\, Mexico
CATEGORIES:Community,Music
ATTACH;FMTTYPE=image/png:https://res.cloudinary.com/sayulitalife/images/w_1920/f_auto,q_auto/v1754946566/wordpress_assets/15f3b634-b643-2178-a2a8-112940b8af26_37989914aa/15f3b634-b643-2178-a2a8-112940b8af26_37989914aa.png?_i=AA
END:VEVENT
BEGIN:VEVENT
DTSTART;TZID=America/Mexico_City:20300710T180000
DTEND;TZID=America/Mexico_City:20300710T210000
DTSTAMP:20260419T184842
CREATED:20251211T172406Z
LAST-MODIFIED:20251211T172609Z
UID:10018296-1909936800-1909947600@www.sayulitalife.com
SUMMARY:Mexican Wine Tasting & Live Jazz
DESCRIPTION:Every Wednesday & Saturday we feature\, Mexican Wines to surprise you with incredible cheese plates charcuterie and incredible vibes.\nAlso Mezcal\, tequila and non alcoholic wine and beer.
URL:https://www.sayulitalife.com/sayulero/calendar/mexican-wine-tasting-live-jazz/2030-07-10/
LOCATION:Sayulita Wine Shop\, Lado Norte\, C. Miramar 13\, Sayulita\, Nayarit\, Mexico
CATEGORIES:Art,Entertainment,Music
ATTACH;FMTTYPE=image/jpeg:https://res.cloudinary.com/sayulitalife/images/w_1920,h_2560,c_scale/w_1920/f_auto,q_auto/v1765410288/wordpress_assets/POSTER-JAZZ_43416d8304/POSTER-JAZZ_43416d8304.jpg?_i=AA
END:VEVENT
BEGIN:VEVENT
DTSTART;TZID=America/Mexico_City:20300714T180000
DTEND;TZID=America/Mexico_City:20300714T210000
DTSTAMP:20260419T184842
CREATED:20251211T172406Z
LAST-MODIFIED:20251211T172609Z
UID:10018297-1910282400-1910293200@www.sayulitalife.com
SUMMARY:Mexican Wine Tasting & Live Jazz
DESCRIPTION:Every Wednesday & Saturday we feature\, Mexican Wines to surprise you with incredible cheese plates charcuterie and incredible vibes.\nAlso Mezcal\, tequila and non alcoholic wine and beer.
URL:https://www.sayulitalife.com/sayulero/calendar/mexican-wine-tasting-live-jazz/2030-07-14/
LOCATION:Sayulita Wine Shop\, Lado Norte\, C. Miramar 13\, Sayulita\, Nayarit\, Mexico
CATEGORIES:Art,Entertainment,Music
ATTACH;FMTTYPE=image/jpeg:https://res.cloudinary.com/sayulitalife/images/w_1920,h_2560,c_scale/w_1920/f_auto,q_auto/v1765410288/wordpress_assets/POSTER-JAZZ_43416d8304/POSTER-JAZZ_43416d8304.jpg?_i=AA
END:VEVENT
BEGIN:VEVENT
DTSTART;TZID=America/Mexico_City:20300715T190000
DTEND;TZID=America/Mexico_City:20300715T220000
DTSTAMP:20260419T184842
CREATED:20250811T210924Z
LAST-MODIFIED:20260220T222235Z
UID:10010793-1910372400-1910383200@www.sayulitalife.com
SUMMARY:Don Pedros Salsa Night
DESCRIPTION:Join us for Salsa Night\, every Monday at 8:00 PM during the season (Oct – June). \nCome at 7:00 PM for salsa lessons.
URL:https://www.sayulitalife.com/sayulero/calendar/don-pedros-salsa-night/2030-07-15/
LOCATION:Don Pedros Restaurant\, C. Marlín 2\, Sayulita\, Nayarit\, 63734\, Mexico
CATEGORIES:Community,Music
ATTACH;FMTTYPE=image/png:https://res.cloudinary.com/sayulitalife/images/w_1920/f_auto,q_auto/v1754946566/wordpress_assets/15f3b634-b643-2178-a2a8-112940b8af26_37989914aa/15f3b634-b643-2178-a2a8-112940b8af26_37989914aa.png?_i=AA
END:VEVENT
BEGIN:VEVENT
DTSTART;TZID=America/Mexico_City:20300717T180000
DTEND;TZID=America/Mexico_City:20300717T210000
DTSTAMP:20260419T184842
CREATED:20251211T172406Z
LAST-MODIFIED:20251211T172609Z
UID:10018298-1910541600-1910552400@www.sayulitalife.com
SUMMARY:Mexican Wine Tasting & Live Jazz
DESCRIPTION:Every Wednesday & Saturday we feature\, Mexican Wines to surprise you with incredible cheese plates charcuterie and incredible vibes.\nAlso Mezcal\, tequila and non alcoholic wine and beer.
URL:https://www.sayulitalife.com/sayulero/calendar/mexican-wine-tasting-live-jazz/2030-07-17/
LOCATION:Sayulita Wine Shop\, Lado Norte\, C. Miramar 13\, Sayulita\, Nayarit\, Mexico
CATEGORIES:Art,Entertainment,Music
ATTACH;FMTTYPE=image/jpeg:https://res.cloudinary.com/sayulitalife/images/w_1920,h_2560,c_scale/w_1920/f_auto,q_auto/v1765410288/wordpress_assets/POSTER-JAZZ_43416d8304/POSTER-JAZZ_43416d8304.jpg?_i=AA
END:VEVENT
BEGIN:VEVENT
DTSTART;TZID=America/Mexico_City:20300721T180000
DTEND;TZID=America/Mexico_City:20300721T210000
DTSTAMP:20260419T184842
CREATED:20251211T172406Z
LAST-MODIFIED:20251211T172609Z
UID:10018299-1910887200-1910898000@www.sayulitalife.com
SUMMARY:Mexican Wine Tasting & Live Jazz
DESCRIPTION:Every Wednesday & Saturday we feature\, Mexican Wines to surprise you with incredible cheese plates charcuterie and incredible vibes.\nAlso Mezcal\, tequila and non alcoholic wine and beer.
URL:https://www.sayulitalife.com/sayulero/calendar/mexican-wine-tasting-live-jazz/2030-07-21/
LOCATION:Sayulita Wine Shop\, Lado Norte\, C. Miramar 13\, Sayulita\, Nayarit\, Mexico
CATEGORIES:Art,Entertainment,Music
ATTACH;FMTTYPE=image/jpeg:https://res.cloudinary.com/sayulitalife/images/w_1920,h_2560,c_scale/w_1920/f_auto,q_auto/v1765410288/wordpress_assets/POSTER-JAZZ_43416d8304/POSTER-JAZZ_43416d8304.jpg?_i=AA
END:VEVENT
BEGIN:VEVENT
DTSTART;TZID=America/Mexico_City:20300722T190000
DTEND;TZID=America/Mexico_City:20300722T220000
DTSTAMP:20260419T184842
CREATED:20250811T210924Z
LAST-MODIFIED:20260220T222235Z
UID:10010794-1910977200-1910988000@www.sayulitalife.com
SUMMARY:Don Pedros Salsa Night
DESCRIPTION:Join us for Salsa Night\, every Monday at 8:00 PM during the season (Oct – June). \nCome at 7:00 PM for salsa lessons.
URL:https://www.sayulitalife.com/sayulero/calendar/don-pedros-salsa-night/2030-07-22/
LOCATION:Don Pedros Restaurant\, C. Marlín 2\, Sayulita\, Nayarit\, 63734\, Mexico
CATEGORIES:Community,Music
ATTACH;FMTTYPE=image/png:https://res.cloudinary.com/sayulitalife/images/w_1920/f_auto,q_auto/v1754946566/wordpress_assets/15f3b634-b643-2178-a2a8-112940b8af26_37989914aa/15f3b634-b643-2178-a2a8-112940b8af26_37989914aa.png?_i=AA
END:VEVENT
BEGIN:VEVENT
DTSTART;TZID=America/Mexico_City:20300724T180000
DTEND;TZID=America/Mexico_City:20300724T210000
DTSTAMP:20260419T184842
CREATED:20251211T172406Z
LAST-MODIFIED:20251211T172609Z
UID:10018300-1911146400-1911157200@www.sayulitalife.com
SUMMARY:Mexican Wine Tasting & Live Jazz
DESCRIPTION:Every Wednesday & Saturday we feature\, Mexican Wines to surprise you with incredible cheese plates charcuterie and incredible vibes.\nAlso Mezcal\, tequila and non alcoholic wine and beer.
URL:https://www.sayulitalife.com/sayulero/calendar/mexican-wine-tasting-live-jazz/2030-07-24/
LOCATION:Sayulita Wine Shop\, Lado Norte\, C. Miramar 13\, Sayulita\, Nayarit\, Mexico
CATEGORIES:Art,Entertainment,Music
ATTACH;FMTTYPE=image/jpeg:https://res.cloudinary.com/sayulitalife/images/w_1920,h_2560,c_scale/w_1920/f_auto,q_auto/v1765410288/wordpress_assets/POSTER-JAZZ_43416d8304/POSTER-JAZZ_43416d8304.jpg?_i=AA
END:VEVENT
BEGIN:VEVENT
DTSTART;TZID=America/Mexico_City:20300728T180000
DTEND;TZID=America/Mexico_City:20300728T210000
DTSTAMP:20260419T184842
CREATED:20251211T172406Z
LAST-MODIFIED:20251211T172609Z
UID:10018301-1911492000-1911502800@www.sayulitalife.com
SUMMARY:Mexican Wine Tasting & Live Jazz
DESCRIPTION:Every Wednesday & Saturday we feature\, Mexican Wines to surprise you with incredible cheese plates charcuterie and incredible vibes.\nAlso Mezcal\, tequila and non alcoholic wine and beer.
URL:https://www.sayulitalife.com/sayulero/calendar/mexican-wine-tasting-live-jazz/2030-07-28/
LOCATION:Sayulita Wine Shop\, Lado Norte\, C. Miramar 13\, Sayulita\, Nayarit\, Mexico
CATEGORIES:Art,Entertainment,Music
ATTACH;FMTTYPE=image/jpeg:https://res.cloudinary.com/sayulitalife/images/w_1920,h_2560,c_scale/w_1920/f_auto,q_auto/v1765410288/wordpress_assets/POSTER-JAZZ_43416d8304/POSTER-JAZZ_43416d8304.jpg?_i=AA
END:VEVENT
BEGIN:VEVENT
DTSTART;TZID=America/Mexico_City:20300729T190000
DTEND;TZID=America/Mexico_City:20300729T220000
DTSTAMP:20260419T184842
CREATED:20250811T210924Z
LAST-MODIFIED:20260220T222235Z
UID:10010795-1911582000-1911592800@www.sayulitalife.com
SUMMARY:Don Pedros Salsa Night
DESCRIPTION:Join us for Salsa Night\, every Monday at 8:00 PM during the season (Oct – June). \nCome at 7:00 PM for salsa lessons.
URL:https://www.sayulitalife.com/sayulero/calendar/don-pedros-salsa-night/2030-07-29/
LOCATION:Don Pedros Restaurant\, C. Marlín 2\, Sayulita\, Nayarit\, 63734\, Mexico
CATEGORIES:Community,Music
ATTACH;FMTTYPE=image/png:https://res.cloudinary.com/sayulitalife/images/w_1920/f_auto,q_auto/v1754946566/wordpress_assets/15f3b634-b643-2178-a2a8-112940b8af26_37989914aa/15f3b634-b643-2178-a2a8-112940b8af26_37989914aa.png?_i=AA
END:VEVENT
BEGIN:VEVENT
DTSTART;TZID=America/Mexico_City:20300731T180000
DTEND;TZID=America/Mexico_City:20300731T210000
DTSTAMP:20260419T184842
CREATED:20251211T172406Z
LAST-MODIFIED:20251211T172609Z
UID:10018302-1911751200-1911762000@www.sayulitalife.com
SUMMARY:Mexican Wine Tasting & Live Jazz
DESCRIPTION:Every Wednesday & Saturday we feature\, Mexican Wines to surprise you with incredible cheese plates charcuterie and incredible vibes.\nAlso Mezcal\, tequila and non alcoholic wine and beer.
URL:https://www.sayulitalife.com/sayulero/calendar/mexican-wine-tasting-live-jazz/2030-07-31/
LOCATION:Sayulita Wine Shop\, Lado Norte\, C. Miramar 13\, Sayulita\, Nayarit\, Mexico
CATEGORIES:Art,Entertainment,Music
ATTACH;FMTTYPE=image/jpeg:https://res.cloudinary.com/sayulitalife/images/w_1920,h_2560,c_scale/w_1920/f_auto,q_auto/v1765410288/wordpress_assets/POSTER-JAZZ_43416d8304/POSTER-JAZZ_43416d8304.jpg?_i=AA
END:VEVENT
BEGIN:VEVENT
DTSTART;TZID=America/Mexico_City:20300804T180000
DTEND;TZID=America/Mexico_City:20300804T210000
DTSTAMP:20260419T184842
CREATED:20251211T172406Z
LAST-MODIFIED:20251211T172609Z
UID:10018303-1912096800-1912107600@www.sayulitalife.com
SUMMARY:Mexican Wine Tasting & Live Jazz
DESCRIPTION:Every Wednesday & Saturday we feature\, Mexican Wines to surprise you with incredible cheese plates charcuterie and incredible vibes.\nAlso Mezcal\, tequila and non alcoholic wine and beer.
URL:https://www.sayulitalife.com/sayulero/calendar/mexican-wine-tasting-live-jazz/2030-08-04/
LOCATION:Sayulita Wine Shop\, Lado Norte\, C. Miramar 13\, Sayulita\, Nayarit\, Mexico
CATEGORIES:Art,Entertainment,Music
ATTACH;FMTTYPE=image/jpeg:https://res.cloudinary.com/sayulitalife/images/w_1920,h_2560,c_scale/w_1920/f_auto,q_auto/v1765410288/wordpress_assets/POSTER-JAZZ_43416d8304/POSTER-JAZZ_43416d8304.jpg?_i=AA
END:VEVENT
BEGIN:VEVENT
DTSTART;TZID=America/Mexico_City:20300805T190000
DTEND;TZID=America/Mexico_City:20300805T220000
DTSTAMP:20260419T184842
CREATED:20250811T210924Z
LAST-MODIFIED:20260220T222235Z
UID:10010796-1912186800-1912197600@www.sayulitalife.com
SUMMARY:Don Pedros Salsa Night
DESCRIPTION:Join us for Salsa Night\, every Monday at 8:00 PM during the season (Oct – June). \nCome at 7:00 PM for salsa lessons.
URL:https://www.sayulitalife.com/sayulero/calendar/don-pedros-salsa-night/2030-08-05/
LOCATION:Don Pedros Restaurant\, C. Marlín 2\, Sayulita\, Nayarit\, 63734\, Mexico
CATEGORIES:Community,Music
ATTACH;FMTTYPE=image/png:https://res.cloudinary.com/sayulitalife/images/w_1920/f_auto,q_auto/v1754946566/wordpress_assets/15f3b634-b643-2178-a2a8-112940b8af26_37989914aa/15f3b634-b643-2178-a2a8-112940b8af26_37989914aa.png?_i=AA
END:VEVENT
BEGIN:VEVENT
DTSTART;TZID=America/Mexico_City:20300807T180000
DTEND;TZID=America/Mexico_City:20300807T210000
DTSTAMP:20260419T184842
CREATED:20251211T172406Z
LAST-MODIFIED:20251211T172609Z
UID:10018304-1912356000-1912366800@www.sayulitalife.com
SUMMARY:Mexican Wine Tasting & Live Jazz
DESCRIPTION:Every Wednesday & Saturday we feature\, Mexican Wines to surprise you with incredible cheese plates charcuterie and incredible vibes.\nAlso Mezcal\, tequila and non alcoholic wine and beer.
URL:https://www.sayulitalife.com/sayulero/calendar/mexican-wine-tasting-live-jazz/2030-08-07/
LOCATION:Sayulita Wine Shop\, Lado Norte\, C. Miramar 13\, Sayulita\, Nayarit\, Mexico
CATEGORIES:Art,Entertainment,Music
ATTACH;FMTTYPE=image/jpeg:https://res.cloudinary.com/sayulitalife/images/w_1920,h_2560,c_scale/w_1920/f_auto,q_auto/v1765410288/wordpress_assets/POSTER-JAZZ_43416d8304/POSTER-JAZZ_43416d8304.jpg?_i=AA
END:VEVENT
BEGIN:VEVENT
DTSTART;TZID=America/Mexico_City:20300811T180000
DTEND;TZID=America/Mexico_City:20300811T210000
DTSTAMP:20260419T184842
CREATED:20251211T172406Z
LAST-MODIFIED:20251211T172609Z
UID:10018305-1912701600-1912712400@www.sayulitalife.com
SUMMARY:Mexican Wine Tasting & Live Jazz
DESCRIPTION:Every Wednesday & Saturday we feature\, Mexican Wines to surprise you with incredible cheese plates charcuterie and incredible vibes.\nAlso Mezcal\, tequila and non alcoholic wine and beer.
URL:https://www.sayulitalife.com/sayulero/calendar/mexican-wine-tasting-live-jazz/2030-08-11/
LOCATION:Sayulita Wine Shop\, Lado Norte\, C. Miramar 13\, Sayulita\, Nayarit\, Mexico
CATEGORIES:Art,Entertainment,Music
ATTACH;FMTTYPE=image/jpeg:https://res.cloudinary.com/sayulitalife/images/w_1920,h_2560,c_scale/w_1920/f_auto,q_auto/v1765410288/wordpress_assets/POSTER-JAZZ_43416d8304/POSTER-JAZZ_43416d8304.jpg?_i=AA
END:VEVENT
BEGIN:VEVENT
DTSTART;TZID=America/Mexico_City:20300812T190000
DTEND;TZID=America/Mexico_City:20300812T220000
DTSTAMP:20260419T184842
CREATED:20250811T210924Z
LAST-MODIFIED:20260220T222235Z
UID:10019587-1912791600-1912802400@www.sayulitalife.com
SUMMARY:Don Pedros Salsa Night
DESCRIPTION:Join us for Salsa Night\, every Monday at 8:00 PM during the season (Oct – June). \nCome at 7:00 PM for salsa lessons.
URL:https://www.sayulitalife.com/sayulero/calendar/don-pedros-salsa-night/2030-08-12/
LOCATION:Don Pedros Restaurant\, C. Marlín 2\, Sayulita\, Nayarit\, 63734\, Mexico
CATEGORIES:Community,Music
ATTACH;FMTTYPE=image/png:https://res.cloudinary.com/sayulitalife/images/w_1920/f_auto,q_auto/v1754946566/wordpress_assets/15f3b634-b643-2178-a2a8-112940b8af26_37989914aa/15f3b634-b643-2178-a2a8-112940b8af26_37989914aa.png?_i=AA
END:VEVENT
BEGIN:VEVENT
DTSTART;TZID=America/Mexico_City:20300814T180000
DTEND;TZID=America/Mexico_City:20300814T210000
DTSTAMP:20260419T184842
CREATED:20251211T172406Z
LAST-MODIFIED:20251211T172609Z
UID:10018306-1912960800-1912971600@www.sayulitalife.com
SUMMARY:Mexican Wine Tasting & Live Jazz
DESCRIPTION:Every Wednesday & Saturday we feature\, Mexican Wines to surprise you with incredible cheese plates charcuterie and incredible vibes.\nAlso Mezcal\, tequila and non alcoholic wine and beer.
URL:https://www.sayulitalife.com/sayulero/calendar/mexican-wine-tasting-live-jazz/2030-08-14/
LOCATION:Sayulita Wine Shop\, Lado Norte\, C. Miramar 13\, Sayulita\, Nayarit\, Mexico
CATEGORIES:Art,Entertainment,Music
ATTACH;FMTTYPE=image/jpeg:https://res.cloudinary.com/sayulitalife/images/w_1920,h_2560,c_scale/w_1920/f_auto,q_auto/v1765410288/wordpress_assets/POSTER-JAZZ_43416d8304/POSTER-JAZZ_43416d8304.jpg?_i=AA
END:VEVENT
BEGIN:VEVENT
DTSTART;TZID=America/Mexico_City:20300818T180000
DTEND;TZID=America/Mexico_City:20300818T210000
DTSTAMP:20260419T184843
CREATED:20251211T172406Z
LAST-MODIFIED:20251211T172609Z
UID:10018307-1913306400-1913317200@www.sayulitalife.com
SUMMARY:Mexican Wine Tasting & Live Jazz
DESCRIPTION:Every Wednesday & Saturday we feature\, Mexican Wines to surprise you with incredible cheese plates charcuterie and incredible vibes.\nAlso Mezcal\, tequila and non alcoholic wine and beer.
URL:https://www.sayulitalife.com/sayulero/calendar/mexican-wine-tasting-live-jazz/2030-08-18/
LOCATION:Sayulita Wine Shop\, Lado Norte\, C. Miramar 13\, Sayulita\, Nayarit\, Mexico
CATEGORIES:Art,Entertainment,Music
ATTACH;FMTTYPE=image/jpeg:https://res.cloudinary.com/sayulitalife/images/w_1920,h_2560,c_scale/w_1920/f_auto,q_auto/v1765410288/wordpress_assets/POSTER-JAZZ_43416d8304/POSTER-JAZZ_43416d8304.jpg?_i=AA
END:VEVENT
BEGIN:VEVENT
DTSTART;TZID=America/Mexico_City:20300819T190000
DTEND;TZID=America/Mexico_City:20300819T220000
DTSTAMP:20260419T184843
CREATED:20250811T210924Z
LAST-MODIFIED:20260220T222235Z
UID:10019588-1913396400-1913407200@www.sayulitalife.com
SUMMARY:Don Pedros Salsa Night
DESCRIPTION:Join us for Salsa Night\, every Monday at 8:00 PM during the season (Oct – June). \nCome at 7:00 PM for salsa lessons.
URL:https://www.sayulitalife.com/sayulero/calendar/don-pedros-salsa-night/2030-08-19/
LOCATION:Don Pedros Restaurant\, C. Marlín 2\, Sayulita\, Nayarit\, 63734\, Mexico
CATEGORIES:Community,Music
ATTACH;FMTTYPE=image/png:https://res.cloudinary.com/sayulitalife/images/w_1920/f_auto,q_auto/v1754946566/wordpress_assets/15f3b634-b643-2178-a2a8-112940b8af26_37989914aa/15f3b634-b643-2178-a2a8-112940b8af26_37989914aa.png?_i=AA
END:VEVENT
BEGIN:VEVENT
DTSTART;TZID=America/Mexico_City:20300821T180000
DTEND;TZID=America/Mexico_City:20300821T210000
DTSTAMP:20260419T184843
CREATED:20251211T172406Z
LAST-MODIFIED:20251211T172609Z
UID:10018308-1913565600-1913576400@www.sayulitalife.com
SUMMARY:Mexican Wine Tasting & Live Jazz
DESCRIPTION:Every Wednesday & Saturday we feature\, Mexican Wines to surprise you with incredible cheese plates charcuterie and incredible vibes.\nAlso Mezcal\, tequila and non alcoholic wine and beer.
URL:https://www.sayulitalife.com/sayulero/calendar/mexican-wine-tasting-live-jazz/2030-08-21/
LOCATION:Sayulita Wine Shop\, Lado Norte\, C. Miramar 13\, Sayulita\, Nayarit\, Mexico
CATEGORIES:Art,Entertainment,Music
ATTACH;FMTTYPE=image/jpeg:https://res.cloudinary.com/sayulitalife/images/w_1920,h_2560,c_scale/w_1920/f_auto,q_auto/v1765410288/wordpress_assets/POSTER-JAZZ_43416d8304/POSTER-JAZZ_43416d8304.jpg?_i=AA
END:VEVENT
BEGIN:VEVENT
DTSTART;TZID=America/Mexico_City:20300825T180000
DTEND;TZID=America/Mexico_City:20300825T210000
DTSTAMP:20260419T184843
CREATED:20251211T172406Z
LAST-MODIFIED:20251211T172609Z
UID:10018309-1913911200-1913922000@www.sayulitalife.com
SUMMARY:Mexican Wine Tasting & Live Jazz
DESCRIPTION:Every Wednesday & Saturday we feature\, Mexican Wines to surprise you with incredible cheese plates charcuterie and incredible vibes.\nAlso Mezcal\, tequila and non alcoholic wine and beer.
URL:https://www.sayulitalife.com/sayulero/calendar/mexican-wine-tasting-live-jazz/2030-08-25/
LOCATION:Sayulita Wine Shop\, Lado Norte\, C. Miramar 13\, Sayulita\, Nayarit\, Mexico
CATEGORIES:Art,Entertainment,Music
ATTACH;FMTTYPE=image/jpeg:https://res.cloudinary.com/sayulitalife/images/w_1920,h_2560,c_scale/w_1920/f_auto,q_auto/v1765410288/wordpress_assets/POSTER-JAZZ_43416d8304/POSTER-JAZZ_43416d8304.jpg?_i=AA
END:VEVENT
BEGIN:VEVENT
DTSTART;TZID=America/Mexico_City:20300826T190000
DTEND;TZID=America/Mexico_City:20300826T220000
DTSTAMP:20260419T184843
CREATED:20250811T210924Z
LAST-MODIFIED:20260220T222235Z
UID:10019589-1914001200-1914012000@www.sayulitalife.com
SUMMARY:Don Pedros Salsa Night
DESCRIPTION:Join us for Salsa Night\, every Monday at 8:00 PM during the season (Oct – June). \nCome at 7:00 PM for salsa lessons.
URL:https://www.sayulitalife.com/sayulero/calendar/don-pedros-salsa-night/2030-08-26/
LOCATION:Don Pedros Restaurant\, C. Marlín 2\, Sayulita\, Nayarit\, 63734\, Mexico
CATEGORIES:Community,Music
ATTACH;FMTTYPE=image/png:https://res.cloudinary.com/sayulitalife/images/w_1920/f_auto,q_auto/v1754946566/wordpress_assets/15f3b634-b643-2178-a2a8-112940b8af26_37989914aa/15f3b634-b643-2178-a2a8-112940b8af26_37989914aa.png?_i=AA
END:VEVENT
BEGIN:VEVENT
DTSTART;TZID=America/Mexico_City:20300828T180000
DTEND;TZID=America/Mexico_City:20300828T210000
DTSTAMP:20260419T184843
CREATED:20251211T172406Z
LAST-MODIFIED:20251211T172609Z
UID:10018310-1914170400-1914181200@www.sayulitalife.com
SUMMARY:Mexican Wine Tasting & Live Jazz
DESCRIPTION:Every Wednesday & Saturday we feature\, Mexican Wines to surprise you with incredible cheese plates charcuterie and incredible vibes.\nAlso Mezcal\, tequila and non alcoholic wine and beer.
URL:https://www.sayulitalife.com/sayulero/calendar/mexican-wine-tasting-live-jazz/2030-08-28/
LOCATION:Sayulita Wine Shop\, Lado Norte\, C. Miramar 13\, Sayulita\, Nayarit\, Mexico
CATEGORIES:Art,Entertainment,Music
ATTACH;FMTTYPE=image/jpeg:https://res.cloudinary.com/sayulitalife/images/w_1920,h_2560,c_scale/w_1920/f_auto,q_auto/v1765410288/wordpress_assets/POSTER-JAZZ_43416d8304/POSTER-JAZZ_43416d8304.jpg?_i=AA
END:VEVENT
BEGIN:VEVENT
DTSTART;TZID=America/Mexico_City:20300901T180000
DTEND;TZID=America/Mexico_City:20300901T210000
DTSTAMP:20260419T184843
CREATED:20251211T172406Z
LAST-MODIFIED:20251211T172609Z
UID:10018311-1914516000-1914526800@www.sayulitalife.com
SUMMARY:Mexican Wine Tasting & Live Jazz
DESCRIPTION:Every Wednesday & Saturday we feature\, Mexican Wines to surprise you with incredible cheese plates charcuterie and incredible vibes.\nAlso Mezcal\, tequila and non alcoholic wine and beer.
URL:https://www.sayulitalife.com/sayulero/calendar/mexican-wine-tasting-live-jazz/2030-09-01/
LOCATION:Sayulita Wine Shop\, Lado Norte\, C. Miramar 13\, Sayulita\, Nayarit\, Mexico
CATEGORIES:Art,Entertainment,Music
ATTACH;FMTTYPE=image/jpeg:https://res.cloudinary.com/sayulitalife/images/w_1920,h_2560,c_scale/w_1920/f_auto,q_auto/v1765410288/wordpress_assets/POSTER-JAZZ_43416d8304/POSTER-JAZZ_43416d8304.jpg?_i=AA
END:VEVENT
BEGIN:VEVENT
DTSTART;TZID=America/Mexico_City:20300902T190000
DTEND;TZID=America/Mexico_City:20300902T220000
DTSTAMP:20260419T184843
CREATED:20250811T210924Z
LAST-MODIFIED:20260220T222235Z
UID:10019590-1914606000-1914616800@www.sayulitalife.com
SUMMARY:Don Pedros Salsa Night
DESCRIPTION:Join us for Salsa Night\, every Monday at 8:00 PM during the season (Oct – June). \nCome at 7:00 PM for salsa lessons.
URL:https://www.sayulitalife.com/sayulero/calendar/don-pedros-salsa-night/2030-09-02/
LOCATION:Don Pedros Restaurant\, C. Marlín 2\, Sayulita\, Nayarit\, 63734\, Mexico
CATEGORIES:Community,Music
ATTACH;FMTTYPE=image/png:https://res.cloudinary.com/sayulitalife/images/w_1920/f_auto,q_auto/v1754946566/wordpress_assets/15f3b634-b643-2178-a2a8-112940b8af26_37989914aa/15f3b634-b643-2178-a2a8-112940b8af26_37989914aa.png?_i=AA
END:VEVENT
BEGIN:VEVENT
DTSTART;TZID=America/Mexico_City:20300904T180000
DTEND;TZID=America/Mexico_City:20300904T210000
DTSTAMP:20260419T184843
CREATED:20251211T172406Z
LAST-MODIFIED:20251211T172609Z
UID:10018312-1914775200-1914786000@www.sayulitalife.com
SUMMARY:Mexican Wine Tasting & Live Jazz
DESCRIPTION:Every Wednesday & Saturday we feature\, Mexican Wines to surprise you with incredible cheese plates charcuterie and incredible vibes.\nAlso Mezcal\, tequila and non alcoholic wine and beer.
URL:https://www.sayulitalife.com/sayulero/calendar/mexican-wine-tasting-live-jazz/2030-09-04/
LOCATION:Sayulita Wine Shop\, Lado Norte\, C. Miramar 13\, Sayulita\, Nayarit\, Mexico
CATEGORIES:Art,Entertainment,Music
ATTACH;FMTTYPE=image/jpeg:https://res.cloudinary.com/sayulitalife/images/w_1920,h_2560,c_scale/w_1920/f_auto,q_auto/v1765410288/wordpress_assets/POSTER-JAZZ_43416d8304/POSTER-JAZZ_43416d8304.jpg?_i=AA
END:VEVENT
BEGIN:VEVENT
DTSTART;TZID=America/Mexico_City:20300908T180000
DTEND;TZID=America/Mexico_City:20300908T210000
DTSTAMP:20260419T184843
CREATED:20251211T172406Z
LAST-MODIFIED:20251211T172609Z
UID:10018313-1915120800-1915131600@www.sayulitalife.com
SUMMARY:Mexican Wine Tasting & Live Jazz
DESCRIPTION:Every Wednesday & Saturday we feature\, Mexican Wines to surprise you with incredible cheese plates charcuterie and incredible vibes.\nAlso Mezcal\, tequila and non alcoholic wine and beer.
URL:https://www.sayulitalife.com/sayulero/calendar/mexican-wine-tasting-live-jazz/2030-09-08/
LOCATION:Sayulita Wine Shop\, Lado Norte\, C. Miramar 13\, Sayulita\, Nayarit\, Mexico
CATEGORIES:Art,Entertainment,Music
ATTACH;FMTTYPE=image/jpeg:https://res.cloudinary.com/sayulitalife/images/w_1920,h_2560,c_scale/w_1920/f_auto,q_auto/v1765410288/wordpress_assets/POSTER-JAZZ_43416d8304/POSTER-JAZZ_43416d8304.jpg?_i=AA
END:VEVENT
END:VCALENDAR