BEGIN:VCALENDAR
VERSION:2.0
PRODID:-//El Sayulero - ECPv6.13.1//NONSGML v1.0//EN
CALSCALE:GREGORIAN
METHOD:PUBLISH
X-WR-CALNAME:El Sayulero
X-ORIGINAL-URL:https://www.sayulitalife.com/sayulero
X-WR-CALDESC:Events for El Sayulero
REFRESH-INTERVAL;VALUE=DURATION:PT1H
X-Robots-Tag:noindex
X-PUBLISHED-TTL:PT1H
BEGIN:VTIMEZONE
TZID:America/Mexico_City
BEGIN:STANDARD
TZOFFSETFROM:-0600
TZOFFSETTO:-0600
TZNAME:CST
DTSTART:20250101T000000
END:STANDARD
END:VTIMEZONE
BEGIN:VEVENT
DTSTART;TZID=America/Mexico_City:20250101T180000
DTEND;TZID=America/Mexico_City:20250101T200000
DTSTAMP:20260420T060047
CREATED:20241010T172018Z
LAST-MODIFIED:20250618T074053Z
UID:10000862-1735754400-1735761600@www.sayulitalife.com
SUMMARY:Turtle Release
DESCRIPTION:Sayulita Turtle Release\nEveryday: Located on the North end of the beach\nJoin Conservacion de Tortuga for nightly turtle releases. Follow for updates and accurate release days and time. These will vary based on when eggs are hatching.\nsayulitaturtlecamp@gmail.com
URL:https://www.sayulitalife.com/sayulero/calendar/turtle-release-2/2025-01-01/
LOCATION:Conservacion de Tortugas\, Av. del Palmar 196\, Sayulita\, Nayarit\, 63734\, Mexico
CATEGORIES:Community,Volunteer
ATTACH;FMTTYPE=image/jpeg:https://res.cloudinary.com/sayulitalife/images/w_1920/f_auto,q_auto/v1728422214/wordpress_assets/Turtles-For-CK/Turtles-For-CK.jpg?_i=AA
END:VEVENT
BEGIN:VEVENT
DTSTART;TZID=America/Mexico_City:20250102T180000
DTEND;TZID=America/Mexico_City:20250102T200000
DTSTAMP:20260420T060047
CREATED:20241010T172018Z
LAST-MODIFIED:20250618T074053Z
UID:10000863-1735840800-1735848000@www.sayulitalife.com
SUMMARY:Turtle Release
DESCRIPTION:Sayulita Turtle Release\nEveryday: Located on the North end of the beach\nJoin Conservacion de Tortuga for nightly turtle releases. Follow for updates and accurate release days and time. These will vary based on when eggs are hatching.\nsayulitaturtlecamp@gmail.com
URL:https://www.sayulitalife.com/sayulero/calendar/turtle-release-2/2025-01-02/
LOCATION:Conservacion de Tortugas\, Av. del Palmar 196\, Sayulita\, Nayarit\, 63734\, Mexico
CATEGORIES:Community,Volunteer
ATTACH;FMTTYPE=image/jpeg:https://res.cloudinary.com/sayulitalife/images/w_1920/f_auto,q_auto/v1728422214/wordpress_assets/Turtles-For-CK/Turtles-For-CK.jpg?_i=AA
END:VEVENT
BEGIN:VEVENT
DTSTART;TZID=America/Mexico_City:20250103T180000
DTEND;TZID=America/Mexico_City:20250103T200000
DTSTAMP:20260420T060047
CREATED:20241010T172018Z
LAST-MODIFIED:20250618T074053Z
UID:10000864-1735927200-1735934400@www.sayulitalife.com
SUMMARY:Turtle Release
DESCRIPTION:Sayulita Turtle Release\nEveryday: Located on the North end of the beach\nJoin Conservacion de Tortuga for nightly turtle releases. Follow for updates and accurate release days and time. These will vary based on when eggs are hatching.\nsayulitaturtlecamp@gmail.com
URL:https://www.sayulitalife.com/sayulero/calendar/turtle-release-2/2025-01-03/
LOCATION:Conservacion de Tortugas\, Av. del Palmar 196\, Sayulita\, Nayarit\, 63734\, Mexico
CATEGORIES:Community,Volunteer
ATTACH;FMTTYPE=image/jpeg:https://res.cloudinary.com/sayulitalife/images/w_1920/f_auto,q_auto/v1728422214/wordpress_assets/Turtles-For-CK/Turtles-For-CK.jpg?_i=AA
END:VEVENT
BEGIN:VEVENT
DTSTART;TZID=America/Mexico_City:20250104T180000
DTEND;TZID=America/Mexico_City:20250104T200000
DTSTAMP:20260420T060047
CREATED:20241010T172018Z
LAST-MODIFIED:20250618T074053Z
UID:10000865-1736013600-1736020800@www.sayulitalife.com
SUMMARY:Turtle Release
DESCRIPTION:Sayulita Turtle Release\nEveryday: Located on the North end of the beach\nJoin Conservacion de Tortuga for nightly turtle releases. Follow for updates and accurate release days and time. These will vary based on when eggs are hatching.\nsayulitaturtlecamp@gmail.com
URL:https://www.sayulitalife.com/sayulero/calendar/turtle-release-2/2025-01-04/
LOCATION:Conservacion de Tortugas\, Av. del Palmar 196\, Sayulita\, Nayarit\, 63734\, Mexico
CATEGORIES:Community,Volunteer
ATTACH;FMTTYPE=image/jpeg:https://res.cloudinary.com/sayulitalife/images/w_1920/f_auto,q_auto/v1728422214/wordpress_assets/Turtles-For-CK/Turtles-For-CK.jpg?_i=AA
END:VEVENT
BEGIN:VEVENT
DTSTART;TZID=America/Mexico_City:20250105T180000
DTEND;TZID=America/Mexico_City:20250105T200000
DTSTAMP:20260420T060047
CREATED:20241010T172018Z
LAST-MODIFIED:20250618T074053Z
UID:10000866-1736100000-1736107200@www.sayulitalife.com
SUMMARY:Turtle Release
DESCRIPTION:Sayulita Turtle Release\nEveryday: Located on the North end of the beach\nJoin Conservacion de Tortuga for nightly turtle releases. Follow for updates and accurate release days and time. These will vary based on when eggs are hatching.\nsayulitaturtlecamp@gmail.com
URL:https://www.sayulitalife.com/sayulero/calendar/turtle-release-2/2025-01-05/
LOCATION:Conservacion de Tortugas\, Av. del Palmar 196\, Sayulita\, Nayarit\, 63734\, Mexico
CATEGORIES:Community,Volunteer
ATTACH;FMTTYPE=image/jpeg:https://res.cloudinary.com/sayulitalife/images/w_1920/f_auto,q_auto/v1728422214/wordpress_assets/Turtles-For-CK/Turtles-For-CK.jpg?_i=AA
END:VEVENT
BEGIN:VEVENT
DTSTART;TZID=America/Mexico_City:20250106T180000
DTEND;TZID=America/Mexico_City:20250106T200000
DTSTAMP:20260420T060047
CREATED:20241010T172018Z
LAST-MODIFIED:20250618T074053Z
UID:10000867-1736186400-1736193600@www.sayulitalife.com
SUMMARY:Turtle Release
DESCRIPTION:Sayulita Turtle Release\nEveryday: Located on the North end of the beach\nJoin Conservacion de Tortuga for nightly turtle releases. Follow for updates and accurate release days and time. These will vary based on when eggs are hatching.\nsayulitaturtlecamp@gmail.com
URL:https://www.sayulitalife.com/sayulero/calendar/turtle-release-2/2025-01-06/
LOCATION:Conservacion de Tortugas\, Av. del Palmar 196\, Sayulita\, Nayarit\, 63734\, Mexico
CATEGORIES:Community,Volunteer
ATTACH;FMTTYPE=image/jpeg:https://res.cloudinary.com/sayulitalife/images/w_1920/f_auto,q_auto/v1728422214/wordpress_assets/Turtles-For-CK/Turtles-For-CK.jpg?_i=AA
END:VEVENT
BEGIN:VEVENT
DTSTART;TZID=America/Mexico_City:20250107T180000
DTEND;TZID=America/Mexico_City:20250107T200000
DTSTAMP:20260420T060047
CREATED:20241010T172018Z
LAST-MODIFIED:20250618T074053Z
UID:10000868-1736272800-1736280000@www.sayulitalife.com
SUMMARY:Turtle Release
DESCRIPTION:Sayulita Turtle Release\nEveryday: Located on the North end of the beach\nJoin Conservacion de Tortuga for nightly turtle releases. Follow for updates and accurate release days and time. These will vary based on when eggs are hatching.\nsayulitaturtlecamp@gmail.com
URL:https://www.sayulitalife.com/sayulero/calendar/turtle-release-2/2025-01-07/
LOCATION:Conservacion de Tortugas\, Av. del Palmar 196\, Sayulita\, Nayarit\, 63734\, Mexico
CATEGORIES:Community,Volunteer
ATTACH;FMTTYPE=image/jpeg:https://res.cloudinary.com/sayulitalife/images/w_1920/f_auto,q_auto/v1728422214/wordpress_assets/Turtles-For-CK/Turtles-For-CK.jpg?_i=AA
END:VEVENT
BEGIN:VEVENT
DTSTART;TZID=America/Mexico_City:20250108T180000
DTEND;TZID=America/Mexico_City:20250108T200000
DTSTAMP:20260420T060047
CREATED:20241010T172018Z
LAST-MODIFIED:20250618T074053Z
UID:10000869-1736359200-1736366400@www.sayulitalife.com
SUMMARY:Turtle Release
DESCRIPTION:Sayulita Turtle Release\nEveryday: Located on the North end of the beach\nJoin Conservacion de Tortuga for nightly turtle releases. Follow for updates and accurate release days and time. These will vary based on when eggs are hatching.\nsayulitaturtlecamp@gmail.com
URL:https://www.sayulitalife.com/sayulero/calendar/turtle-release-2/2025-01-08/
LOCATION:Conservacion de Tortugas\, Av. del Palmar 196\, Sayulita\, Nayarit\, 63734\, Mexico
CATEGORIES:Community,Volunteer
ATTACH;FMTTYPE=image/jpeg:https://res.cloudinary.com/sayulitalife/images/w_1920/f_auto,q_auto/v1728422214/wordpress_assets/Turtles-For-CK/Turtles-For-CK.jpg?_i=AA
END:VEVENT
BEGIN:VEVENT
DTSTART;TZID=America/Mexico_City:20250109T180000
DTEND;TZID=America/Mexico_City:20250109T200000
DTSTAMP:20260420T060047
CREATED:20241010T172018Z
LAST-MODIFIED:20250618T074053Z
UID:10000870-1736445600-1736452800@www.sayulitalife.com
SUMMARY:Turtle Release
DESCRIPTION:Sayulita Turtle Release\nEveryday: Located on the North end of the beach\nJoin Conservacion de Tortuga for nightly turtle releases. Follow for updates and accurate release days and time. These will vary based on when eggs are hatching.\nsayulitaturtlecamp@gmail.com
URL:https://www.sayulitalife.com/sayulero/calendar/turtle-release-2/2025-01-09/
LOCATION:Conservacion de Tortugas\, Av. del Palmar 196\, Sayulita\, Nayarit\, 63734\, Mexico
CATEGORIES:Community,Volunteer
ATTACH;FMTTYPE=image/jpeg:https://res.cloudinary.com/sayulitalife/images/w_1920/f_auto,q_auto/v1728422214/wordpress_assets/Turtles-For-CK/Turtles-For-CK.jpg?_i=AA
END:VEVENT
BEGIN:VEVENT
DTSTART;TZID=America/Mexico_City:20250110T180000
DTEND;TZID=America/Mexico_City:20250110T200000
DTSTAMP:20260420T060047
CREATED:20241010T172018Z
LAST-MODIFIED:20250618T074053Z
UID:10000871-1736532000-1736539200@www.sayulitalife.com
SUMMARY:Turtle Release
DESCRIPTION:Sayulita Turtle Release\nEveryday: Located on the North end of the beach\nJoin Conservacion de Tortuga for nightly turtle releases. Follow for updates and accurate release days and time. These will vary based on when eggs are hatching.\nsayulitaturtlecamp@gmail.com
URL:https://www.sayulitalife.com/sayulero/calendar/turtle-release-2/2025-01-10/
LOCATION:Conservacion de Tortugas\, Av. del Palmar 196\, Sayulita\, Nayarit\, 63734\, Mexico
CATEGORIES:Community,Volunteer
ATTACH;FMTTYPE=image/jpeg:https://res.cloudinary.com/sayulitalife/images/w_1920/f_auto,q_auto/v1728422214/wordpress_assets/Turtles-For-CK/Turtles-For-CK.jpg?_i=AA
END:VEVENT
BEGIN:VEVENT
DTSTART;TZID=America/Mexico_City:20250111T180000
DTEND;TZID=America/Mexico_City:20250111T200000
DTSTAMP:20260420T060047
CREATED:20241010T172018Z
LAST-MODIFIED:20250618T074053Z
UID:10000872-1736618400-1736625600@www.sayulitalife.com
SUMMARY:Turtle Release
DESCRIPTION:Sayulita Turtle Release\nEveryday: Located on the North end of the beach\nJoin Conservacion de Tortuga for nightly turtle releases. Follow for updates and accurate release days and time. These will vary based on when eggs are hatching.\nsayulitaturtlecamp@gmail.com
URL:https://www.sayulitalife.com/sayulero/calendar/turtle-release-2/2025-01-11/
LOCATION:Conservacion de Tortugas\, Av. del Palmar 196\, Sayulita\, Nayarit\, 63734\, Mexico
CATEGORIES:Community,Volunteer
ATTACH;FMTTYPE=image/jpeg:https://res.cloudinary.com/sayulitalife/images/w_1920/f_auto,q_auto/v1728422214/wordpress_assets/Turtles-For-CK/Turtles-For-CK.jpg?_i=AA
END:VEVENT
BEGIN:VEVENT
DTSTART;TZID=America/Mexico_City:20250112T180000
DTEND;TZID=America/Mexico_City:20250112T200000
DTSTAMP:20260420T060047
CREATED:20241010T172018Z
LAST-MODIFIED:20250618T074053Z
UID:10000873-1736704800-1736712000@www.sayulitalife.com
SUMMARY:Turtle Release
DESCRIPTION:Sayulita Turtle Release\nEveryday: Located on the North end of the beach\nJoin Conservacion de Tortuga for nightly turtle releases. Follow for updates and accurate release days and time. These will vary based on when eggs are hatching.\nsayulitaturtlecamp@gmail.com
URL:https://www.sayulitalife.com/sayulero/calendar/turtle-release-2/2025-01-12/
LOCATION:Conservacion de Tortugas\, Av. del Palmar 196\, Sayulita\, Nayarit\, 63734\, Mexico
CATEGORIES:Community,Volunteer
ATTACH;FMTTYPE=image/jpeg:https://res.cloudinary.com/sayulitalife/images/w_1920/f_auto,q_auto/v1728422214/wordpress_assets/Turtles-For-CK/Turtles-For-CK.jpg?_i=AA
END:VEVENT
BEGIN:VEVENT
DTSTART;TZID=America/Mexico_City:20250113T180000
DTEND;TZID=America/Mexico_City:20250113T200000
DTSTAMP:20260420T060047
CREATED:20241010T172018Z
LAST-MODIFIED:20250618T074053Z
UID:10000874-1736791200-1736798400@www.sayulitalife.com
SUMMARY:Turtle Release
DESCRIPTION:Sayulita Turtle Release\nEveryday: Located on the North end of the beach\nJoin Conservacion de Tortuga for nightly turtle releases. Follow for updates and accurate release days and time. These will vary based on when eggs are hatching.\nsayulitaturtlecamp@gmail.com
URL:https://www.sayulitalife.com/sayulero/calendar/turtle-release-2/2025-01-13/
LOCATION:Conservacion de Tortugas\, Av. del Palmar 196\, Sayulita\, Nayarit\, 63734\, Mexico
CATEGORIES:Community,Volunteer
ATTACH;FMTTYPE=image/jpeg:https://res.cloudinary.com/sayulitalife/images/w_1920/f_auto,q_auto/v1728422214/wordpress_assets/Turtles-For-CK/Turtles-For-CK.jpg?_i=AA
END:VEVENT
BEGIN:VEVENT
DTSTART;TZID=America/Mexico_City:20250114T180000
DTEND;TZID=America/Mexico_City:20250114T200000
DTSTAMP:20260420T060047
CREATED:20241010T172018Z
LAST-MODIFIED:20250618T074053Z
UID:10000875-1736877600-1736884800@www.sayulitalife.com
SUMMARY:Turtle Release
DESCRIPTION:Sayulita Turtle Release\nEveryday: Located on the North end of the beach\nJoin Conservacion de Tortuga for nightly turtle releases. Follow for updates and accurate release days and time. These will vary based on when eggs are hatching.\nsayulitaturtlecamp@gmail.com
URL:https://www.sayulitalife.com/sayulero/calendar/turtle-release-2/2025-01-14/
LOCATION:Conservacion de Tortugas\, Av. del Palmar 196\, Sayulita\, Nayarit\, 63734\, Mexico
CATEGORIES:Community,Volunteer
ATTACH;FMTTYPE=image/jpeg:https://res.cloudinary.com/sayulitalife/images/w_1920/f_auto,q_auto/v1728422214/wordpress_assets/Turtles-For-CK/Turtles-For-CK.jpg?_i=AA
END:VEVENT
BEGIN:VEVENT
DTSTART;TZID=America/Mexico_City:20250115T180000
DTEND;TZID=America/Mexico_City:20250115T200000
DTSTAMP:20260420T060047
CREATED:20241010T172018Z
LAST-MODIFIED:20250618T074053Z
UID:10000876-1736964000-1736971200@www.sayulitalife.com
SUMMARY:Turtle Release
DESCRIPTION:Sayulita Turtle Release\nEveryday: Located on the North end of the beach\nJoin Conservacion de Tortuga for nightly turtle releases. Follow for updates and accurate release days and time. These will vary based on when eggs are hatching.\nsayulitaturtlecamp@gmail.com
URL:https://www.sayulitalife.com/sayulero/calendar/turtle-release-2/2025-01-15/
LOCATION:Conservacion de Tortugas\, Av. del Palmar 196\, Sayulita\, Nayarit\, 63734\, Mexico
CATEGORIES:Community,Volunteer
ATTACH;FMTTYPE=image/jpeg:https://res.cloudinary.com/sayulitalife/images/w_1920/f_auto,q_auto/v1728422214/wordpress_assets/Turtles-For-CK/Turtles-For-CK.jpg?_i=AA
END:VEVENT
BEGIN:VEVENT
DTSTART;TZID=America/Mexico_City:20250116T180000
DTEND;TZID=America/Mexico_City:20250116T200000
DTSTAMP:20260420T060047
CREATED:20241010T172018Z
LAST-MODIFIED:20250618T074053Z
UID:10000877-1737050400-1737057600@www.sayulitalife.com
SUMMARY:Turtle Release
DESCRIPTION:Sayulita Turtle Release\nEveryday: Located on the North end of the beach\nJoin Conservacion de Tortuga for nightly turtle releases. Follow for updates and accurate release days and time. These will vary based on when eggs are hatching.\nsayulitaturtlecamp@gmail.com
URL:https://www.sayulitalife.com/sayulero/calendar/turtle-release-2/2025-01-16/
LOCATION:Conservacion de Tortugas\, Av. del Palmar 196\, Sayulita\, Nayarit\, 63734\, Mexico
CATEGORIES:Community,Volunteer
ATTACH;FMTTYPE=image/jpeg:https://res.cloudinary.com/sayulitalife/images/w_1920/f_auto,q_auto/v1728422214/wordpress_assets/Turtles-For-CK/Turtles-For-CK.jpg?_i=AA
END:VEVENT
BEGIN:VEVENT
DTSTART;TZID=America/Mexico_City:20250117T180000
DTEND;TZID=America/Mexico_City:20250117T200000
DTSTAMP:20260420T060047
CREATED:20241010T172018Z
LAST-MODIFIED:20250618T074053Z
UID:10000878-1737136800-1737144000@www.sayulitalife.com
SUMMARY:Turtle Release
DESCRIPTION:Sayulita Turtle Release\nEveryday: Located on the North end of the beach\nJoin Conservacion de Tortuga for nightly turtle releases. Follow for updates and accurate release days and time. These will vary based on when eggs are hatching.\nsayulitaturtlecamp@gmail.com
URL:https://www.sayulitalife.com/sayulero/calendar/turtle-release-2/2025-01-17/
LOCATION:Conservacion de Tortugas\, Av. del Palmar 196\, Sayulita\, Nayarit\, 63734\, Mexico
CATEGORIES:Community,Volunteer
ATTACH;FMTTYPE=image/jpeg:https://res.cloudinary.com/sayulitalife/images/w_1920/f_auto,q_auto/v1728422214/wordpress_assets/Turtles-For-CK/Turtles-For-CK.jpg?_i=AA
END:VEVENT
BEGIN:VEVENT
DTSTART;TZID=America/Mexico_City:20250118T180000
DTEND;TZID=America/Mexico_City:20250118T200000
DTSTAMP:20260420T060047
CREATED:20241010T172018Z
LAST-MODIFIED:20250618T074053Z
UID:10000879-1737223200-1737230400@www.sayulitalife.com
SUMMARY:Turtle Release
DESCRIPTION:Sayulita Turtle Release\nEveryday: Located on the North end of the beach\nJoin Conservacion de Tortuga for nightly turtle releases. Follow for updates and accurate release days and time. These will vary based on when eggs are hatching.\nsayulitaturtlecamp@gmail.com
URL:https://www.sayulitalife.com/sayulero/calendar/turtle-release-2/2025-01-18/
LOCATION:Conservacion de Tortugas\, Av. del Palmar 196\, Sayulita\, Nayarit\, 63734\, Mexico
CATEGORIES:Community,Volunteer
ATTACH;FMTTYPE=image/jpeg:https://res.cloudinary.com/sayulitalife/images/w_1920/f_auto,q_auto/v1728422214/wordpress_assets/Turtles-For-CK/Turtles-For-CK.jpg?_i=AA
END:VEVENT
BEGIN:VEVENT
DTSTART;TZID=America/Mexico_City:20250119T180000
DTEND;TZID=America/Mexico_City:20250119T200000
DTSTAMP:20260420T060047
CREATED:20241010T172018Z
LAST-MODIFIED:20250618T074053Z
UID:10000880-1737309600-1737316800@www.sayulitalife.com
SUMMARY:Turtle Release
DESCRIPTION:Sayulita Turtle Release\nEveryday: Located on the North end of the beach\nJoin Conservacion de Tortuga for nightly turtle releases. Follow for updates and accurate release days and time. These will vary based on when eggs are hatching.\nsayulitaturtlecamp@gmail.com
URL:https://www.sayulitalife.com/sayulero/calendar/turtle-release-2/2025-01-19/
LOCATION:Conservacion de Tortugas\, Av. del Palmar 196\, Sayulita\, Nayarit\, 63734\, Mexico
CATEGORIES:Community,Volunteer
ATTACH;FMTTYPE=image/jpeg:https://res.cloudinary.com/sayulitalife/images/w_1920/f_auto,q_auto/v1728422214/wordpress_assets/Turtles-For-CK/Turtles-For-CK.jpg?_i=AA
END:VEVENT
BEGIN:VEVENT
DTSTART;TZID=America/Mexico_City:20250120T180000
DTEND;TZID=America/Mexico_City:20250120T200000
DTSTAMP:20260420T060047
CREATED:20241010T172018Z
LAST-MODIFIED:20250618T074053Z
UID:10000881-1737396000-1737403200@www.sayulitalife.com
SUMMARY:Turtle Release
DESCRIPTION:Sayulita Turtle Release\nEveryday: Located on the North end of the beach\nJoin Conservacion de Tortuga for nightly turtle releases. Follow for updates and accurate release days and time. These will vary based on when eggs are hatching.\nsayulitaturtlecamp@gmail.com
URL:https://www.sayulitalife.com/sayulero/calendar/turtle-release-2/2025-01-20/
LOCATION:Conservacion de Tortugas\, Av. del Palmar 196\, Sayulita\, Nayarit\, 63734\, Mexico
CATEGORIES:Community,Volunteer
ATTACH;FMTTYPE=image/jpeg:https://res.cloudinary.com/sayulitalife/images/w_1920/f_auto,q_auto/v1728422214/wordpress_assets/Turtles-For-CK/Turtles-For-CK.jpg?_i=AA
END:VEVENT
BEGIN:VEVENT
DTSTART;TZID=America/Mexico_City:20250121T180000
DTEND;TZID=America/Mexico_City:20250121T200000
DTSTAMP:20260420T060047
CREATED:20241010T172018Z
LAST-MODIFIED:20250618T074053Z
UID:10000882-1737482400-1737489600@www.sayulitalife.com
SUMMARY:Turtle Release
DESCRIPTION:Sayulita Turtle Release\nEveryday: Located on the North end of the beach\nJoin Conservacion de Tortuga for nightly turtle releases. Follow for updates and accurate release days and time. These will vary based on when eggs are hatching.\nsayulitaturtlecamp@gmail.com
URL:https://www.sayulitalife.com/sayulero/calendar/turtle-release-2/2025-01-21/
LOCATION:Conservacion de Tortugas\, Av. del Palmar 196\, Sayulita\, Nayarit\, 63734\, Mexico
CATEGORIES:Community,Volunteer
ATTACH;FMTTYPE=image/jpeg:https://res.cloudinary.com/sayulitalife/images/w_1920/f_auto,q_auto/v1728422214/wordpress_assets/Turtles-For-CK/Turtles-For-CK.jpg?_i=AA
END:VEVENT
BEGIN:VEVENT
DTSTART;TZID=America/Mexico_City:20250122T180000
DTEND;TZID=America/Mexico_City:20250122T200000
DTSTAMP:20260420T060047
CREATED:20241010T172018Z
LAST-MODIFIED:20250618T074053Z
UID:10000883-1737568800-1737576000@www.sayulitalife.com
SUMMARY:Turtle Release
DESCRIPTION:Sayulita Turtle Release\nEveryday: Located on the North end of the beach\nJoin Conservacion de Tortuga for nightly turtle releases. Follow for updates and accurate release days and time. These will vary based on when eggs are hatching.\nsayulitaturtlecamp@gmail.com
URL:https://www.sayulitalife.com/sayulero/calendar/turtle-release-2/2025-01-22/
LOCATION:Conservacion de Tortugas\, Av. del Palmar 196\, Sayulita\, Nayarit\, 63734\, Mexico
CATEGORIES:Community,Volunteer
ATTACH;FMTTYPE=image/jpeg:https://res.cloudinary.com/sayulitalife/images/w_1920/f_auto,q_auto/v1728422214/wordpress_assets/Turtles-For-CK/Turtles-For-CK.jpg?_i=AA
END:VEVENT
BEGIN:VEVENT
DTSTART;TZID=America/Mexico_City:20250123T180000
DTEND;TZID=America/Mexico_City:20250123T200000
DTSTAMP:20260420T060047
CREATED:20241010T172018Z
LAST-MODIFIED:20250618T074053Z
UID:10000884-1737655200-1737662400@www.sayulitalife.com
SUMMARY:Turtle Release
DESCRIPTION:Sayulita Turtle Release\nEveryday: Located on the North end of the beach\nJoin Conservacion de Tortuga for nightly turtle releases. Follow for updates and accurate release days and time. These will vary based on when eggs are hatching.\nsayulitaturtlecamp@gmail.com
URL:https://www.sayulitalife.com/sayulero/calendar/turtle-release-2/2025-01-23/
LOCATION:Conservacion de Tortugas\, Av. del Palmar 196\, Sayulita\, Nayarit\, 63734\, Mexico
CATEGORIES:Community,Volunteer
ATTACH;FMTTYPE=image/jpeg:https://res.cloudinary.com/sayulitalife/images/w_1920/f_auto,q_auto/v1728422214/wordpress_assets/Turtles-For-CK/Turtles-For-CK.jpg?_i=AA
END:VEVENT
BEGIN:VEVENT
DTSTART;TZID=America/Mexico_City:20250124T180000
DTEND;TZID=America/Mexico_City:20250124T200000
DTSTAMP:20260420T060048
CREATED:20241010T172018Z
LAST-MODIFIED:20250618T074053Z
UID:10000885-1737741600-1737748800@www.sayulitalife.com
SUMMARY:Turtle Release
DESCRIPTION:Sayulita Turtle Release\nEveryday: Located on the North end of the beach\nJoin Conservacion de Tortuga for nightly turtle releases. Follow for updates and accurate release days and time. These will vary based on when eggs are hatching.\nsayulitaturtlecamp@gmail.com
URL:https://www.sayulitalife.com/sayulero/calendar/turtle-release-2/2025-01-24/
LOCATION:Conservacion de Tortugas\, Av. del Palmar 196\, Sayulita\, Nayarit\, 63734\, Mexico
CATEGORIES:Community,Volunteer
ATTACH;FMTTYPE=image/jpeg:https://res.cloudinary.com/sayulitalife/images/w_1920/f_auto,q_auto/v1728422214/wordpress_assets/Turtles-For-CK/Turtles-For-CK.jpg?_i=AA
END:VEVENT
BEGIN:VEVENT
DTSTART;TZID=America/Mexico_City:20250125T180000
DTEND;TZID=America/Mexico_City:20250125T200000
DTSTAMP:20260420T060048
CREATED:20241010T172018Z
LAST-MODIFIED:20250618T074053Z
UID:10000886-1737828000-1737835200@www.sayulitalife.com
SUMMARY:Turtle Release
DESCRIPTION:Sayulita Turtle Release\nEveryday: Located on the North end of the beach\nJoin Conservacion de Tortuga for nightly turtle releases. Follow for updates and accurate release days and time. These will vary based on when eggs are hatching.\nsayulitaturtlecamp@gmail.com
URL:https://www.sayulitalife.com/sayulero/calendar/turtle-release-2/2025-01-25/
LOCATION:Conservacion de Tortugas\, Av. del Palmar 196\, Sayulita\, Nayarit\, 63734\, Mexico
CATEGORIES:Community,Volunteer
ATTACH;FMTTYPE=image/jpeg:https://res.cloudinary.com/sayulitalife/images/w_1920/f_auto,q_auto/v1728422214/wordpress_assets/Turtles-For-CK/Turtles-For-CK.jpg?_i=AA
END:VEVENT
BEGIN:VEVENT
DTSTART;TZID=America/Mexico_City:20250126T180000
DTEND;TZID=America/Mexico_City:20250126T200000
DTSTAMP:20260420T060048
CREATED:20241010T172018Z
LAST-MODIFIED:20250618T074053Z
UID:10000887-1737914400-1737921600@www.sayulitalife.com
SUMMARY:Turtle Release
DESCRIPTION:Sayulita Turtle Release\nEveryday: Located on the North end of the beach\nJoin Conservacion de Tortuga for nightly turtle releases. Follow for updates and accurate release days and time. These will vary based on when eggs are hatching.\nsayulitaturtlecamp@gmail.com
URL:https://www.sayulitalife.com/sayulero/calendar/turtle-release-2/2025-01-26/
LOCATION:Conservacion de Tortugas\, Av. del Palmar 196\, Sayulita\, Nayarit\, 63734\, Mexico
CATEGORIES:Community,Volunteer
ATTACH;FMTTYPE=image/jpeg:https://res.cloudinary.com/sayulitalife/images/w_1920/f_auto,q_auto/v1728422214/wordpress_assets/Turtles-For-CK/Turtles-For-CK.jpg?_i=AA
END:VEVENT
BEGIN:VEVENT
DTSTART;TZID=America/Mexico_City:20250127T180000
DTEND;TZID=America/Mexico_City:20250127T200000
DTSTAMP:20260420T060048
CREATED:20241010T172018Z
LAST-MODIFIED:20250618T074053Z
UID:10000888-1738000800-1738008000@www.sayulitalife.com
SUMMARY:Turtle Release
DESCRIPTION:Sayulita Turtle Release\nEveryday: Located on the North end of the beach\nJoin Conservacion de Tortuga for nightly turtle releases. Follow for updates and accurate release days and time. These will vary based on when eggs are hatching.\nsayulitaturtlecamp@gmail.com
URL:https://www.sayulitalife.com/sayulero/calendar/turtle-release-2/2025-01-27/
LOCATION:Conservacion de Tortugas\, Av. del Palmar 196\, Sayulita\, Nayarit\, 63734\, Mexico
CATEGORIES:Community,Volunteer
ATTACH;FMTTYPE=image/jpeg:https://res.cloudinary.com/sayulitalife/images/w_1920/f_auto,q_auto/v1728422214/wordpress_assets/Turtles-For-CK/Turtles-For-CK.jpg?_i=AA
END:VEVENT
BEGIN:VEVENT
DTSTART;TZID=America/Mexico_City:20250128T180000
DTEND;TZID=America/Mexico_City:20250128T200000
DTSTAMP:20260420T060048
CREATED:20241010T172018Z
LAST-MODIFIED:20250618T074053Z
UID:10000889-1738087200-1738094400@www.sayulitalife.com
SUMMARY:Turtle Release
DESCRIPTION:Sayulita Turtle Release\nEveryday: Located on the North end of the beach\nJoin Conservacion de Tortuga for nightly turtle releases. Follow for updates and accurate release days and time. These will vary based on when eggs are hatching.\nsayulitaturtlecamp@gmail.com
URL:https://www.sayulitalife.com/sayulero/calendar/turtle-release-2/2025-01-28/
LOCATION:Conservacion de Tortugas\, Av. del Palmar 196\, Sayulita\, Nayarit\, 63734\, Mexico
CATEGORIES:Community,Volunteer
ATTACH;FMTTYPE=image/jpeg:https://res.cloudinary.com/sayulitalife/images/w_1920/f_auto,q_auto/v1728422214/wordpress_assets/Turtles-For-CK/Turtles-For-CK.jpg?_i=AA
END:VEVENT
BEGIN:VEVENT
DTSTART;TZID=America/Mexico_City:20250129T180000
DTEND;TZID=America/Mexico_City:20250129T200000
DTSTAMP:20260420T060048
CREATED:20241010T172018Z
LAST-MODIFIED:20250618T074053Z
UID:10000890-1738173600-1738180800@www.sayulitalife.com
SUMMARY:Turtle Release
DESCRIPTION:Sayulita Turtle Release\nEveryday: Located on the North end of the beach\nJoin Conservacion de Tortuga for nightly turtle releases. Follow for updates and accurate release days and time. These will vary based on when eggs are hatching.\nsayulitaturtlecamp@gmail.com
URL:https://www.sayulitalife.com/sayulero/calendar/turtle-release-2/2025-01-29/
LOCATION:Conservacion de Tortugas\, Av. del Palmar 196\, Sayulita\, Nayarit\, 63734\, Mexico
CATEGORIES:Community,Volunteer
ATTACH;FMTTYPE=image/jpeg:https://res.cloudinary.com/sayulitalife/images/w_1920/f_auto,q_auto/v1728422214/wordpress_assets/Turtles-For-CK/Turtles-For-CK.jpg?_i=AA
END:VEVENT
BEGIN:VEVENT
DTSTART;TZID=America/Mexico_City:20250130T180000
DTEND;TZID=America/Mexico_City:20250130T200000
DTSTAMP:20260420T060048
CREATED:20241010T172018Z
LAST-MODIFIED:20250618T074053Z
UID:10000891-1738260000-1738267200@www.sayulitalife.com
SUMMARY:Turtle Release
DESCRIPTION:Sayulita Turtle Release\nEveryday: Located on the North end of the beach\nJoin Conservacion de Tortuga for nightly turtle releases. Follow for updates and accurate release days and time. These will vary based on when eggs are hatching.\nsayulitaturtlecamp@gmail.com
URL:https://www.sayulitalife.com/sayulero/calendar/turtle-release-2/2025-01-30/
LOCATION:Conservacion de Tortugas\, Av. del Palmar 196\, Sayulita\, Nayarit\, 63734\, Mexico
CATEGORIES:Community,Volunteer
ATTACH;FMTTYPE=image/jpeg:https://res.cloudinary.com/sayulitalife/images/w_1920/f_auto,q_auto/v1728422214/wordpress_assets/Turtles-For-CK/Turtles-For-CK.jpg?_i=AA
END:VEVENT
END:VCALENDAR