BEGIN:VCALENDAR
VERSION:2.0
PRODID:-//El Sayulero - ECPv6.13.1//NONSGML v1.0//EN
CALSCALE:GREGORIAN
METHOD:PUBLISH
X-ORIGINAL-URL:https://www.sayulitalife.com/sayulero
X-WR-CALDESC:Events for El Sayulero
REFRESH-INTERVAL;VALUE=DURATION:PT1H
X-Robots-Tag:noindex
X-PUBLISHED-TTL:PT1H
BEGIN:VTIMEZONE
TZID:America/Mexico_City
BEGIN:STANDARD
TZOFFSETFROM:-0600
TZOFFSETTO:-0600
TZNAME:CST
DTSTART:20250101T000000
END:STANDARD
END:VTIMEZONE
BEGIN:VEVENT
DTSTART;TZID=America/Mexico_City:20250805T170000
DTEND;TZID=America/Mexico_City:20250805T170000
DTSTAMP:20260419T162252
CREATED:20250728T231707Z
LAST-MODIFIED:20250728T231707Z
UID:10009796-1754413200-1754413200@www.sayulitalife.com
SUMMARY:Sayulita Beach Clean Up
DESCRIPTION:Join us for our monthly beach clean-up! \nTuesday\, August 5th at 5pm. Meet up at the pescadores beach!
URL:https://www.sayulitalife.com/sayulero/calendar/sayulita-beach-clean-up/
CATEGORIES:Community,Volunteer
ATTACH;FMTTYPE=image/jpeg:https://res.cloudinary.com/sayulitalife/images/w_1920/f_auto,q_auto/v1753744623/wordpress_assets/WhatsApp-Image-2025-07-28-at-16.24.46_37863b5f01/WhatsApp-Image-2025-07-28-at-16.24.46_37863b5f01.jpeg?_i=AA
END:VEVENT
END:VCALENDAR