BEGIN:VCALENDAR
VERSION:2.0
PRODID:-//El Sayulero - ECPv6.13.1//NONSGML v1.0//EN
CALSCALE:GREGORIAN
METHOD:PUBLISH
X-WR-CALNAME:El Sayulero
X-ORIGINAL-URL:https://www.sayulitalife.com/sayulero
X-WR-CALDESC:Events for El Sayulero
REFRESH-INTERVAL;VALUE=DURATION:PT1H
X-Robots-Tag:noindex
X-PUBLISHED-TTL:PT1H
BEGIN:VTIMEZONE
TZID:America/Mexico_City
BEGIN:STANDARD
TZOFFSETFROM:-0600
TZOFFSETTO:-0600
TZNAME:CST
DTSTART:20260101T000000
END:STANDARD
END:VTIMEZONE
BEGIN:VEVENT
DTSTART;TZID=America/Mexico_City:20261116T190000
DTEND;TZID=America/Mexico_City:20261116T220000
DTSTAMP:20260420T162434
CREATED:20250811T210924Z
LAST-MODIFIED:20260220T222235Z
UID:10010602-1794855600-1794866400@www.sayulitalife.com
SUMMARY:Don Pedros Salsa Night
DESCRIPTION:Join us for Salsa Night\, every Monday at 8:00 PM during the season (Oct – June). \nCome at 7:00 PM for salsa lessons.
URL:https://www.sayulitalife.com/sayulero/calendar/don-pedros-salsa-night/2026-11-16/
LOCATION:Don Pedros Restaurant\, C. Marlín 2\, Sayulita\, Nayarit\, 63734\, Mexico
CATEGORIES:Community,Music
ATTACH;FMTTYPE=image/png:https://res.cloudinary.com/sayulitalife/images/w_1920/f_auto,q_auto/v1754946566/wordpress_assets/15f3b634-b643-2178-a2a8-112940b8af26_37989914aa/15f3b634-b643-2178-a2a8-112940b8af26_37989914aa.png?_i=AA
END:VEVENT
BEGIN:VEVENT
DTSTART;TZID=America/Mexico_City:20261123T190000
DTEND;TZID=America/Mexico_City:20261123T220000
DTSTAMP:20260420T162434
CREATED:20250811T210924Z
LAST-MODIFIED:20260220T222235Z
UID:10010603-1795460400-1795471200@www.sayulitalife.com
SUMMARY:Don Pedros Salsa Night
DESCRIPTION:Join us for Salsa Night\, every Monday at 8:00 PM during the season (Oct – June). \nCome at 7:00 PM for salsa lessons.
URL:https://www.sayulitalife.com/sayulero/calendar/don-pedros-salsa-night/2026-11-23/
LOCATION:Don Pedros Restaurant\, C. Marlín 2\, Sayulita\, Nayarit\, 63734\, Mexico
CATEGORIES:Community,Music
ATTACH;FMTTYPE=image/png:https://res.cloudinary.com/sayulitalife/images/w_1920/f_auto,q_auto/v1754946566/wordpress_assets/15f3b634-b643-2178-a2a8-112940b8af26_37989914aa/15f3b634-b643-2178-a2a8-112940b8af26_37989914aa.png?_i=AA
END:VEVENT
BEGIN:VEVENT
DTSTART;TZID=America/Mexico_City:20261130T190000
DTEND;TZID=America/Mexico_City:20261130T220000
DTSTAMP:20260420T162434
CREATED:20250811T210924Z
LAST-MODIFIED:20260220T222235Z
UID:10010604-1796065200-1796076000@www.sayulitalife.com
SUMMARY:Don Pedros Salsa Night
DESCRIPTION:Join us for Salsa Night\, every Monday at 8:00 PM during the season (Oct – June). \nCome at 7:00 PM for salsa lessons.
URL:https://www.sayulitalife.com/sayulero/calendar/don-pedros-salsa-night/2026-11-30/
LOCATION:Don Pedros Restaurant\, C. Marlín 2\, Sayulita\, Nayarit\, 63734\, Mexico
CATEGORIES:Community,Music
ATTACH;FMTTYPE=image/png:https://res.cloudinary.com/sayulitalife/images/w_1920/f_auto,q_auto/v1754946566/wordpress_assets/15f3b634-b643-2178-a2a8-112940b8af26_37989914aa/15f3b634-b643-2178-a2a8-112940b8af26_37989914aa.png?_i=AA
END:VEVENT
BEGIN:VEVENT
DTSTART;TZID=America/Mexico_City:20261207T190000
DTEND;TZID=America/Mexico_City:20261207T220000
DTSTAMP:20260420T162434
CREATED:20250811T210924Z
LAST-MODIFIED:20260220T222235Z
UID:10010605-1796670000-1796680800@www.sayulitalife.com
SUMMARY:Don Pedros Salsa Night
DESCRIPTION:Join us for Salsa Night\, every Monday at 8:00 PM during the season (Oct – June). \nCome at 7:00 PM for salsa lessons.
URL:https://www.sayulitalife.com/sayulero/calendar/don-pedros-salsa-night/2026-12-07/
LOCATION:Don Pedros Restaurant\, C. Marlín 2\, Sayulita\, Nayarit\, 63734\, Mexico
CATEGORIES:Community,Music
ATTACH;FMTTYPE=image/png:https://res.cloudinary.com/sayulitalife/images/w_1920/f_auto,q_auto/v1754946566/wordpress_assets/15f3b634-b643-2178-a2a8-112940b8af26_37989914aa/15f3b634-b643-2178-a2a8-112940b8af26_37989914aa.png?_i=AA
END:VEVENT
BEGIN:VEVENT
DTSTART;TZID=America/Mexico_City:20261214T190000
DTEND;TZID=America/Mexico_City:20261214T220000
DTSTAMP:20260420T162434
CREATED:20250811T210924Z
LAST-MODIFIED:20260220T222235Z
UID:10010606-1797274800-1797285600@www.sayulitalife.com
SUMMARY:Don Pedros Salsa Night
DESCRIPTION:Join us for Salsa Night\, every Monday at 8:00 PM during the season (Oct – June). \nCome at 7:00 PM for salsa lessons.
URL:https://www.sayulitalife.com/sayulero/calendar/don-pedros-salsa-night/2026-12-14/
LOCATION:Don Pedros Restaurant\, C. Marlín 2\, Sayulita\, Nayarit\, 63734\, Mexico
CATEGORIES:Community,Music
ATTACH;FMTTYPE=image/png:https://res.cloudinary.com/sayulitalife/images/w_1920/f_auto,q_auto/v1754946566/wordpress_assets/15f3b634-b643-2178-a2a8-112940b8af26_37989914aa/15f3b634-b643-2178-a2a8-112940b8af26_37989914aa.png?_i=AA
END:VEVENT
BEGIN:VEVENT
DTSTART;TZID=America/Mexico_City:20261221T190000
DTEND;TZID=America/Mexico_City:20261221T220000
DTSTAMP:20260420T162434
CREATED:20250811T210924Z
LAST-MODIFIED:20260220T222235Z
UID:10010607-1797879600-1797890400@www.sayulitalife.com
SUMMARY:Don Pedros Salsa Night
DESCRIPTION:Join us for Salsa Night\, every Monday at 8:00 PM during the season (Oct – June). \nCome at 7:00 PM for salsa lessons.
URL:https://www.sayulitalife.com/sayulero/calendar/don-pedros-salsa-night/2026-12-21/
LOCATION:Don Pedros Restaurant\, C. Marlín 2\, Sayulita\, Nayarit\, 63734\, Mexico
CATEGORIES:Community,Music
ATTACH;FMTTYPE=image/png:https://res.cloudinary.com/sayulitalife/images/w_1920/f_auto,q_auto/v1754946566/wordpress_assets/15f3b634-b643-2178-a2a8-112940b8af26_37989914aa/15f3b634-b643-2178-a2a8-112940b8af26_37989914aa.png?_i=AA
END:VEVENT
BEGIN:VEVENT
DTSTART;TZID=America/Mexico_City:20261228T190000
DTEND;TZID=America/Mexico_City:20261228T220000
DTSTAMP:20260420T162434
CREATED:20250811T210924Z
LAST-MODIFIED:20260220T222235Z
UID:10010608-1798484400-1798495200@www.sayulitalife.com
SUMMARY:Don Pedros Salsa Night
DESCRIPTION:Join us for Salsa Night\, every Monday at 8:00 PM during the season (Oct – June). \nCome at 7:00 PM for salsa lessons.
URL:https://www.sayulitalife.com/sayulero/calendar/don-pedros-salsa-night/2026-12-28/
LOCATION:Don Pedros Restaurant\, C. Marlín 2\, Sayulita\, Nayarit\, 63734\, Mexico
CATEGORIES:Community,Music
ATTACH;FMTTYPE=image/png:https://res.cloudinary.com/sayulitalife/images/w_1920/f_auto,q_auto/v1754946566/wordpress_assets/15f3b634-b643-2178-a2a8-112940b8af26_37989914aa/15f3b634-b643-2178-a2a8-112940b8af26_37989914aa.png?_i=AA
END:VEVENT
BEGIN:VEVENT
DTSTART;TZID=America/Mexico_City:20270104T190000
DTEND;TZID=America/Mexico_City:20270104T220000
DTSTAMP:20260420T162434
CREATED:20250811T210924Z
LAST-MODIFIED:20260220T222235Z
UID:10010609-1799089200-1799100000@www.sayulitalife.com
SUMMARY:Don Pedros Salsa Night
DESCRIPTION:Join us for Salsa Night\, every Monday at 8:00 PM during the season (Oct – June). \nCome at 7:00 PM for salsa lessons.
URL:https://www.sayulitalife.com/sayulero/calendar/don-pedros-salsa-night/2027-01-04/
LOCATION:Don Pedros Restaurant\, C. Marlín 2\, Sayulita\, Nayarit\, 63734\, Mexico
CATEGORIES:Community,Music
ATTACH;FMTTYPE=image/png:https://res.cloudinary.com/sayulitalife/images/w_1920/f_auto,q_auto/v1754946566/wordpress_assets/15f3b634-b643-2178-a2a8-112940b8af26_37989914aa/15f3b634-b643-2178-a2a8-112940b8af26_37989914aa.png?_i=AA
END:VEVENT
BEGIN:VEVENT
DTSTART;TZID=America/Mexico_City:20270111T190000
DTEND;TZID=America/Mexico_City:20270111T220000
DTSTAMP:20260420T162434
CREATED:20250811T210924Z
LAST-MODIFIED:20260220T222235Z
UID:10010610-1799694000-1799704800@www.sayulitalife.com
SUMMARY:Don Pedros Salsa Night
DESCRIPTION:Join us for Salsa Night\, every Monday at 8:00 PM during the season (Oct – June). \nCome at 7:00 PM for salsa lessons.
URL:https://www.sayulitalife.com/sayulero/calendar/don-pedros-salsa-night/2027-01-11/
LOCATION:Don Pedros Restaurant\, C. Marlín 2\, Sayulita\, Nayarit\, 63734\, Mexico
CATEGORIES:Community,Music
ATTACH;FMTTYPE=image/png:https://res.cloudinary.com/sayulitalife/images/w_1920/f_auto,q_auto/v1754946566/wordpress_assets/15f3b634-b643-2178-a2a8-112940b8af26_37989914aa/15f3b634-b643-2178-a2a8-112940b8af26_37989914aa.png?_i=AA
END:VEVENT
BEGIN:VEVENT
DTSTART;TZID=America/Mexico_City:20270118T190000
DTEND;TZID=America/Mexico_City:20270118T220000
DTSTAMP:20260420T162434
CREATED:20250811T210924Z
LAST-MODIFIED:20260220T222235Z
UID:10010611-1800298800-1800309600@www.sayulitalife.com
SUMMARY:Don Pedros Salsa Night
DESCRIPTION:Join us for Salsa Night\, every Monday at 8:00 PM during the season (Oct – June). \nCome at 7:00 PM for salsa lessons.
URL:https://www.sayulitalife.com/sayulero/calendar/don-pedros-salsa-night/2027-01-18/
LOCATION:Don Pedros Restaurant\, C. Marlín 2\, Sayulita\, Nayarit\, 63734\, Mexico
CATEGORIES:Community,Music
ATTACH;FMTTYPE=image/png:https://res.cloudinary.com/sayulitalife/images/w_1920/f_auto,q_auto/v1754946566/wordpress_assets/15f3b634-b643-2178-a2a8-112940b8af26_37989914aa/15f3b634-b643-2178-a2a8-112940b8af26_37989914aa.png?_i=AA
END:VEVENT
BEGIN:VEVENT
DTSTART;TZID=America/Mexico_City:20270125T190000
DTEND;TZID=America/Mexico_City:20270125T220000
DTSTAMP:20260420T162434
CREATED:20250811T210924Z
LAST-MODIFIED:20260220T222235Z
UID:10010612-1800903600-1800914400@www.sayulitalife.com
SUMMARY:Don Pedros Salsa Night
DESCRIPTION:Join us for Salsa Night\, every Monday at 8:00 PM during the season (Oct – June). \nCome at 7:00 PM for salsa lessons.
URL:https://www.sayulitalife.com/sayulero/calendar/don-pedros-salsa-night/2027-01-25/
LOCATION:Don Pedros Restaurant\, C. Marlín 2\, Sayulita\, Nayarit\, 63734\, Mexico
CATEGORIES:Community,Music
ATTACH;FMTTYPE=image/png:https://res.cloudinary.com/sayulitalife/images/w_1920/f_auto,q_auto/v1754946566/wordpress_assets/15f3b634-b643-2178-a2a8-112940b8af26_37989914aa/15f3b634-b643-2178-a2a8-112940b8af26_37989914aa.png?_i=AA
END:VEVENT
BEGIN:VEVENT
DTSTART;TZID=America/Mexico_City:20270201T190000
DTEND;TZID=America/Mexico_City:20270201T220000
DTSTAMP:20260420T162434
CREATED:20250811T210924Z
LAST-MODIFIED:20260220T222235Z
UID:10010613-1801508400-1801519200@www.sayulitalife.com
SUMMARY:Don Pedros Salsa Night
DESCRIPTION:Join us for Salsa Night\, every Monday at 8:00 PM during the season (Oct – June). \nCome at 7:00 PM for salsa lessons.
URL:https://www.sayulitalife.com/sayulero/calendar/don-pedros-salsa-night/2027-02-01/
LOCATION:Don Pedros Restaurant\, C. Marlín 2\, Sayulita\, Nayarit\, 63734\, Mexico
CATEGORIES:Community,Music
ATTACH;FMTTYPE=image/png:https://res.cloudinary.com/sayulitalife/images/w_1920/f_auto,q_auto/v1754946566/wordpress_assets/15f3b634-b643-2178-a2a8-112940b8af26_37989914aa/15f3b634-b643-2178-a2a8-112940b8af26_37989914aa.png?_i=AA
END:VEVENT
BEGIN:VEVENT
DTSTART;TZID=America/Mexico_City:20270208T190000
DTEND;TZID=America/Mexico_City:20270208T220000
DTSTAMP:20260420T162434
CREATED:20250811T210924Z
LAST-MODIFIED:20260220T222235Z
UID:10010614-1802113200-1802124000@www.sayulitalife.com
SUMMARY:Don Pedros Salsa Night
DESCRIPTION:Join us for Salsa Night\, every Monday at 8:00 PM during the season (Oct – June). \nCome at 7:00 PM for salsa lessons.
URL:https://www.sayulitalife.com/sayulero/calendar/don-pedros-salsa-night/2027-02-08/
LOCATION:Don Pedros Restaurant\, C. Marlín 2\, Sayulita\, Nayarit\, 63734\, Mexico
CATEGORIES:Community,Music
ATTACH;FMTTYPE=image/png:https://res.cloudinary.com/sayulitalife/images/w_1920/f_auto,q_auto/v1754946566/wordpress_assets/15f3b634-b643-2178-a2a8-112940b8af26_37989914aa/15f3b634-b643-2178-a2a8-112940b8af26_37989914aa.png?_i=AA
END:VEVENT
BEGIN:VEVENT
DTSTART;TZID=America/Mexico_City:20270215T190000
DTEND;TZID=America/Mexico_City:20270215T220000
DTSTAMP:20260420T162434
CREATED:20250811T210924Z
LAST-MODIFIED:20260220T222235Z
UID:10010615-1802718000-1802728800@www.sayulitalife.com
SUMMARY:Don Pedros Salsa Night
DESCRIPTION:Join us for Salsa Night\, every Monday at 8:00 PM during the season (Oct – June). \nCome at 7:00 PM for salsa lessons.
URL:https://www.sayulitalife.com/sayulero/calendar/don-pedros-salsa-night/2027-02-15/
LOCATION:Don Pedros Restaurant\, C. Marlín 2\, Sayulita\, Nayarit\, 63734\, Mexico
CATEGORIES:Community,Music
ATTACH;FMTTYPE=image/png:https://res.cloudinary.com/sayulitalife/images/w_1920/f_auto,q_auto/v1754946566/wordpress_assets/15f3b634-b643-2178-a2a8-112940b8af26_37989914aa/15f3b634-b643-2178-a2a8-112940b8af26_37989914aa.png?_i=AA
END:VEVENT
BEGIN:VEVENT
DTSTART;TZID=America/Mexico_City:20270222T190000
DTEND;TZID=America/Mexico_City:20270222T220000
DTSTAMP:20260420T162434
CREATED:20250811T210924Z
LAST-MODIFIED:20260220T222235Z
UID:10010616-1803322800-1803333600@www.sayulitalife.com
SUMMARY:Don Pedros Salsa Night
DESCRIPTION:Join us for Salsa Night\, every Monday at 8:00 PM during the season (Oct – June). \nCome at 7:00 PM for salsa lessons.
URL:https://www.sayulitalife.com/sayulero/calendar/don-pedros-salsa-night/2027-02-22/
LOCATION:Don Pedros Restaurant\, C. Marlín 2\, Sayulita\, Nayarit\, 63734\, Mexico
CATEGORIES:Community,Music
ATTACH;FMTTYPE=image/png:https://res.cloudinary.com/sayulitalife/images/w_1920/f_auto,q_auto/v1754946566/wordpress_assets/15f3b634-b643-2178-a2a8-112940b8af26_37989914aa/15f3b634-b643-2178-a2a8-112940b8af26_37989914aa.png?_i=AA
END:VEVENT
BEGIN:VEVENT
DTSTART;TZID=America/Mexico_City:20270301T190000
DTEND;TZID=America/Mexico_City:20270301T220000
DTSTAMP:20260420T162434
CREATED:20250811T210924Z
LAST-MODIFIED:20260220T222235Z
UID:10010617-1803927600-1803938400@www.sayulitalife.com
SUMMARY:Don Pedros Salsa Night
DESCRIPTION:Join us for Salsa Night\, every Monday at 8:00 PM during the season (Oct – June). \nCome at 7:00 PM for salsa lessons.
URL:https://www.sayulitalife.com/sayulero/calendar/don-pedros-salsa-night/2027-03-01/
LOCATION:Don Pedros Restaurant\, C. Marlín 2\, Sayulita\, Nayarit\, 63734\, Mexico
CATEGORIES:Community,Music
ATTACH;FMTTYPE=image/png:https://res.cloudinary.com/sayulitalife/images/w_1920/f_auto,q_auto/v1754946566/wordpress_assets/15f3b634-b643-2178-a2a8-112940b8af26_37989914aa/15f3b634-b643-2178-a2a8-112940b8af26_37989914aa.png?_i=AA
END:VEVENT
BEGIN:VEVENT
DTSTART;TZID=America/Mexico_City:20270308T190000
DTEND;TZID=America/Mexico_City:20270308T220000
DTSTAMP:20260420T162434
CREATED:20250811T210924Z
LAST-MODIFIED:20260220T222235Z
UID:10010618-1804532400-1804543200@www.sayulitalife.com
SUMMARY:Don Pedros Salsa Night
DESCRIPTION:Join us for Salsa Night\, every Monday at 8:00 PM during the season (Oct – June). \nCome at 7:00 PM for salsa lessons.
URL:https://www.sayulitalife.com/sayulero/calendar/don-pedros-salsa-night/2027-03-08/
LOCATION:Don Pedros Restaurant\, C. Marlín 2\, Sayulita\, Nayarit\, 63734\, Mexico
CATEGORIES:Community,Music
ATTACH;FMTTYPE=image/png:https://res.cloudinary.com/sayulitalife/images/w_1920/f_auto,q_auto/v1754946566/wordpress_assets/15f3b634-b643-2178-a2a8-112940b8af26_37989914aa/15f3b634-b643-2178-a2a8-112940b8af26_37989914aa.png?_i=AA
END:VEVENT
BEGIN:VEVENT
DTSTART;TZID=America/Mexico_City:20270315T190000
DTEND;TZID=America/Mexico_City:20270315T220000
DTSTAMP:20260420T162434
CREATED:20250811T210924Z
LAST-MODIFIED:20260220T222235Z
UID:10010619-1805137200-1805148000@www.sayulitalife.com
SUMMARY:Don Pedros Salsa Night
DESCRIPTION:Join us for Salsa Night\, every Monday at 8:00 PM during the season (Oct – June). \nCome at 7:00 PM for salsa lessons.
URL:https://www.sayulitalife.com/sayulero/calendar/don-pedros-salsa-night/2027-03-15/
LOCATION:Don Pedros Restaurant\, C. Marlín 2\, Sayulita\, Nayarit\, 63734\, Mexico
CATEGORIES:Community,Music
ATTACH;FMTTYPE=image/png:https://res.cloudinary.com/sayulitalife/images/w_1920/f_auto,q_auto/v1754946566/wordpress_assets/15f3b634-b643-2178-a2a8-112940b8af26_37989914aa/15f3b634-b643-2178-a2a8-112940b8af26_37989914aa.png?_i=AA
END:VEVENT
BEGIN:VEVENT
DTSTART;TZID=America/Mexico_City:20270322T190000
DTEND;TZID=America/Mexico_City:20270322T220000
DTSTAMP:20260420T162434
CREATED:20250811T210924Z
LAST-MODIFIED:20260220T222235Z
UID:10010620-1805742000-1805752800@www.sayulitalife.com
SUMMARY:Don Pedros Salsa Night
DESCRIPTION:Join us for Salsa Night\, every Monday at 8:00 PM during the season (Oct – June). \nCome at 7:00 PM for salsa lessons.
URL:https://www.sayulitalife.com/sayulero/calendar/don-pedros-salsa-night/2027-03-22/
LOCATION:Don Pedros Restaurant\, C. Marlín 2\, Sayulita\, Nayarit\, 63734\, Mexico
CATEGORIES:Community,Music
ATTACH;FMTTYPE=image/png:https://res.cloudinary.com/sayulitalife/images/w_1920/f_auto,q_auto/v1754946566/wordpress_assets/15f3b634-b643-2178-a2a8-112940b8af26_37989914aa/15f3b634-b643-2178-a2a8-112940b8af26_37989914aa.png?_i=AA
END:VEVENT
BEGIN:VEVENT
DTSTART;TZID=America/Mexico_City:20270329T190000
DTEND;TZID=America/Mexico_City:20270329T220000
DTSTAMP:20260420T162434
CREATED:20250811T210924Z
LAST-MODIFIED:20260220T222235Z
UID:10010621-1806346800-1806357600@www.sayulitalife.com
SUMMARY:Don Pedros Salsa Night
DESCRIPTION:Join us for Salsa Night\, every Monday at 8:00 PM during the season (Oct – June). \nCome at 7:00 PM for salsa lessons.
URL:https://www.sayulitalife.com/sayulero/calendar/don-pedros-salsa-night/2027-03-29/
LOCATION:Don Pedros Restaurant\, C. Marlín 2\, Sayulita\, Nayarit\, 63734\, Mexico
CATEGORIES:Community,Music
ATTACH;FMTTYPE=image/png:https://res.cloudinary.com/sayulitalife/images/w_1920/f_auto,q_auto/v1754946566/wordpress_assets/15f3b634-b643-2178-a2a8-112940b8af26_37989914aa/15f3b634-b643-2178-a2a8-112940b8af26_37989914aa.png?_i=AA
END:VEVENT
BEGIN:VEVENT
DTSTART;TZID=America/Mexico_City:20270405T190000
DTEND;TZID=America/Mexico_City:20270405T220000
DTSTAMP:20260420T162434
CREATED:20250811T210924Z
LAST-MODIFIED:20260220T222235Z
UID:10010622-1806951600-1806962400@www.sayulitalife.com
SUMMARY:Don Pedros Salsa Night
DESCRIPTION:Join us for Salsa Night\, every Monday at 8:00 PM during the season (Oct – June). \nCome at 7:00 PM for salsa lessons.
URL:https://www.sayulitalife.com/sayulero/calendar/don-pedros-salsa-night/2027-04-05/
LOCATION:Don Pedros Restaurant\, C. Marlín 2\, Sayulita\, Nayarit\, 63734\, Mexico
CATEGORIES:Community,Music
ATTACH;FMTTYPE=image/png:https://res.cloudinary.com/sayulitalife/images/w_1920/f_auto,q_auto/v1754946566/wordpress_assets/15f3b634-b643-2178-a2a8-112940b8af26_37989914aa/15f3b634-b643-2178-a2a8-112940b8af26_37989914aa.png?_i=AA
END:VEVENT
BEGIN:VEVENT
DTSTART;TZID=America/Mexico_City:20270412T190000
DTEND;TZID=America/Mexico_City:20270412T220000
DTSTAMP:20260420T162434
CREATED:20250811T210924Z
LAST-MODIFIED:20260220T222235Z
UID:10010623-1807556400-1807567200@www.sayulitalife.com
SUMMARY:Don Pedros Salsa Night
DESCRIPTION:Join us for Salsa Night\, every Monday at 8:00 PM during the season (Oct – June). \nCome at 7:00 PM for salsa lessons.
URL:https://www.sayulitalife.com/sayulero/calendar/don-pedros-salsa-night/2027-04-12/
LOCATION:Don Pedros Restaurant\, C. Marlín 2\, Sayulita\, Nayarit\, 63734\, Mexico
CATEGORIES:Community,Music
ATTACH;FMTTYPE=image/png:https://res.cloudinary.com/sayulitalife/images/w_1920/f_auto,q_auto/v1754946566/wordpress_assets/15f3b634-b643-2178-a2a8-112940b8af26_37989914aa/15f3b634-b643-2178-a2a8-112940b8af26_37989914aa.png?_i=AA
END:VEVENT
BEGIN:VEVENT
DTSTART;TZID=America/Mexico_City:20270419T190000
DTEND;TZID=America/Mexico_City:20270419T220000
DTSTAMP:20260420T162434
CREATED:20250811T210924Z
LAST-MODIFIED:20260220T222235Z
UID:10010624-1808161200-1808172000@www.sayulitalife.com
SUMMARY:Don Pedros Salsa Night
DESCRIPTION:Join us for Salsa Night\, every Monday at 8:00 PM during the season (Oct – June). \nCome at 7:00 PM for salsa lessons.
URL:https://www.sayulitalife.com/sayulero/calendar/don-pedros-salsa-night/2027-04-19/
LOCATION:Don Pedros Restaurant\, C. Marlín 2\, Sayulita\, Nayarit\, 63734\, Mexico
CATEGORIES:Community,Music
ATTACH;FMTTYPE=image/png:https://res.cloudinary.com/sayulitalife/images/w_1920/f_auto,q_auto/v1754946566/wordpress_assets/15f3b634-b643-2178-a2a8-112940b8af26_37989914aa/15f3b634-b643-2178-a2a8-112940b8af26_37989914aa.png?_i=AA
END:VEVENT
BEGIN:VEVENT
DTSTART;TZID=America/Mexico_City:20270426T190000
DTEND;TZID=America/Mexico_City:20270426T220000
DTSTAMP:20260420T162434
CREATED:20250811T210924Z
LAST-MODIFIED:20260220T222235Z
UID:10010625-1808766000-1808776800@www.sayulitalife.com
SUMMARY:Don Pedros Salsa Night
DESCRIPTION:Join us for Salsa Night\, every Monday at 8:00 PM during the season (Oct – June). \nCome at 7:00 PM for salsa lessons.
URL:https://www.sayulitalife.com/sayulero/calendar/don-pedros-salsa-night/2027-04-26/
LOCATION:Don Pedros Restaurant\, C. Marlín 2\, Sayulita\, Nayarit\, 63734\, Mexico
CATEGORIES:Community,Music
ATTACH;FMTTYPE=image/png:https://res.cloudinary.com/sayulitalife/images/w_1920/f_auto,q_auto/v1754946566/wordpress_assets/15f3b634-b643-2178-a2a8-112940b8af26_37989914aa/15f3b634-b643-2178-a2a8-112940b8af26_37989914aa.png?_i=AA
END:VEVENT
BEGIN:VEVENT
DTSTART;TZID=America/Mexico_City:20270503T190000
DTEND;TZID=America/Mexico_City:20270503T220000
DTSTAMP:20260420T162434
CREATED:20250811T210924Z
LAST-MODIFIED:20260220T222235Z
UID:10010626-1809370800-1809381600@www.sayulitalife.com
SUMMARY:Don Pedros Salsa Night
DESCRIPTION:Join us for Salsa Night\, every Monday at 8:00 PM during the season (Oct – June). \nCome at 7:00 PM for salsa lessons.
URL:https://www.sayulitalife.com/sayulero/calendar/don-pedros-salsa-night/2027-05-03/
LOCATION:Don Pedros Restaurant\, C. Marlín 2\, Sayulita\, Nayarit\, 63734\, Mexico
CATEGORIES:Community,Music
ATTACH;FMTTYPE=image/png:https://res.cloudinary.com/sayulitalife/images/w_1920/f_auto,q_auto/v1754946566/wordpress_assets/15f3b634-b643-2178-a2a8-112940b8af26_37989914aa/15f3b634-b643-2178-a2a8-112940b8af26_37989914aa.png?_i=AA
END:VEVENT
BEGIN:VEVENT
DTSTART;TZID=America/Mexico_City:20270510T190000
DTEND;TZID=America/Mexico_City:20270510T220000
DTSTAMP:20260420T162434
CREATED:20250811T210924Z
LAST-MODIFIED:20260220T222235Z
UID:10010627-1809975600-1809986400@www.sayulitalife.com
SUMMARY:Don Pedros Salsa Night
DESCRIPTION:Join us for Salsa Night\, every Monday at 8:00 PM during the season (Oct – June). \nCome at 7:00 PM for salsa lessons.
URL:https://www.sayulitalife.com/sayulero/calendar/don-pedros-salsa-night/2027-05-10/
LOCATION:Don Pedros Restaurant\, C. Marlín 2\, Sayulita\, Nayarit\, 63734\, Mexico
CATEGORIES:Community,Music
ATTACH;FMTTYPE=image/png:https://res.cloudinary.com/sayulitalife/images/w_1920/f_auto,q_auto/v1754946566/wordpress_assets/15f3b634-b643-2178-a2a8-112940b8af26_37989914aa/15f3b634-b643-2178-a2a8-112940b8af26_37989914aa.png?_i=AA
END:VEVENT
BEGIN:VEVENT
DTSTART;TZID=America/Mexico_City:20270517T190000
DTEND;TZID=America/Mexico_City:20270517T220000
DTSTAMP:20260420T162434
CREATED:20250811T210924Z
LAST-MODIFIED:20260220T222235Z
UID:10010628-1810580400-1810591200@www.sayulitalife.com
SUMMARY:Don Pedros Salsa Night
DESCRIPTION:Join us for Salsa Night\, every Monday at 8:00 PM during the season (Oct – June). \nCome at 7:00 PM for salsa lessons.
URL:https://www.sayulitalife.com/sayulero/calendar/don-pedros-salsa-night/2027-05-17/
LOCATION:Don Pedros Restaurant\, C. Marlín 2\, Sayulita\, Nayarit\, 63734\, Mexico
CATEGORIES:Community,Music
ATTACH;FMTTYPE=image/png:https://res.cloudinary.com/sayulitalife/images/w_1920/f_auto,q_auto/v1754946566/wordpress_assets/15f3b634-b643-2178-a2a8-112940b8af26_37989914aa/15f3b634-b643-2178-a2a8-112940b8af26_37989914aa.png?_i=AA
END:VEVENT
BEGIN:VEVENT
DTSTART;TZID=America/Mexico_City:20270524T190000
DTEND;TZID=America/Mexico_City:20270524T220000
DTSTAMP:20260420T162434
CREATED:20250811T210924Z
LAST-MODIFIED:20260220T222235Z
UID:10010629-1811185200-1811196000@www.sayulitalife.com
SUMMARY:Don Pedros Salsa Night
DESCRIPTION:Join us for Salsa Night\, every Monday at 8:00 PM during the season (Oct – June). \nCome at 7:00 PM for salsa lessons.
URL:https://www.sayulitalife.com/sayulero/calendar/don-pedros-salsa-night/2027-05-24/
LOCATION:Don Pedros Restaurant\, C. Marlín 2\, Sayulita\, Nayarit\, 63734\, Mexico
CATEGORIES:Community,Music
ATTACH;FMTTYPE=image/png:https://res.cloudinary.com/sayulitalife/images/w_1920/f_auto,q_auto/v1754946566/wordpress_assets/15f3b634-b643-2178-a2a8-112940b8af26_37989914aa/15f3b634-b643-2178-a2a8-112940b8af26_37989914aa.png?_i=AA
END:VEVENT
BEGIN:VEVENT
DTSTART;TZID=America/Mexico_City:20270531T190000
DTEND;TZID=America/Mexico_City:20270531T220000
DTSTAMP:20260420T162434
CREATED:20250811T210924Z
LAST-MODIFIED:20260220T222235Z
UID:10010630-1811790000-1811800800@www.sayulitalife.com
SUMMARY:Don Pedros Salsa Night
DESCRIPTION:Join us for Salsa Night\, every Monday at 8:00 PM during the season (Oct – June). \nCome at 7:00 PM for salsa lessons.
URL:https://www.sayulitalife.com/sayulero/calendar/don-pedros-salsa-night/2027-05-31/
LOCATION:Don Pedros Restaurant\, C. Marlín 2\, Sayulita\, Nayarit\, 63734\, Mexico
CATEGORIES:Community,Music
ATTACH;FMTTYPE=image/png:https://res.cloudinary.com/sayulitalife/images/w_1920/f_auto,q_auto/v1754946566/wordpress_assets/15f3b634-b643-2178-a2a8-112940b8af26_37989914aa/15f3b634-b643-2178-a2a8-112940b8af26_37989914aa.png?_i=AA
END:VEVENT
BEGIN:VEVENT
DTSTART;TZID=America/Mexico_City:20270607T190000
DTEND;TZID=America/Mexico_City:20270607T220000
DTSTAMP:20260420T162434
CREATED:20250811T210924Z
LAST-MODIFIED:20260220T222235Z
UID:10010631-1812394800-1812405600@www.sayulitalife.com
SUMMARY:Don Pedros Salsa Night
DESCRIPTION:Join us for Salsa Night\, every Monday at 8:00 PM during the season (Oct – June). \nCome at 7:00 PM for salsa lessons.
URL:https://www.sayulitalife.com/sayulero/calendar/don-pedros-salsa-night/2027-06-07/
LOCATION:Don Pedros Restaurant\, C. Marlín 2\, Sayulita\, Nayarit\, 63734\, Mexico
CATEGORIES:Community,Music
ATTACH;FMTTYPE=image/png:https://res.cloudinary.com/sayulitalife/images/w_1920/f_auto,q_auto/v1754946566/wordpress_assets/15f3b634-b643-2178-a2a8-112940b8af26_37989914aa/15f3b634-b643-2178-a2a8-112940b8af26_37989914aa.png?_i=AA
END:VEVENT
END:VCALENDAR