BEGIN:VCALENDAR
VERSION:2.0
PRODID:-//El Sayulero - ECPv6.13.1//NONSGML v1.0//EN
CALSCALE:GREGORIAN
METHOD:PUBLISH
X-ORIGINAL-URL:https://www.sayulitalife.com/sayulero
X-WR-CALDESC:Events for El Sayulero
REFRESH-INTERVAL;VALUE=DURATION:PT1H
X-Robots-Tag:noindex
X-PUBLISHED-TTL:PT1H
BEGIN:VTIMEZONE
TZID:America/Mexico_City
BEGIN:STANDARD
TZOFFSETFROM:-0600
TZOFFSETTO:-0600
TZNAME:CST
DTSTART:20270101T000000
END:STANDARD
END:VTIMEZONE
BEGIN:VEVENT
DTSTART;TZID=America/Mexico_City:20270614T190000
DTEND;TZID=America/Mexico_City:20270614T220000
DTSTAMP:20260420T195538
CREATED:20250811T210924Z
LAST-MODIFIED:20260220T222235Z
UID:10010632-1812999600-1813010400@www.sayulitalife.com
SUMMARY:Don Pedros Salsa Night
DESCRIPTION:Join us for Salsa Night\, every Monday at 8:00 PM during the season (Oct – June). \nCome at 7:00 PM for salsa lessons.
URL:https://www.sayulitalife.com/sayulero/calendar/don-pedros-salsa-night/2027-06-14/
LOCATION:Don Pedros Restaurant\, C. Marlín 2\, Sayulita\, Nayarit\, 63734\, Mexico
CATEGORIES:Community,Music
ATTACH;FMTTYPE=image/png:https://res.cloudinary.com/sayulitalife/images/w_1920/f_auto,q_auto/v1754946566/wordpress_assets/15f3b634-b643-2178-a2a8-112940b8af26_37989914aa/15f3b634-b643-2178-a2a8-112940b8af26_37989914aa.png?_i=AA
END:VEVENT
BEGIN:VEVENT
DTSTART;TZID=America/Mexico_City:20270621T190000
DTEND;TZID=America/Mexico_City:20270621T220000
DTSTAMP:20260420T195538
CREATED:20250811T210924Z
LAST-MODIFIED:20260220T222235Z
UID:10010633-1813604400-1813615200@www.sayulitalife.com
SUMMARY:Don Pedros Salsa Night
DESCRIPTION:Join us for Salsa Night\, every Monday at 8:00 PM during the season (Oct – June). \nCome at 7:00 PM for salsa lessons.
URL:https://www.sayulitalife.com/sayulero/calendar/don-pedros-salsa-night/2027-06-21/
LOCATION:Don Pedros Restaurant\, C. Marlín 2\, Sayulita\, Nayarit\, 63734\, Mexico
CATEGORIES:Community,Music
ATTACH;FMTTYPE=image/png:https://res.cloudinary.com/sayulitalife/images/w_1920/f_auto,q_auto/v1754946566/wordpress_assets/15f3b634-b643-2178-a2a8-112940b8af26_37989914aa/15f3b634-b643-2178-a2a8-112940b8af26_37989914aa.png?_i=AA
END:VEVENT
BEGIN:VEVENT
DTSTART;TZID=America/Mexico_City:20270628T190000
DTEND;TZID=America/Mexico_City:20270628T220000
DTSTAMP:20260420T195538
CREATED:20250811T210924Z
LAST-MODIFIED:20260220T222235Z
UID:10010634-1814209200-1814220000@www.sayulitalife.com
SUMMARY:Don Pedros Salsa Night
DESCRIPTION:Join us for Salsa Night\, every Monday at 8:00 PM during the season (Oct – June). \nCome at 7:00 PM for salsa lessons.
URL:https://www.sayulitalife.com/sayulero/calendar/don-pedros-salsa-night/2027-06-28/
LOCATION:Don Pedros Restaurant\, C. Marlín 2\, Sayulita\, Nayarit\, 63734\, Mexico
CATEGORIES:Community,Music
ATTACH;FMTTYPE=image/png:https://res.cloudinary.com/sayulitalife/images/w_1920/f_auto,q_auto/v1754946566/wordpress_assets/15f3b634-b643-2178-a2a8-112940b8af26_37989914aa/15f3b634-b643-2178-a2a8-112940b8af26_37989914aa.png?_i=AA
END:VEVENT
BEGIN:VEVENT
DTSTART;TZID=America/Mexico_City:20270705T190000
DTEND;TZID=America/Mexico_City:20270705T220000
DTSTAMP:20260420T195538
CREATED:20250811T210924Z
LAST-MODIFIED:20260220T222235Z
UID:10010635-1814814000-1814824800@www.sayulitalife.com
SUMMARY:Don Pedros Salsa Night
DESCRIPTION:Join us for Salsa Night\, every Monday at 8:00 PM during the season (Oct – June). \nCome at 7:00 PM for salsa lessons.
URL:https://www.sayulitalife.com/sayulero/calendar/don-pedros-salsa-night/2027-07-05/
LOCATION:Don Pedros Restaurant\, C. Marlín 2\, Sayulita\, Nayarit\, 63734\, Mexico
CATEGORIES:Community,Music
ATTACH;FMTTYPE=image/png:https://res.cloudinary.com/sayulitalife/images/w_1920/f_auto,q_auto/v1754946566/wordpress_assets/15f3b634-b643-2178-a2a8-112940b8af26_37989914aa/15f3b634-b643-2178-a2a8-112940b8af26_37989914aa.png?_i=AA
END:VEVENT
BEGIN:VEVENT
DTSTART;TZID=America/Mexico_City:20270712T190000
DTEND;TZID=America/Mexico_City:20270712T220000
DTSTAMP:20260420T195538
CREATED:20250811T210924Z
LAST-MODIFIED:20260220T222235Z
UID:10010636-1815418800-1815429600@www.sayulitalife.com
SUMMARY:Don Pedros Salsa Night
DESCRIPTION:Join us for Salsa Night\, every Monday at 8:00 PM during the season (Oct – June). \nCome at 7:00 PM for salsa lessons.
URL:https://www.sayulitalife.com/sayulero/calendar/don-pedros-salsa-night/2027-07-12/
LOCATION:Don Pedros Restaurant\, C. Marlín 2\, Sayulita\, Nayarit\, 63734\, Mexico
CATEGORIES:Community,Music
ATTACH;FMTTYPE=image/png:https://res.cloudinary.com/sayulitalife/images/w_1920/f_auto,q_auto/v1754946566/wordpress_assets/15f3b634-b643-2178-a2a8-112940b8af26_37989914aa/15f3b634-b643-2178-a2a8-112940b8af26_37989914aa.png?_i=AA
END:VEVENT
BEGIN:VEVENT
DTSTART;TZID=America/Mexico_City:20270719T190000
DTEND;TZID=America/Mexico_City:20270719T220000
DTSTAMP:20260420T195538
CREATED:20250811T210924Z
LAST-MODIFIED:20260220T222235Z
UID:10010637-1816023600-1816034400@www.sayulitalife.com
SUMMARY:Don Pedros Salsa Night
DESCRIPTION:Join us for Salsa Night\, every Monday at 8:00 PM during the season (Oct – June). \nCome at 7:00 PM for salsa lessons.
URL:https://www.sayulitalife.com/sayulero/calendar/don-pedros-salsa-night/2027-07-19/
LOCATION:Don Pedros Restaurant\, C. Marlín 2\, Sayulita\, Nayarit\, 63734\, Mexico
CATEGORIES:Community,Music
ATTACH;FMTTYPE=image/png:https://res.cloudinary.com/sayulitalife/images/w_1920/f_auto,q_auto/v1754946566/wordpress_assets/15f3b634-b643-2178-a2a8-112940b8af26_37989914aa/15f3b634-b643-2178-a2a8-112940b8af26_37989914aa.png?_i=AA
END:VEVENT
BEGIN:VEVENT
DTSTART;TZID=America/Mexico_City:20270726T190000
DTEND;TZID=America/Mexico_City:20270726T220000
DTSTAMP:20260420T195538
CREATED:20250811T210924Z
LAST-MODIFIED:20260220T222235Z
UID:10010638-1816628400-1816639200@www.sayulitalife.com
SUMMARY:Don Pedros Salsa Night
DESCRIPTION:Join us for Salsa Night\, every Monday at 8:00 PM during the season (Oct – June). \nCome at 7:00 PM for salsa lessons.
URL:https://www.sayulitalife.com/sayulero/calendar/don-pedros-salsa-night/2027-07-26/
LOCATION:Don Pedros Restaurant\, C. Marlín 2\, Sayulita\, Nayarit\, 63734\, Mexico
CATEGORIES:Community,Music
ATTACH;FMTTYPE=image/png:https://res.cloudinary.com/sayulitalife/images/w_1920/f_auto,q_auto/v1754946566/wordpress_assets/15f3b634-b643-2178-a2a8-112940b8af26_37989914aa/15f3b634-b643-2178-a2a8-112940b8af26_37989914aa.png?_i=AA
END:VEVENT
BEGIN:VEVENT
DTSTART;TZID=America/Mexico_City:20270802T190000
DTEND;TZID=America/Mexico_City:20270802T220000
DTSTAMP:20260420T195538
CREATED:20250811T210924Z
LAST-MODIFIED:20260220T222235Z
UID:10010639-1817233200-1817244000@www.sayulitalife.com
SUMMARY:Don Pedros Salsa Night
DESCRIPTION:Join us for Salsa Night\, every Monday at 8:00 PM during the season (Oct – June). \nCome at 7:00 PM for salsa lessons.
URL:https://www.sayulitalife.com/sayulero/calendar/don-pedros-salsa-night/2027-08-02/
LOCATION:Don Pedros Restaurant\, C. Marlín 2\, Sayulita\, Nayarit\, 63734\, Mexico
CATEGORIES:Community,Music
ATTACH;FMTTYPE=image/png:https://res.cloudinary.com/sayulitalife/images/w_1920/f_auto,q_auto/v1754946566/wordpress_assets/15f3b634-b643-2178-a2a8-112940b8af26_37989914aa/15f3b634-b643-2178-a2a8-112940b8af26_37989914aa.png?_i=AA
END:VEVENT
BEGIN:VEVENT
DTSTART;TZID=America/Mexico_City:20270809T190000
DTEND;TZID=America/Mexico_City:20270809T220000
DTSTAMP:20260420T195538
CREATED:20250811T210924Z
LAST-MODIFIED:20260220T222235Z
UID:10010640-1817838000-1817848800@www.sayulitalife.com
SUMMARY:Don Pedros Salsa Night
DESCRIPTION:Join us for Salsa Night\, every Monday at 8:00 PM during the season (Oct – June). \nCome at 7:00 PM for salsa lessons.
URL:https://www.sayulitalife.com/sayulero/calendar/don-pedros-salsa-night/2027-08-09/
LOCATION:Don Pedros Restaurant\, C. Marlín 2\, Sayulita\, Nayarit\, 63734\, Mexico
CATEGORIES:Community,Music
ATTACH;FMTTYPE=image/png:https://res.cloudinary.com/sayulitalife/images/w_1920/f_auto,q_auto/v1754946566/wordpress_assets/15f3b634-b643-2178-a2a8-112940b8af26_37989914aa/15f3b634-b643-2178-a2a8-112940b8af26_37989914aa.png?_i=AA
END:VEVENT
BEGIN:VEVENT
DTSTART;TZID=America/Mexico_City:20270816T190000
DTEND;TZID=America/Mexico_City:20270816T220000
DTSTAMP:20260420T195538
CREATED:20250811T210924Z
LAST-MODIFIED:20260220T222235Z
UID:10010641-1818442800-1818453600@www.sayulitalife.com
SUMMARY:Don Pedros Salsa Night
DESCRIPTION:Join us for Salsa Night\, every Monday at 8:00 PM during the season (Oct – June). \nCome at 7:00 PM for salsa lessons.
URL:https://www.sayulitalife.com/sayulero/calendar/don-pedros-salsa-night/2027-08-16/
LOCATION:Don Pedros Restaurant\, C. Marlín 2\, Sayulita\, Nayarit\, 63734\, Mexico
CATEGORIES:Community,Music
ATTACH;FMTTYPE=image/png:https://res.cloudinary.com/sayulitalife/images/w_1920/f_auto,q_auto/v1754946566/wordpress_assets/15f3b634-b643-2178-a2a8-112940b8af26_37989914aa/15f3b634-b643-2178-a2a8-112940b8af26_37989914aa.png?_i=AA
END:VEVENT
BEGIN:VEVENT
DTSTART;TZID=America/Mexico_City:20270823T190000
DTEND;TZID=America/Mexico_City:20270823T220000
DTSTAMP:20260420T195538
CREATED:20250811T210924Z
LAST-MODIFIED:20260220T222235Z
UID:10010642-1819047600-1819058400@www.sayulitalife.com
SUMMARY:Don Pedros Salsa Night
DESCRIPTION:Join us for Salsa Night\, every Monday at 8:00 PM during the season (Oct – June). \nCome at 7:00 PM for salsa lessons.
URL:https://www.sayulitalife.com/sayulero/calendar/don-pedros-salsa-night/2027-08-23/
LOCATION:Don Pedros Restaurant\, C. Marlín 2\, Sayulita\, Nayarit\, 63734\, Mexico
CATEGORIES:Community,Music
ATTACH;FMTTYPE=image/png:https://res.cloudinary.com/sayulitalife/images/w_1920/f_auto,q_auto/v1754946566/wordpress_assets/15f3b634-b643-2178-a2a8-112940b8af26_37989914aa/15f3b634-b643-2178-a2a8-112940b8af26_37989914aa.png?_i=AA
END:VEVENT
BEGIN:VEVENT
DTSTART;TZID=America/Mexico_City:20270830T190000
DTEND;TZID=America/Mexico_City:20270830T220000
DTSTAMP:20260420T195538
CREATED:20250811T210924Z
LAST-MODIFIED:20260220T222235Z
UID:10010643-1819652400-1819663200@www.sayulitalife.com
SUMMARY:Don Pedros Salsa Night
DESCRIPTION:Join us for Salsa Night\, every Monday at 8:00 PM during the season (Oct – June). \nCome at 7:00 PM for salsa lessons.
URL:https://www.sayulitalife.com/sayulero/calendar/don-pedros-salsa-night/2027-08-30/
LOCATION:Don Pedros Restaurant\, C. Marlín 2\, Sayulita\, Nayarit\, 63734\, Mexico
CATEGORIES:Community,Music
ATTACH;FMTTYPE=image/png:https://res.cloudinary.com/sayulitalife/images/w_1920/f_auto,q_auto/v1754946566/wordpress_assets/15f3b634-b643-2178-a2a8-112940b8af26_37989914aa/15f3b634-b643-2178-a2a8-112940b8af26_37989914aa.png?_i=AA
END:VEVENT
BEGIN:VEVENT
DTSTART;TZID=America/Mexico_City:20270906T190000
DTEND;TZID=America/Mexico_City:20270906T220000
DTSTAMP:20260420T195538
CREATED:20250811T210924Z
LAST-MODIFIED:20260220T222235Z
UID:10010644-1820257200-1820268000@www.sayulitalife.com
SUMMARY:Don Pedros Salsa Night
DESCRIPTION:Join us for Salsa Night\, every Monday at 8:00 PM during the season (Oct – June). \nCome at 7:00 PM for salsa lessons.
URL:https://www.sayulitalife.com/sayulero/calendar/don-pedros-salsa-night/2027-09-06/
LOCATION:Don Pedros Restaurant\, C. Marlín 2\, Sayulita\, Nayarit\, 63734\, Mexico
CATEGORIES:Community,Music
ATTACH;FMTTYPE=image/png:https://res.cloudinary.com/sayulitalife/images/w_1920/f_auto,q_auto/v1754946566/wordpress_assets/15f3b634-b643-2178-a2a8-112940b8af26_37989914aa/15f3b634-b643-2178-a2a8-112940b8af26_37989914aa.png?_i=AA
END:VEVENT
BEGIN:VEVENT
DTSTART;TZID=America/Mexico_City:20270913T190000
DTEND;TZID=America/Mexico_City:20270913T220000
DTSTAMP:20260420T195538
CREATED:20250811T210924Z
LAST-MODIFIED:20260220T222235Z
UID:10010645-1820862000-1820872800@www.sayulitalife.com
SUMMARY:Don Pedros Salsa Night
DESCRIPTION:Join us for Salsa Night\, every Monday at 8:00 PM during the season (Oct – June). \nCome at 7:00 PM for salsa lessons.
URL:https://www.sayulitalife.com/sayulero/calendar/don-pedros-salsa-night/2027-09-13/
LOCATION:Don Pedros Restaurant\, C. Marlín 2\, Sayulita\, Nayarit\, 63734\, Mexico
CATEGORIES:Community,Music
ATTACH;FMTTYPE=image/png:https://res.cloudinary.com/sayulitalife/images/w_1920/f_auto,q_auto/v1754946566/wordpress_assets/15f3b634-b643-2178-a2a8-112940b8af26_37989914aa/15f3b634-b643-2178-a2a8-112940b8af26_37989914aa.png?_i=AA
END:VEVENT
BEGIN:VEVENT
DTSTART;TZID=America/Mexico_City:20270920T190000
DTEND;TZID=America/Mexico_City:20270920T220000
DTSTAMP:20260420T195538
CREATED:20250811T210924Z
LAST-MODIFIED:20260220T222235Z
UID:10010646-1821466800-1821477600@www.sayulitalife.com
SUMMARY:Don Pedros Salsa Night
DESCRIPTION:Join us for Salsa Night\, every Monday at 8:00 PM during the season (Oct – June). \nCome at 7:00 PM for salsa lessons.
URL:https://www.sayulitalife.com/sayulero/calendar/don-pedros-salsa-night/2027-09-20/
LOCATION:Don Pedros Restaurant\, C. Marlín 2\, Sayulita\, Nayarit\, 63734\, Mexico
CATEGORIES:Community,Music
ATTACH;FMTTYPE=image/png:https://res.cloudinary.com/sayulitalife/images/w_1920/f_auto,q_auto/v1754946566/wordpress_assets/15f3b634-b643-2178-a2a8-112940b8af26_37989914aa/15f3b634-b643-2178-a2a8-112940b8af26_37989914aa.png?_i=AA
END:VEVENT
BEGIN:VEVENT
DTSTART;TZID=America/Mexico_City:20270927T190000
DTEND;TZID=America/Mexico_City:20270927T220000
DTSTAMP:20260420T195538
CREATED:20250811T210924Z
LAST-MODIFIED:20260220T222235Z
UID:10010647-1822071600-1822082400@www.sayulitalife.com
SUMMARY:Don Pedros Salsa Night
DESCRIPTION:Join us for Salsa Night\, every Monday at 8:00 PM during the season (Oct – June). \nCome at 7:00 PM for salsa lessons.
URL:https://www.sayulitalife.com/sayulero/calendar/don-pedros-salsa-night/2027-09-27/
LOCATION:Don Pedros Restaurant\, C. Marlín 2\, Sayulita\, Nayarit\, 63734\, Mexico
CATEGORIES:Community,Music
ATTACH;FMTTYPE=image/png:https://res.cloudinary.com/sayulitalife/images/w_1920/f_auto,q_auto/v1754946566/wordpress_assets/15f3b634-b643-2178-a2a8-112940b8af26_37989914aa/15f3b634-b643-2178-a2a8-112940b8af26_37989914aa.png?_i=AA
END:VEVENT
BEGIN:VEVENT
DTSTART;TZID=America/Mexico_City:20271004T190000
DTEND;TZID=America/Mexico_City:20271004T220000
DTSTAMP:20260420T195538
CREATED:20250811T210924Z
LAST-MODIFIED:20260220T222235Z
UID:10010648-1822676400-1822687200@www.sayulitalife.com
SUMMARY:Don Pedros Salsa Night
DESCRIPTION:Join us for Salsa Night\, every Monday at 8:00 PM during the season (Oct – June). \nCome at 7:00 PM for salsa lessons.
URL:https://www.sayulitalife.com/sayulero/calendar/don-pedros-salsa-night/2027-10-04/
LOCATION:Don Pedros Restaurant\, C. Marlín 2\, Sayulita\, Nayarit\, 63734\, Mexico
CATEGORIES:Community,Music
ATTACH;FMTTYPE=image/png:https://res.cloudinary.com/sayulitalife/images/w_1920/f_auto,q_auto/v1754946566/wordpress_assets/15f3b634-b643-2178-a2a8-112940b8af26_37989914aa/15f3b634-b643-2178-a2a8-112940b8af26_37989914aa.png?_i=AA
END:VEVENT
BEGIN:VEVENT
DTSTART;TZID=America/Mexico_City:20271011T190000
DTEND;TZID=America/Mexico_City:20271011T220000
DTSTAMP:20260420T195538
CREATED:20250811T210924Z
LAST-MODIFIED:20260220T222235Z
UID:10010649-1823281200-1823292000@www.sayulitalife.com
SUMMARY:Don Pedros Salsa Night
DESCRIPTION:Join us for Salsa Night\, every Monday at 8:00 PM during the season (Oct – June). \nCome at 7:00 PM for salsa lessons.
URL:https://www.sayulitalife.com/sayulero/calendar/don-pedros-salsa-night/2027-10-11/
LOCATION:Don Pedros Restaurant\, C. Marlín 2\, Sayulita\, Nayarit\, 63734\, Mexico
CATEGORIES:Community,Music
ATTACH;FMTTYPE=image/png:https://res.cloudinary.com/sayulitalife/images/w_1920/f_auto,q_auto/v1754946566/wordpress_assets/15f3b634-b643-2178-a2a8-112940b8af26_37989914aa/15f3b634-b643-2178-a2a8-112940b8af26_37989914aa.png?_i=AA
END:VEVENT
BEGIN:VEVENT
DTSTART;TZID=America/Mexico_City:20271018T190000
DTEND;TZID=America/Mexico_City:20271018T220000
DTSTAMP:20260420T195538
CREATED:20250811T210924Z
LAST-MODIFIED:20260220T222235Z
UID:10010650-1823886000-1823896800@www.sayulitalife.com
SUMMARY:Don Pedros Salsa Night
DESCRIPTION:Join us for Salsa Night\, every Monday at 8:00 PM during the season (Oct – June). \nCome at 7:00 PM for salsa lessons.
URL:https://www.sayulitalife.com/sayulero/calendar/don-pedros-salsa-night/2027-10-18/
LOCATION:Don Pedros Restaurant\, C. Marlín 2\, Sayulita\, Nayarit\, 63734\, Mexico
CATEGORIES:Community,Music
ATTACH;FMTTYPE=image/png:https://res.cloudinary.com/sayulitalife/images/w_1920/f_auto,q_auto/v1754946566/wordpress_assets/15f3b634-b643-2178-a2a8-112940b8af26_37989914aa/15f3b634-b643-2178-a2a8-112940b8af26_37989914aa.png?_i=AA
END:VEVENT
BEGIN:VEVENT
DTSTART;TZID=America/Mexico_City:20271025T190000
DTEND;TZID=America/Mexico_City:20271025T220000
DTSTAMP:20260420T195538
CREATED:20250811T210924Z
LAST-MODIFIED:20260220T222235Z
UID:10010651-1824490800-1824501600@www.sayulitalife.com
SUMMARY:Don Pedros Salsa Night
DESCRIPTION:Join us for Salsa Night\, every Monday at 8:00 PM during the season (Oct – June). \nCome at 7:00 PM for salsa lessons.
URL:https://www.sayulitalife.com/sayulero/calendar/don-pedros-salsa-night/2027-10-25/
LOCATION:Don Pedros Restaurant\, C. Marlín 2\, Sayulita\, Nayarit\, 63734\, Mexico
CATEGORIES:Community,Music
ATTACH;FMTTYPE=image/png:https://res.cloudinary.com/sayulitalife/images/w_1920/f_auto,q_auto/v1754946566/wordpress_assets/15f3b634-b643-2178-a2a8-112940b8af26_37989914aa/15f3b634-b643-2178-a2a8-112940b8af26_37989914aa.png?_i=AA
END:VEVENT
BEGIN:VEVENT
DTSTART;TZID=America/Mexico_City:20271101T190000
DTEND;TZID=America/Mexico_City:20271101T220000
DTSTAMP:20260420T195538
CREATED:20250811T210924Z
LAST-MODIFIED:20260220T222235Z
UID:10010652-1825095600-1825106400@www.sayulitalife.com
SUMMARY:Don Pedros Salsa Night
DESCRIPTION:Join us for Salsa Night\, every Monday at 8:00 PM during the season (Oct – June). \nCome at 7:00 PM for salsa lessons.
URL:https://www.sayulitalife.com/sayulero/calendar/don-pedros-salsa-night/2027-11-01/
LOCATION:Don Pedros Restaurant\, C. Marlín 2\, Sayulita\, Nayarit\, 63734\, Mexico
CATEGORIES:Community,Music
ATTACH;FMTTYPE=image/png:https://res.cloudinary.com/sayulitalife/images/w_1920/f_auto,q_auto/v1754946566/wordpress_assets/15f3b634-b643-2178-a2a8-112940b8af26_37989914aa/15f3b634-b643-2178-a2a8-112940b8af26_37989914aa.png?_i=AA
END:VEVENT
BEGIN:VEVENT
DTSTART;TZID=America/Mexico_City:20271108T190000
DTEND;TZID=America/Mexico_City:20271108T220000
DTSTAMP:20260420T195538
CREATED:20250811T210924Z
LAST-MODIFIED:20260220T222235Z
UID:10010653-1825700400-1825711200@www.sayulitalife.com
SUMMARY:Don Pedros Salsa Night
DESCRIPTION:Join us for Salsa Night\, every Monday at 8:00 PM during the season (Oct – June). \nCome at 7:00 PM for salsa lessons.
URL:https://www.sayulitalife.com/sayulero/calendar/don-pedros-salsa-night/2027-11-08/
LOCATION:Don Pedros Restaurant\, C. Marlín 2\, Sayulita\, Nayarit\, 63734\, Mexico
CATEGORIES:Community,Music
ATTACH;FMTTYPE=image/png:https://res.cloudinary.com/sayulitalife/images/w_1920/f_auto,q_auto/v1754946566/wordpress_assets/15f3b634-b643-2178-a2a8-112940b8af26_37989914aa/15f3b634-b643-2178-a2a8-112940b8af26_37989914aa.png?_i=AA
END:VEVENT
BEGIN:VEVENT
DTSTART;TZID=America/Mexico_City:20271115T190000
DTEND;TZID=America/Mexico_City:20271115T220000
DTSTAMP:20260420T195538
CREATED:20250811T210924Z
LAST-MODIFIED:20260220T222235Z
UID:10010654-1826305200-1826316000@www.sayulitalife.com
SUMMARY:Don Pedros Salsa Night
DESCRIPTION:Join us for Salsa Night\, every Monday at 8:00 PM during the season (Oct – June). \nCome at 7:00 PM for salsa lessons.
URL:https://www.sayulitalife.com/sayulero/calendar/don-pedros-salsa-night/2027-11-15/
LOCATION:Don Pedros Restaurant\, C. Marlín 2\, Sayulita\, Nayarit\, 63734\, Mexico
CATEGORIES:Community,Music
ATTACH;FMTTYPE=image/png:https://res.cloudinary.com/sayulitalife/images/w_1920/f_auto,q_auto/v1754946566/wordpress_assets/15f3b634-b643-2178-a2a8-112940b8af26_37989914aa/15f3b634-b643-2178-a2a8-112940b8af26_37989914aa.png?_i=AA
END:VEVENT
BEGIN:VEVENT
DTSTART;TZID=America/Mexico_City:20271122T190000
DTEND;TZID=America/Mexico_City:20271122T220000
DTSTAMP:20260420T195538
CREATED:20250811T210924Z
LAST-MODIFIED:20260220T222235Z
UID:10010655-1826910000-1826920800@www.sayulitalife.com
SUMMARY:Don Pedros Salsa Night
DESCRIPTION:Join us for Salsa Night\, every Monday at 8:00 PM during the season (Oct – June). \nCome at 7:00 PM for salsa lessons.
URL:https://www.sayulitalife.com/sayulero/calendar/don-pedros-salsa-night/2027-11-22/
LOCATION:Don Pedros Restaurant\, C. Marlín 2\, Sayulita\, Nayarit\, 63734\, Mexico
CATEGORIES:Community,Music
ATTACH;FMTTYPE=image/png:https://res.cloudinary.com/sayulitalife/images/w_1920/f_auto,q_auto/v1754946566/wordpress_assets/15f3b634-b643-2178-a2a8-112940b8af26_37989914aa/15f3b634-b643-2178-a2a8-112940b8af26_37989914aa.png?_i=AA
END:VEVENT
BEGIN:VEVENT
DTSTART;TZID=America/Mexico_City:20271129T190000
DTEND;TZID=America/Mexico_City:20271129T220000
DTSTAMP:20260420T195538
CREATED:20250811T210924Z
LAST-MODIFIED:20260220T222235Z
UID:10010656-1827514800-1827525600@www.sayulitalife.com
SUMMARY:Don Pedros Salsa Night
DESCRIPTION:Join us for Salsa Night\, every Monday at 8:00 PM during the season (Oct – June). \nCome at 7:00 PM for salsa lessons.
URL:https://www.sayulitalife.com/sayulero/calendar/don-pedros-salsa-night/2027-11-29/
LOCATION:Don Pedros Restaurant\, C. Marlín 2\, Sayulita\, Nayarit\, 63734\, Mexico
CATEGORIES:Community,Music
ATTACH;FMTTYPE=image/png:https://res.cloudinary.com/sayulitalife/images/w_1920/f_auto,q_auto/v1754946566/wordpress_assets/15f3b634-b643-2178-a2a8-112940b8af26_37989914aa/15f3b634-b643-2178-a2a8-112940b8af26_37989914aa.png?_i=AA
END:VEVENT
BEGIN:VEVENT
DTSTART;TZID=America/Mexico_City:20271206T190000
DTEND;TZID=America/Mexico_City:20271206T220000
DTSTAMP:20260420T195538
CREATED:20250811T210924Z
LAST-MODIFIED:20260220T222235Z
UID:10010657-1828119600-1828130400@www.sayulitalife.com
SUMMARY:Don Pedros Salsa Night
DESCRIPTION:Join us for Salsa Night\, every Monday at 8:00 PM during the season (Oct – June). \nCome at 7:00 PM for salsa lessons.
URL:https://www.sayulitalife.com/sayulero/calendar/don-pedros-salsa-night/2027-12-06/
LOCATION:Don Pedros Restaurant\, C. Marlín 2\, Sayulita\, Nayarit\, 63734\, Mexico
CATEGORIES:Community,Music
ATTACH;FMTTYPE=image/png:https://res.cloudinary.com/sayulitalife/images/w_1920/f_auto,q_auto/v1754946566/wordpress_assets/15f3b634-b643-2178-a2a8-112940b8af26_37989914aa/15f3b634-b643-2178-a2a8-112940b8af26_37989914aa.png?_i=AA
END:VEVENT
BEGIN:VEVENT
DTSTART;TZID=America/Mexico_City:20271213T190000
DTEND;TZID=America/Mexico_City:20271213T220000
DTSTAMP:20260420T195538
CREATED:20250811T210924Z
LAST-MODIFIED:20260220T222235Z
UID:10010658-1828724400-1828735200@www.sayulitalife.com
SUMMARY:Don Pedros Salsa Night
DESCRIPTION:Join us for Salsa Night\, every Monday at 8:00 PM during the season (Oct – June). \nCome at 7:00 PM for salsa lessons.
URL:https://www.sayulitalife.com/sayulero/calendar/don-pedros-salsa-night/2027-12-13/
LOCATION:Don Pedros Restaurant\, C. Marlín 2\, Sayulita\, Nayarit\, 63734\, Mexico
CATEGORIES:Community,Music
ATTACH;FMTTYPE=image/png:https://res.cloudinary.com/sayulitalife/images/w_1920/f_auto,q_auto/v1754946566/wordpress_assets/15f3b634-b643-2178-a2a8-112940b8af26_37989914aa/15f3b634-b643-2178-a2a8-112940b8af26_37989914aa.png?_i=AA
END:VEVENT
BEGIN:VEVENT
DTSTART;TZID=America/Mexico_City:20271220T190000
DTEND;TZID=America/Mexico_City:20271220T220000
DTSTAMP:20260420T195538
CREATED:20250811T210924Z
LAST-MODIFIED:20260220T222235Z
UID:10010659-1829329200-1829340000@www.sayulitalife.com
SUMMARY:Don Pedros Salsa Night
DESCRIPTION:Join us for Salsa Night\, every Monday at 8:00 PM during the season (Oct – June). \nCome at 7:00 PM for salsa lessons.
URL:https://www.sayulitalife.com/sayulero/calendar/don-pedros-salsa-night/2027-12-20/
LOCATION:Don Pedros Restaurant\, C. Marlín 2\, Sayulita\, Nayarit\, 63734\, Mexico
CATEGORIES:Community,Music
ATTACH;FMTTYPE=image/png:https://res.cloudinary.com/sayulitalife/images/w_1920/f_auto,q_auto/v1754946566/wordpress_assets/15f3b634-b643-2178-a2a8-112940b8af26_37989914aa/15f3b634-b643-2178-a2a8-112940b8af26_37989914aa.png?_i=AA
END:VEVENT
BEGIN:VEVENT
DTSTART;TZID=America/Mexico_City:20271227T190000
DTEND;TZID=America/Mexico_City:20271227T220000
DTSTAMP:20260420T195538
CREATED:20250811T210924Z
LAST-MODIFIED:20260220T222235Z
UID:10010660-1829934000-1829944800@www.sayulitalife.com
SUMMARY:Don Pedros Salsa Night
DESCRIPTION:Join us for Salsa Night\, every Monday at 8:00 PM during the season (Oct – June). \nCome at 7:00 PM for salsa lessons.
URL:https://www.sayulitalife.com/sayulero/calendar/don-pedros-salsa-night/2027-12-27/
LOCATION:Don Pedros Restaurant\, C. Marlín 2\, Sayulita\, Nayarit\, 63734\, Mexico
CATEGORIES:Community,Music
ATTACH;FMTTYPE=image/png:https://res.cloudinary.com/sayulitalife/images/w_1920/f_auto,q_auto/v1754946566/wordpress_assets/15f3b634-b643-2178-a2a8-112940b8af26_37989914aa/15f3b634-b643-2178-a2a8-112940b8af26_37989914aa.png?_i=AA
END:VEVENT
BEGIN:VEVENT
DTSTART;TZID=America/Mexico_City:20280103T190000
DTEND;TZID=America/Mexico_City:20280103T220000
DTSTAMP:20260420T195538
CREATED:20250811T210924Z
LAST-MODIFIED:20260220T222235Z
UID:10010661-1830538800-1830549600@www.sayulitalife.com
SUMMARY:Don Pedros Salsa Night
DESCRIPTION:Join us for Salsa Night\, every Monday at 8:00 PM during the season (Oct – June). \nCome at 7:00 PM for salsa lessons.
URL:https://www.sayulitalife.com/sayulero/calendar/don-pedros-salsa-night/2028-01-03/
LOCATION:Don Pedros Restaurant\, C. Marlín 2\, Sayulita\, Nayarit\, 63734\, Mexico
CATEGORIES:Community,Music
ATTACH;FMTTYPE=image/png:https://res.cloudinary.com/sayulitalife/images/w_1920/f_auto,q_auto/v1754946566/wordpress_assets/15f3b634-b643-2178-a2a8-112940b8af26_37989914aa/15f3b634-b643-2178-a2a8-112940b8af26_37989914aa.png?_i=AA
END:VEVENT
END:VCALENDAR